Workbook
Name Grad: #REF!
Name Kanton: #REF!
Name OblikPreduzeca: #REF!
Name Opstina: #REF!
Name Velicina: #REF!
Name VerzijaIzvjestaja: #REF!

Sheet #Konverter
A1: Opština | B1: Šifra opštine 3 | C1: Šifra opštine 5 | D1: =A1 -> Opština | E1: Poštanski br. | F1: Kanton | G1: Šifra kantona | H1: Entitet | I1: Šifra djelatnosti | J1: Naziv djelatnosti | K1: Ministarstva | L1: Opština | M1: Naselje | N1: Poštanski broj | O1: Šifra opštine | P1: Kanton | Q1: Oznaka banke | R1: Naziv banke | S1: Oblik preduzeća | T1: Tip fonda | U1: Entitet | V1: Standard izvještavanja | X1: Tip izvještaja | Y1: Verzija izvještaja | AA1: Kombinacija | AB1: Tip izvještaja ID | AC1: Veličina pravnog lica | AD1: ID obrasca | AE1: Naziv obrasca | AF1: Stopa za ONŠ opštine | AG1: Kanton | AH1: Stopa za ONŠ | AI1: Grad | AJ1: GradID | AK1: Opština | AL1: OpštinaID | AM1: Kanton | AN1: KantonID | AO1: KP | AP1: KPID | AQ1: Izvještajna godina
A2: Banovići | B2: 001 | C2: 10014 | D2: =A2 -> Banovići | E2: 75290 | F2: Tuzlanski kanton | G2: 3 | H2: FBiH | I2: 01.11 | J2: Uzgoj žitarica (osim riže), mahunarki i sjemenja uljarica | K2: FBiH|Ministarstvo energije, rudarstva i industrije | L2: Travnik | M2: Babanovac | N2: 72286 | O2: 11061 | P2: Srednjobosanski kanton | Q2: 306 | R2: Addiko bank d.d. Sarajevo | S2: d.o.o. | T2: Otvoreni | U2: FBiH | V2: MSFI za MSP (mala i srednja pravna lica) | X2: Godišnji | Y2: Osnovna | AA2: Godišnji|Osnovna | AB2: 10 | AC2: Mikro | AD2: 10 | AE2: Izvještaj o finansijskom položaju na kraju perioda (Bilans stanja) | AF2: =VLOOKUP(F2,AG$2:AH$11,2,FALSE) -> 0.0005 | AG2: Tuzlanski kanton | AH2: 0.0005 | AI2: Bihać | AJ2: 80 | AK2: Banovići | AL2: 91 | AM2: Tuzlanski kanton | AN2: 3 | AO2: a) reklasifikacija na konta aktive | AP2: 1 | AQ2: 45657
A3: Bihać | B3: 003 | C3: 10049 | D3: =A3 -> Bihać | E3: 77000 | F3: Unsko-sanski kanton | G3: 1 | H3: FBiH | I3: 01.12 | J3: Uzgoj riže | K3: FBiH|Ministarstvo finansija | L3: Banovići | M3: Banovići | N3: 75290 | O3: 10014 | P3: Tuzlanski kanton | Q3: 134 | R3: ASA Banka d.d. Sarajevo | S3: d.d. | T3: Zatvoreni | U3: RS | V3: MRS/MSFI (velika pravna lica) | X3: Godišnji - različit izvještajni period | Y3: Izmijenjena | AA3: Godišnji - različit izvještajni period|Osnovna | AB3: 11 | AC3: Malo | AD3: 11 | AE3: Izvještaj o ukupnom rezultatu za period (Bilans uspjeha) | AF3: =VLOOKUP(F3,AG$2:AH$11,2,FALSE) -> 0.0007 | AG3: Unsko-sanski kanton | AH3: 0.0007 | AI3: Bosanska Krupa | AJ3: 81 | AK3: Bihać | AL3: 80 | AM3: Unsko-sanski kanton | AN3: 1 | AO3: b) storniranjem troškova | AP3: 2 | AQ3: 45291
A4: Bosanska Krupa | B4: 008 | C4: 11428 | D4: =A4 -> Bosanska Krupa | E4: 77240 | F4: Unsko-sanski kanton | G4: 1 | H4: FBiH | I4: 01.13 | J4: Uzgoj povrća, dinja i lubenica, korjenastog i gomoljastog povrća | K4: FBiH|Ministarstvo kulture i sporta | L4: Žepče | M4: Begov Han | N4: 72233 | O4: 11207 | P4: Zeničko-dobojski kanton | Q4: 141 | R4: Bosna Bank International d.d. Sarajevo | S4: d.n.o. | X4: Konsolidovani | AA4: Godišnji - životno osiguranje|Osnovna | AB4: 12 | AC4: Srednje | AD4: 12 | AE4: Izvještaj o prihodima i rashodima | AF4: =VLOOKUP(F4,AG$2:AH$11,2,FALSE) -> 0.0007 | AG4: Kanton 10 | AH4: 0.0007 | AI4: Cazin | AJ4: 83 | AK4: Bosanska Krupa | AL4: 81 | AM4: Kanton 10 | AN4: 10 | AO4: c) preko konta prihoda i navesti konto | AP4: 3 | AQ4: 44926
A5: Bosanski Petrovac | B5: 011 | C5: 11436 | D5: =A5 -> Bosanski Petrovac | E5: 77250 | F5: Unsko-sanski kanton | G5: 1 | H5: FBiH | I5: 01.14 | J5: Uzgoj šećerne trske | K5: FBiH|Ministarstvo obrazovanja i nauke | L5: Bihać | M5: Bihać | N5: 77000 | O5: 10049 | P5: Unsko-sanski kanton | Q5: 154 | R5: Intesa Sanpaolo Banka d.d. BiH | S5: k.d. | X5: Stečaj - otvaranje/zaključenje | AA5: Godišnji - neživotno osiguranje|Osnovna | AB5: 13 | AC5: Veliko | AD5: 13 | AE5: Račun prihoda i rashoda | AF5: =VLOOKUP(F5,AG$2:AH$11,2,FALSE) -> 0.0007 | AG5: Zeničko-dobojski kanton | AH5: 0.0007 | AI5: Goražde | AJ5: 116 | AK5: Bosanski Petrovac | AL5: 82 | AM5: Zeničko-dobojski kanton | AN5: 4 | AO5: d) ostalo - navesti | AP5: 4 | AQ5: 44561
A6: Bosansko Grahovo | B6: 013 | C6: 10146 | D6: =A6 -> Bosansko Grahovo | E6: 80270 | F6: Kanton 10 | G6: 10 | H6: FBiH | I6: 01.15 | J6: Uzgoj duhana | K6: FBiH|Ministarstvo okoliša i turizma | L6: Vitez | M6: Bila | N6: 72256 | O6: 11142 | P6: Srednjobosanski kanton | Q6: 198 | R6: Komercijalno-investiciona banka d.d. V. Kladuša | S6: ostalo | X6: Stečaj - otvaranje | AA6: Konsolidovani|Osnovna | AB6: 14 | AD6: 14 | AE6: Izvještaj o gotovinskim tokovima | AF6: =VLOOKUP(F6,AG$2:AH$11,2,FALSE) -> 0.0007 | AG6: Srednjobosanski kanton | AH6: 0.0004 | AI6: Gračanica | AJ6: 92 | AK6: Bosansko Grahovo | AL6: 84 | AM6: Srednjobosanski kanton | AN6: 6 | AQ6: 44196
A7: Breza | B7: 016 | C7: 10189 | D7: =A7 -> Breza | E7: 71370 | F7: Zeničko-dobojski kanton | G7: 4 | H7: FBiH | I7: 01.16 | J7: Uzgoj tekstilnih biljaka | K7: FBiH|Ministarstvo poljoprivrede, vodoprivrede i šumarstva | L7: Kiseljak | M7: Bilalovac | N7: 71253 | O7: 10472 | P7: Srednjobosanski kanton | Q7: 132 | R7: NLB Banka d.d. Sarajevo | X7: Stečaj u procesu | AA7: Revizorski|Osnovna | AB7: 15 | AD7: 15 | AE7: Izvještaj o novčanim tokovima | AF7: =VLOOKUP(F7,AG$2:AH$11,2,FALSE) -> 0.0007 | AG7: Hercegovačko-neretvanski kanton | AH7: - | AI7: Gradačac | AJ7: 93 | AK7: Breza | AL7: 104 | AM7: Hercegovačko-neretvanski kanton | AN7: 7 | AQ7: 43830
A8: Bugojno | B8: 017 | C8: 10197 | D8: =A8 -> Bugojno | E8: 70230 | F8: Srednjobosanski kanton | G8: 6 | H8: FBiH | I8: 01.19 | J8: Uzgoj ostalih jednogodišnjih usjeva | K8: FBiH|Ministarstvo pravde | L8: Čitluk | M8: Biletić Polje | N8: 88268 | O8: 10260 | P8: Hercegovačko-neretvanski kanton | Q8: 101 | R8: Privredna banka Sarajevo d.d. Sarajevo | X8: Stečaj - zatvaranje | AA8: Revizorski - konsolidovani|Osnovna | AB8: 16 | AD8: 16 | AE8: Izvještaj o gotovinskim tokovima - direktna metoda | AF8: =VLOOKUP(F8,AG$2:AH$11,2,FALSE) -> 0.0004 | AG8: Posavski kanton | AH8: 0.00015 | AI8: Konjic | AJ8: 135 | AK8: Bugojno | AL8: 119 | AM8: Posavski kanton | AN8: 2 | AQ8: 43465
A9: Busovača | B9: 018 | C9: 10219 | D9: =A9 -> Busovača | E9: 72260 | F9: Srednjobosanski kanton | G9: 6 | H9: FBiH | I9: 01.21 | J9: Uzgoj grožđa | K9: FBiH|Ministarstvo prometa i komunikacija | L9: Kakanj | M9: Bilješevo | N9: 72248 | O9: 10448 | P9: Zeničko-dobojski kanton | Q9: 194 | R9: ProCredit Bank d.d. Sarajevo | X9: Likvidacija - otvaranje | AA9: Revizorski - nekonsolidovani|Osnovna | AB9: 17 | AD9: 17 | AE9: Izvještaj o gotovinskim tokovima - indirektna metoda | AF9: =VLOOKUP(F9,AG$2:AH$11,2,FALSE) -> 0.0004 | AG9: Bosansko-podrinjski kanton | AH9: 0.0005 | AI9: Livno | AJ9: 153 | AK9: Busovača | AL9: 120 | AM9: Bosansko-podrinjski kanton | AN9: 5 | AQ9: 43100
A10: Bužim | B10: 124 | C10: 11240 | D10: =A10 -> Bužim | E10: 77245 | F10: Unsko-sanski kanton | G10: 1 | H10: FBiH | I10: 01.22 | J10: Uzgoj tropskog i suptropskog voća | K10: FBiH|Ministarstvo prostornog uređenja | L10: Konjic | M10: Bjelimići | N10: 88407 | O10: 10529 | P10: Hercegovačko-neretvanski kanton | Q10: 161 | R10: Raiffeisen Bank d.d. BiH | X10: Likvidacija u procesu | AA10: Revizorski - nekonsolidovani i konsolidovani|Osnovna | AB10: 18 | AD10: 18 | AE10: Izvještaj o promjenama na kapitalu | AF10: =VLOOKUP(F10,AG$2:AH$11,2,FALSE) -> 0.0007 | AG10: Zapadnohercegovački kanton | AH10: 0.0007 | AI10: Lukavac | AJ10: 97 | AK10: Bužim | AL10: 87 | AM10: Zapadnohercegovački kanton | AN10: 8 | AQ10: 42735
A11: Cazin | B11: 019 | C11: 10227 | D11: =A11 -> Cazin | E11: 77220 | F11: Unsko-sanski kanton | G11: 1 | H11: FBiH | I11: 01.23 | J11: Uzgoj agruma | K11: FBiH|Ministarstvo rada i socijalne politike | L11: Mostar | M11: Blagaj | N11: 88201 | O11: 11410 | P11: Hercegovačko-neretvanski kanton | Q11: 195 | R11: Razvojna banka Federacije BiH | X11: Likvidacija - zatvaranje | AA11: Stečaj - otvaranje/zaključenje|Osnovna | AB11: 19 | AD11: 19 | AE11: Izvještaj o kapitalnim izdacima i finansiranju | AF11: =VLOOKUP(F11,AG$2:AH$11,2,FALSE) -> 0.0007 | AG11: Kanton Sarajevo | AH11: 0.0007 | AI11: Ljubuški | AJ11: 142 | AK11: Cazin | AL11: 83 | AM11: Kanton Sarajevo | AN11: 9 | AQ11: 42369
A12: Čapljina | B12: 021 | C12: 10243 | D12: =A12 -> Čapljina | E12: 88300 | F12: Hercegovačko-neretvanski kanton | G12: 7 | H12: FBiH | I12: 01.24 | J12: Uzgoj jezgričavog i koštuničavog voća | K12: FBiH|Ministarstvo raseljenih osoba i izbjeglica | L12: Čitluk | M12: Blatnica | N12: 88263 | O12: 10260 | P12: Hercegovačko-neretvanski kanton | Q12: 199 | R12: Sparkasse Bank d.d. BiH | X12: Statusne promjene | AA12: Stečaj - otvaranje|Osnovna | AB12: 20 | AD12: 20 | AE12: Vanbilansna evidencija | AF12: =VLOOKUP(F12,AG$2:AH$11,2,FALSE) -> - | AI12: Mostar | AJ12: 133 | AK12: Čapljina | AL12: 131 | AQ12: 42004
A13: Čelić | B13: 056 | C13: 11231 | D13: =A13 -> Čelić | E13: 75246 | F13: Tuzlanski kanton | G13: 3 | H13: FBiH | I13: 01.25 | J13: Uzgoj bobičastog, orašastog i ostalog voća | K13: FBiH|Ministarstvo razvoja, poduzetništva i obrta | L13: Ilidža | M13: Blažuj | N13: 71215 | O13: 11550 | P13: Kanton Sarajevo | Q13: 338 | R13: UniCredit Bank d.d. Mostar | X13: Vanredni | AA13: Stečaj u procesu|Osnovna | AB13: 21 | AD13: 21 | AE13: Izvještaj o promjenama neto imovine investicionog fonda | AF13: =VLOOKUP(F13,AG$2:AH$11,2,FALSE) -> 0.0005 | AI13: Orašje | AJ13: 88 | AK13: Čelić | AL13: 96 | AQ13: 41639
A14: Čitluk | B14: 023 | C14: 10260 | D14: =A14 -> Čitluk | E14: 88260 | F14: Hercegovačko-neretvanski kanton | G14: 7 | H14: FBiH | I14: 01.26 | J14: Uzgoj plodova uljarica | K14: FBiH|Ministarstvo trgovine | L14: Orašje | M14: Bok | N14: 76277 | O14: 11533 | P14: Posavski kanton | Q14: 102 | R14: Union banka d.d. Sarajevo | X14: Godišnji - životno osiguranje | AA14: Stečaj - zatvaranje|Osnovna | AB14: 22 | AD14: 22 | AE14: Posebni podaci o plaćama i broju zaposlenih | AF14: =VLOOKUP(F14,AG$2:AH$11,2,FALSE) -> - | AI14: Sarajevo | AJ14: 159 | AK14: Čitluk | AL14: 132 | AQ14: 41274
A15: Doboj-Istok | B15: 128 | C15: 11258 | D15: =A15 -> Doboj-Istok | E15: 74206 | F15: Tuzlanski kanton | G15: 3 | H15: FBiH | I15: 01.27 | J15: Uzgoj biljaka za pripremanje napitaka | K15: FBiH|Ministarstvo unutrašnjih poslova | L15: Konjic | M15: Boračko Jezero | N15: 88405 | O15: 10529 | P15: Hercegovačko-neretvanski kanton | Q15: 186 | R15: ZiraatBank BH d.d. Sarajevo | X15: Godišnji - neživotno osiguranje | AA15: Likvidacija - otvaranje|Osnovna | AB15: 23 | AD15: 23 | AE15: Bilješke uz finansijske izvještaje | AF15: =VLOOKUP(F15,AG$2:AH$11,2,FALSE) -> 0.0005 | AI15: Srebrenik | AJ15: 98 | AK15: Doboj-Istok | AL15: 101 | AQ15: 40908
A16: Doboj-Jug | B16: 132 | C16: 11266 | D16: =A16 -> Doboj-Jug | E16: 74203 | F16: Zeničko-dobojski kanton | G16: 4 | H16: FBiH | I16: 01.28 | J16: Uzgoj bilja za upotrebu u farmaciji, aromatskog, začinskog i ljekovitog bilja | K16: FBiH|Ministarstvo za pitanja boraca i invalida odbrambeno-oslobodilačkog rata | L16: Stolac | M16: Borojevići | N16: 88365 | O16: 11606 | P16: Hercegovačko-neretvanski kanton | Q16: 555 | R16: Nova banka a.d. Banja Luka-Filijala Sarajevo | X16: Revizorski | AA16: Likvidacija u procesu|Osnovna | AB16: 24 | AD16: 24 | AE16: Izvještaj o poslovanju; Konsolidovani izvještaj o poslovanju | AF16: =VLOOKUP(F16,AG$2:AH$11,2,FALSE) -> 0.0007 | AI16: Stolac | AJ16: 139 | AK16: Doboj-Jug | AL16: 114
A17: Dobretići | B17: 050 | C17: 11274 | D17: =A17 -> Dobretići | E17: 70210 | F17: Srednjobosanski kanton | G17: 6 | H17: FBiH | I17: 01.29 | J17: Uzgoj ostalih višegodišnjih usjeva | K17: FBiH|Ministarstvo zdravstva | L17: Bosanska Krupa | M17: Bosanska Krupa | N17: 77240 | O17: 11428 | P17: Unsko-sanski kanton | Q17: 571 | R17: Komercijalna banka a.d. Banja Luka-Filijala Sarajevo | X17: Revizorski - konsolidovani | AA17: Likvidacija - zatvaranje|Osnovna | AB17: 25 | AD17: 25 | AE17: Odluka o utvrđivanju finansijskih izvještaja | AF17: =VLOOKUP(F17,AG$2:AH$11,2,FALSE) -> 0.0004 | AI17: Široki Brijeg | AJ17: 140 | AK17: Dobretići | AL17: 112
A18: Domaljevac-Šamac | B18: 012 | C18: 11282 | D18: =A18 -> Domaljevac-Šamac | E18: 76233 | F18: Posavski kanton | G18: 2 | H18: FBiH | I18: 01.30 | J18: Uzgoj sadnog materijala i ukrasnog bilja | K18: BPK|Ministarstvo za privredu | L18: Bosanski Petrovac | M18: Bosanski Petrovac | N18: 77250 | O18: 11436 | P18: Unsko-sanski kanton | Q18: 572 | R18: MF banka a.d. Banja Luka-Poslovnica Tuzla | X18: Revizorski - nekonsolidovani | AA18: Statusne promjene|Osnovna | AB18: 26 | AD18: 26 | AE18: Odluka o prijedlogu raspodjele dobiti/pokrića gubitka | AF18: =VLOOKUP(F18,AG$2:AH$11,2,FALSE) -> 0.00015 | AI18: Tuzla | AJ18: 99 | AK18: Domaljevac-Šamac | AL18: 90
A19: Donji Vakuf | B19: 026 | C19: 10294 | D19: =A19 -> Donji Vakuf | E19: 70220 | F19: Srednjobosanski kanton | G19: 6 | H19: FBiH | I19: 01.41 | J19: Uzgoj muznih krava | K19: BPK|Ministarstvo za pravosuđe, upravu i radne odnose | L19: Bosansko Grahovo | M19: Bosansko Grahovo | N19: 80270 | O19: 10146 | P19: Kanton 10 | Q19: 140 | R19: ASA Banka Naša i snažna d.d. Sarajevo | X19: Revizorski - nekonsolidovani i konsolidovani | AA19: Izjava o neaktivnosti|Osnovna | AB19: 27 | AD19: 27 | AE19: Aneks - Dodatni računovodstveni izvještaj | AF19: =VLOOKUP(F19,AG$2:AH$11,2,FALSE) -> 0.0004 | AI19: Visoko | AJ19: 110 | AK19: Donji Vakuf | AL19: 121
A20: Drvar | B20: 027 | C20: 11614 | D20: =A20 -> Drvar | E20: 80260 | F20: Kanton 10 | G20: 10 | H20: FBiH | I20: 01.42 | J20: Uzgoj ostalih goveda i bivola | K20: BPK|Ministarstvo za unutrašnje poslove | L20: Bihać | M20: Brekovica | N20: 77205 | O20: 10049 | P20: Unsko-sanski kanton | X20: Izjava o neaktivnosti | AA20: Godišnji|Izmijenjena | AB20: 28 | AD20: 28 | AE20: Statistički aneks godišnjeg izvještaja | AF20: =VLOOKUP(F20,AG$2:AH$11,2,FALSE) -> 0.0007 | AI20: Zavidovići | AJ20: 111 | AK20: Drvar | AL20: 158
A21: Foča | B21: 134 | C21: 11444 | D21: =A21 -> Foča | E21: 73250 | F21: Bosansko-podrinjski kanton | G21: 5 | H21: FBiH | I21: 01.43 | J21: Uzgoj konja, magaraca, mula i mazgi | K21: BPK|Ministarstvo za socijalnu politiku, zdravstvo, raseljena lica i izbjeglice | L21: Kiseljak | M21: Brestovsko | N21: 71255 | O21: 10472 | P21: Srednjobosanski kanton | AA21: Godišnji - različit izvještajni period|Izmijenjena | AB21: 29 | AD21: 29 | AE21: Godišnji izvještaj o investicijama | AF21: =VLOOKUP(F21,AG$2:AH$11,2,FALSE) -> 0.0005 | AI21: Zenica | AJ21: 112 | AK21: Foča | AL21: 117
A22: Fojnica | B22: 030 | C22: 10324 | D22: =A22 -> Fojnica | E22: 71270 | F22: Srednjobosanski kanton | G22: 6 | H22: FBiH | I22: 01.44 | J22: Uzgoj deva i lama | K22: BPK|Ministarstvo za urbanizam, prostorno uređenje i zaštitu okoline | L22: Breza | M22: Breza | N22: 71370 | O22: 10189 | P22: Zeničko-dobojski kanton | AA22: Godišnji - životno osiguranje|Izmijenjena | AB22: 30 | AD22: 30 | AE22: Obračun članarine turističkoj zajednici | AF22: =VLOOKUP(F22,AG$2:AH$11,2,FALSE) -> 0.0004 | AI22: Živinice | AJ22: 100 | AK22: Fojnica | AL22: 123
A23: Glamoč | B23: 032 | C23: 10359 | D23: =A23 -> Glamoč | E23: 80230 | F23: Kanton 10 | G23: 10 | H23: FBiH | I23: 01.45 | J23: Uzgoj ovaca i koza | K23: BPK|Ministarstvo za obrazovanje, mlade, nauku, kulturu i sport | L23: Doboj-Istok | M23: Brijesnica | N23: 74206 | O23: 11258 | P23: Tuzlanski kanton | AA23: Godišnji - neživotno osiguranje|Izmijenjena | AB23: 31 | AD23: 31 | AE23: Obračun naknade za korištenje, zaštitu i unapređenje šuma | AF23: =VLOOKUP(F23,AG$2:AH$11,2,FALSE) -> 0.0007 | AK23: Glamoč | AL23: 156
A24: Goražde | B24: 033 | C24: 11452 | D24: =A24 -> Goražde | E24: 73101 | F24: Bosansko-podrinjski kanton | G24: 5 | H24: FBiH | I24: 01.46 | J24: Uzgoj svinja | K24: BPK|Ministarstvo za boračka pitanja | L24: Kakanj | M24: Brnjic | N24: 72243 | O24: 10448 | P24: Zeničko-dobojski kanton | AA24: Konsolidovani|Izmijenjena | AB24: 32 | AD24: 32 | AE24: Izvještaj o obračunatim i uplaćenim vodnim naknadama | AF24: =VLOOKUP(F24,AG$2:AH$11,2,FALSE) -> 0.0005 | AK24: Goražde | AL24: 116
A25: Gornji Vakuf-Uskoplje | B25: 034 | C25: 10375 | D25: =A25 -> Gornji Vakuf-Uskoplje | E25: 70240 | F25: Srednjobosanski kanton | G25: 6 | H25: FBiH | I25: 01.47 | J25: Uzgoj peradi | K25: BPK|Ministarstvo za finansije | L25: Posušje | M25: Broćanac | N25: 88243 | O25: 10731 | P25: Zapadnohercegovački kanton | AA25: Revizorski|Izmijenjena | AB25: 33 | AD25: 33 | AE25: Izvještaj o obračunatom i uplaćenom posebnom porezu/naknadi za zaštitu od prirodnih i drugih nesreća | AF25: =VLOOKUP(F25,AG$2:AH$11,2,FALSE) -> 0.0004 | AK25: Gornji Vakuf-Uskoplje | AL25: 124
A26: Gračanica | B26: 035 | C26: 11479 | D26: =A26 -> Gračanica | E26: 75320 | F26: Tuzlanski kanton | G26: 3 | H26: FBiH | I26: 01.49 | J26: Uzgoj ostalih životinja | K26: HNK|Ministarstvo finansija | L26: Novi Travnik | M26: Bučići | N26: 72293 | O26: 10774 | P26: Srednjobosanski kanton | AA26: Revizorski - konsolidovani|Izmijenjena | AB26: 34 | AD26: 34 | AE26: Obavijest o razvrstavanju | AF26: =VLOOKUP(F26,AG$2:AH$11,2,FALSE) -> 0.0005 | AK26: Gračanica | AL26: 92
A27: Gradačac | B27: 036 | C27: 10391 | D27: =A27 -> Gradačac | E27: 76250 | F27: Tuzlanski kanton | G27: 3 | H27: FBiH | I27: 01.50 | J27: Mješovita poljoprivredna proizvodnja (biljna i stočna proizvodnja) | K27: HNK|Ministarstvo privrede | L27: Bugojno | M27: Bugojno | N27: 70230 | O27: 10197 | P27: Srednjobosanski kanton | AA27: Revizorski - nekonsolidovani|Izmijenjena | AB27: 35 | AD27: 35 | AE27: Izjava o standardu | AF27: =VLOOKUP(F27,AG$2:AH$11,2,FALSE) -> 0.0005 | AK27: Gradačac | AL27: 93
A28: Grude | B28: 037 | C28: 10405 | D28: =A28 -> Grude | E28: 88340 | F28: Zapadnohercegovački kanton | G28: 8 | H28: FBiH | I28: 01.61 | J28: Pomoćne djelatnosti za uzgoj usjeva | K28: HNK|Ministarstvo graditeljstva i prostornog uređenja | L28: Tuzla | M28: Bukinje | N28: 75203 | O28: 11088 | P28: Tuzlanski kanton | AA28: Revizorski - nekonsolidovani i konsolidovani|Izmijenjena | AB28: 36 | AD28: 36 | AE28: Izjava o neaktivnosti | AF28: =VLOOKUP(F28,AG$2:AH$11,2,FALSE) -> 0.0007 | AK28: Grude | AL28: 141
A29: Hadžići | B29: 038 | C29: 10847 | D29: =A29 -> Hadžići | E29: 71240 | F29: Kanton Sarajevo | G29: 9 | H29: FBiH | I29: 01.62 | J29: Pomoćne djelatnosti za uzgoj životinja | K29: HNK|Ministarstvo poljoprivrede, šumarstva i vodoprivrede | L29: Mostar | M29: Buna | N29: 88202 | O29: 11410 | P29: Hercegovačko-neretvanski kanton | AA29: Stečaj - otvaranje/zaključenje|Izmijenjena | AB29: 37 | AF29: =VLOOKUP(F29,AG$2:AH$11,2,FALSE) -> 0.0007 | AK29: Hadžići | AL29: 144
A30: Ilidža | B30: 078 | C30: 11550 | D30: =A30 -> Ilidža | E30: 71210 | F30: Kanton Sarajevo | G30: 9 | H30: FBiH | I30: 01.63 | J30: Djelatnosti koje se obavljaju nakon žetve/berbe poljoprivrednih proizvoda (priprema za primarna tržišta) | K30: HNK|Ministarstvo pravosuđa, uprave i lokalne samouprave | L30: Stolac | M30: Burmazi | N30: 88366 | O30: 11606 | P30: Hercegovačko-neretvanski kanton | AA30: Stečaj - otvaranje|Izmijenjena | AB30: 38 | AF30: =VLOOKUP(F30,AG$2:AH$11,2,FALSE) -> 0.0007 | AK30: Ilidža | AL30: 147
A31: Ilijaš | B31: 040 | C31: 10863 | D31: =A31 -> Ilijaš | E31: 71380 | F31: Kanton Sarajevo | G31: 9 | H31: FBiH | I31: 01.64 | J31: Dorada sjemena za sjemenski materijal | K31: HNK|Ministarstvo prometa i veza | L31: Busovača | M31: Busovača | N31: 72260 | O31: 10219 | P31: Srednjobosanski kanton | AA31: Stečaj u procesu|Izmijenjena | AB31: 39 | AF31: =VLOOKUP(F31,AG$2:AH$11,2,FALSE) -> 0.0007 | AK31: Ilijaš | AL31: 145
A32: Jablanica | B32: 041 | C32: 10421 | D32: =A32 -> Jablanica | E32: 88420 | F32: Hercegovačko-neretvanski kanton | G32: 7 | H32: FBiH | I32: 01.70 | J32: Lov, stupičarenje i uslužne djelatnosti u vezi s njima | K32: HNK|Ministarstvo prosvjete, nauke, kulture i sporta | L32: Konjic | M32: Buturović Polje | N32: 88409 | O32: 10529 | P32: Hercegovačko-neretvanski kanton | AA32: Stečaj - zatvaranje|Izmijenjena | AB32: 40 | AF32: =VLOOKUP(F32,AG$2:AH$11,2,FALSE) -> - | AK32: Jablanica | AL32: 134
A33: Jajce | B33: 042 | C33: 11487 | D33: =A33 -> Jajce | E33: 70101 | F33: Srednjobosanski kanton | G33: 6 | H33: FBiH | I33: 02.10 | J33: Uzgoj šuma i ostale djelatnosti u šumarstvu | K33: HNK|Ministarstvo trgovine, turizma i zaštite okoliša | L33: Bužim | M33: Bužim | N33: 77245 | O33: 11240 | P33: Unsko-sanski kanton | AA33: Likvidacija - otvaranje|Izmijenjena | AB33: 41 | AF33: =VLOOKUP(F33,AG$2:AH$11,2,FALSE) -> 0.0004 | AK33: Jajce | AL33: 125
A34: Kakanj | B34: 043 | C34: 10448 | D34: =A34 -> Kakanj | E34: 72240 | F34: Zeničko-dobojski kanton | G34: 4 | H34: FBiH | I34: 02.20 | J34: Sječa drva (iskorištavanje šuma) | K34: HNK|Ministarstvo unutrašnjih poslova | L34: Olovo | M34: Careva Ćuprija | N34: 71347 | O34: 10715 | P34: Zeničko-dobojski kanton | AA34: Likvidacija u procesu|Izmijenjena | AB34: 42 | AF34: =VLOOKUP(F34,AG$2:AH$11,2,FALSE) -> 0.0007 | AK34: Kakanj | AL34: 105
A35: Kalesija | B35: 044 | C35: 11495 | D35: =A35 -> Kalesija | E35: 75260 | F35: Tuzlanski kanton | G35: 3 | H35: FBiH | I35: 02.30 | J35: Sakupljanje nekultiviranih šumskih plodova i proizvoda, osim šumskih sortimenata | K35: HNK|Ministarstvo za pitanja boraca | L35: Cazin | M35: Cazin | N35: 77220 | O35: 10227 | P35: Unsko-sanski kanton | AA35: Likvidacija - zatvaranje|Izmijenjena | AB35: 43 | AF35: =VLOOKUP(F35,AG$2:AH$11,2,FALSE) -> 0.0005 | AK35: Kalesija | AL35: 94
A36: Kiseljak | B36: 046 | C36: 10472 | D36: =A36 -> Kiseljak | E36: 71250 | F36: Srednjobosanski kanton | G36: 6 | H36: FBiH | I36: 02.40 | J36: Pomoćne usluge u šumarstvu | K36: HNK|Ministarstvo zdravstva, rada i socijalne zaštite | L36: Stolac | M36: Crnići | N36: 88367 | O36: 11606 | P36: Hercegovačko-neretvanski kanton | AA36: Statusne promjene|Izmijenjena | AB36: 44 | AF36: =VLOOKUP(F36,AG$2:AH$11,2,FALSE) -> 0.0004 | AK36: Kiseljak | AL36: 126
A37: Kladanj | B37: 047 | C37: 10499 | D37: =A37 -> Kladanj | E37: 75280 | F37: Tuzlanski kanton | G37: 3 | H37: FBiH | I37: 03.11 | J37: Morski ribolov | K37: K10|Ministarstvo finansija | L37: Čapljina | M37: Čapljina | N37: 88300 | O37: 10243 | P37: Hercegovačko-neretvanski kanton | AA37: Izjava o neaktivnosti|Izmijenjena | AB37: 45 | AF37: =VLOOKUP(F37,AG$2:AH$11,2,FALSE) -> 0.0005 | AK37: Kladanj | AL37: 95
A38: Ključ | B38: 048 | C38: 11509 | D38: =A38 -> Ključ | E38: 79280 | F38: Unsko-sanski kanton | G38: 1 | H38: FBiH | I38: 03.12 | J38: Slatkovodni ribolov | K38: K10|Ministarstvo gospodarstva | L38: Zavidovići | M38: Čardak | N38: 72224 | O38: 11177 | P38: Zeničko-dobojski kanton | AA38: Vanredni|Osnovna | AB38: 46 | AF38: =VLOOKUP(F38,AG$2:AH$11,2,FALSE) -> 0.0007 | AK38: Ključ | AL38: 84
A39: Konjic | B39: 049 | C39: 10529 | D39: =A39 -> Konjic | E39: 88400 | F39: Hercegovačko-neretvanski kanton | G39: 7 | H39: FBiH | I39: 03.21 | J39: Morska akvakultura | K39: K10|Ministarstvo graditeljstva, obnove, prostornog uređenja i zaštite okoliša | L39: Konjic | M39: Čelebići | N39: 88404 | O39: 10529 | P39: Hercegovačko-neretvanski kanton | AA39: Vanredni|Izmijenjena | AB39: 47 | AF39: =VLOOKUP(F39,AG$2:AH$11,2,FALSE) -> - | AK39: Konjic | AL39: 135
A40: Kreševo | B40: 051 | C40: 10545 | D40: =A40 -> Kreševo | E40: 71260 | F40: Srednjobosanski kanton | G40: 6 | H40: FBiH | I40: 03.22 | J40: Slatkovodna akvakultura | K40: K10|Ministarstvo poljoprivrede, vodoprivrede i šumarstva | L40: Čelić | M40: Čelić | N40: 75246 | O40: 11231 | P40: Tuzlanski kanton | AF40: =VLOOKUP(F40,AG$2:AH$11,2,FALSE) -> 0.0004 | AK40: Kreševo | AL40: 127
...

Sheet #UNOS
A1: Naziv pravnog lica | B1: =IF(#REF!="","",#REF!) -> #REF!
A2: Skraćeni naziv pravnog lica | B2: -
A3: Potrošačka jedinica-glava | B3: -
A4: Datum registracije | B4: =IF(#REF!="","",#REF!) -> #REF!
A5: Oblik | B5: =IF(#REF!="","",#REF!) -> #REF!
A6: Tip fonda | B6: -
A7: Naziv društva za upravljanje | B7: -
A8: Matični broj društva za upravljanje | B8: -
A9: JIB društva za upravljanje | B9: -
A10: Registarski broj fonda | B10: -
A11: Sjedište | B11: =IF(#REF!="","",#REF!) -> #REF!
A12: Šifra opštine 3 | B12: =IF(#REF!="","",VLOOKUP(#REF!,'#Konverter'!A2:B80,2,FALSE)) -> #REF!
A13: Šifra opštine 5 | B13: =IF(#REF!="","",VLOOKUP(#REF!,'#Konverter'!A2:C80,3,FALSE)) -> #REF!
A14: Ulica i broj | B14: =IF(#REF!="","",#REF!) -> #REF!
A15: Jedinstveni identifikacioni broj (JIB) | B15: =IF(#REF!="","",#REF!) -> #REF!
A16: PDV broj | B16: =IF(AND(#REF!="DA",LEN(#REF!)=12),#REF!,"") -> #REF!
A17: Organizacioni broj | B17: -
A18: Operativni broj | B18: -
A19: Funkcionalni kôd | B19: -
A20: Fond | B20: -
A21: Šifra djelatnosti po KDBiH 2010 | B21: =IF(#REF!="","",#REF!) -> #REF!
A22: Djelatnost | B22: =IF(#REF!="","",#REF!) -> #REF!
A23: Nadležno ministarstvo | B23: -
A24: Naziv banke | B24: =IF(#REF!="","",#REF!) -> #REF!
A25: Broj računa | B25: =IF(#REF!="","",#REF!) -> #REF!
A26: Zakonski zastupnik društva za upravljanje | B26: - | C26: - | D26: -
A27: Odgovorno lice | B27: =IF(#REF!="","",#REF!) -> #REF! | C27: =IF(#REF!="","",#REF!) -> #REF! | D27: =IF(#REF!="","",#REF!) -> #REF! | E27: =IF(#REF!="","",#REF!) -> #REF!
A28: Kontakt-telefon pravnog lica | B28: =IF(#REF!="","","0"&#REF!) -> #REF!
A29: E-mail pravnog lica | B29: =IF(#REF!="","",#REF!) -> #REF!
A30: Tip izvještaja | B30: =IF(ISTEXT(VLOOKUP(#REF! &"|"&#REF!,'#Konverter'!AA2:AB39,2,FALSE)),VLOOKUP(#REF! &"|"&#REF!,'#Konverter'!AA2:AB39,2,FALSE),"Greška!") -> Greška!
A31: Izvještajna godina | B31: =IF(#REF!="","",IF(#REF!<>"Godišnji - različit izvještajni period",#REF!,#REF!)) -> #REF!
A32: Interval predaje - Od | B32: =IF(#REF!="","",#REF!) -> #REF!
A33: Interval predaje - Do | B33: =IF(#REF!="","",#REF!) -> #REF!
A34: Veličina pravnog lica | B34: =IF(OR(#REF!="Revizorski",#REF!="Izjava o neaktivnosti"),"Mikro",IF(#REF!="","",#REF!)) -> #REF!
A35: Priprema FI (utiskuje se s weba) | B35: 1
A36: Priprema FI - ID (utiskuje se s weba) | B36: 2998 | C36: =IF(#REF!="","",#REF!) -> #REF!
A37: Priprema FI - Telefon | B37: =IF(#REF!="","","0"&#REF!) -> #REF!
A38: Priprema FI - Mail | B38: =IF(#REF!="","",#REF!) -> #REF!
A39: Primijenjeni standard izvještavanja | B39: =IF(#REF!="","",#REF!) -> #REF!
A40: Datum sastavljanja finansijskih izvještaja | B40: =IF(#REF!="","",#REF!) -> #REF!
...

Sheet OP
AK1: Obrazac OEI-PD
AK2: Tabela A
C4: OPĆI PODACI
C5: za period od 01.01. do 30.06.2026. godine
C7: Opis | S7: Sadržaj
A9: 0.01 | B9: =IF(LEN(Y9)=0,"",1+ABS((Y9*A9)/LEN(Y9))+A9) | C9: Registarski broj emitenta u registru kod Komisije:
C10: 1. PODACI O IDENTITETU EMITENTA
C11: Punu i skraćenu firmu emitenta | S11: Puni naziv: Društvo za upravljanje fondovima SAFE INVESTMENT d.o.o. Sarajevo Skraćeni naziv: SAFE INVESTMENT d.o.o. Sarajevo
C12: Puna adresa (poštanski broj, mjesto, ulica i broj) | S12: 71000 Sarajevo, Danijela Ozme 1
C13: Broj telefona i telefaksa | S13: tel: 033 550120 fax: 033550121
C14: E-mail adresa | S14: info@safeinvestment.ba
C15: Internetska stranica | S15: www.safeinvestment.ba
C16: Djelatnost emitenta | S16: 66.30 Djelatnost upravljanja fondovima
C17: Broj uposlenih u emitentu | S17: 4
C18: Broj poslovnih jedinica i predstavništava emitenta | S18: 1
C19: Firma i sjedište vanjskog revizora emitenta | S19: ZUKO d.o.o. Sarajevo, Džemala Bijedića 185, Sarajevo
C20: Naznaka da li su finansijski izvještaji za period za koji se podnose revidirani od strane vanjskog revizora | S20: NE
C21: Ime i prezime članova odbora za reviziju | S21: Alma Agić- predsjednik; Muhamed Bekto - član; Nijaz Salamović - član
C22: 2. INFORMACIJE O NADZORNOM ODBORU I UPRAVI EMITENTA
C23: Ime i prezime predsjednika i članova nadzornog odbora emitenta | S23: Admir Pejkušić - predsjednik; Aida Jazvin - član; Ahmed Halilović-član
C24: Imena i prezimena, funkcije članova uprave emitenta | S24: Olja Mujagić - direktor društva; Ahmed Aljukić- izvršni direktor društva
C25: Broj dionica emitenta koji posjeduje svaki od članova nadzornog odbora i uprave i učešće ukupnog nominalnog iznosa ovih dionica u osnovnom kapitalu emitenta na početku i na kraju perioda za koji se izvještaj podnosi | S25: Članovi nadzornog odbora i uprave ne posjeduju udjele u kapitalu Društva
C26: 3. PODACI O DIONICAMA I DIONIČARIMA EMITENTA
C27: Ukupan broj dioničara na zadnji datum izvještajnog perioda | S27: 1
C28: Broj emitovanih dionica i nominalna cijena po dionici na zadnji datum izvještajnog perioda
C29: Ime i prezime svakog fizičkog lica i firma svakog pravnog lica koje je vlasnik više od 5% dionica emitenta s pravom glasa na kraju izvještajnog perioda | S29: Munib Elkazović, vlasnik 100%
C30: 4. PODACI O PRAVNIM LICIMA KOJI SU U VLASNIŠTVU EMITENTA
C31: Naziv pravnog lica u kojem emitent posjeduje više od 10% dionica ili vlasništva u kapitalu na kraju izvještajnog perioda, te naziv poslovnih jedinica/predstavništava emitenta
C32: 5. PODACI O ODRŽANIM SKUPŠTINAMA EMITENTA U IZVJEŠTAJNOM PERIODU
C33: Datum i mjesto održavanja | S33: 15.05.2026., Sarajevo
C34: Dnevni red skupštine | S34: 1. Usvajanje godišnjeg finansijskog izvještaja o poslovanju Društva za upravljanje fondovima SAFE INVESTMENT d.o.o. Sarajevo za 2025. godinu koji uključuje izvještaje Vanjskih revizora, Nadzornog odbora i Odbora za reviziju, 2. Usvajanje odluke o rasporedu finansijskog rezultata iz 2025. godine, 3. Usvajanje odluke o isplati dobiti, 4. Usvajanje odluke o izboru Vanjskog revizora Društva za 2026. godinu 5. Usvajanje Izvještaja o aktivnostima po nalozima Komisije za vrijednosne papire FBiH iz 2025. godine.
C35: Značajne odluke donesene na skupštini | S35: 1. Odluka o usvajanju godišnjeg finansijskog izvještaja o poslovanju Društva za upravljanje fondovima SAFE INVESTMENT d.o.o. Sarajevo za 2025. godinu koji uključuje izvještaj Vanjskog revizora, Nadzornog odbora i Odbora za reviziju, 2. Odluka o rasporedu finansijskog rezultata iz 2025. godine, 3. Odluka o isplati dobiti, 4. Odluka o izboru Vanjskog revizora Društva za 2026. godinu, 5. Odluka o usvajanju Izvještaja o aktivnostima po nalozima Komisije za vrijednosne papire FBiH iz 2025. godine.
C36: 6.BITNI DOGAĐAJI U IZVJEŠTAJNOM PERIODU
C37: Podaci o isplaćenoj dividendi i kamatama od vrijednosnih papira | S37: 01.06.2026., isplata dobiti vlasniku 176.494,00 KM
C38: Podaci o emisiji vrijednosnih papira i načinu upotrebe kapitala pribavljenog putem emisije vrijednosnih papira emitenta u izvještajnom periodu
C39: Podaci o transakcijama imovinom u obimu većem od 10% vrijednosti ukupne imovine emitenata na dan transakcije navodeći činjenice koje su na to uticale
C40: Podaci o smanjenju ili povećanju imovine emitenta za više od 10% u odnosu na stanje iz prethodnog izvještaja navodeći činjenice koje su na to uticale
C41: Podaci o smanjenju ili povećanju neto dobiti ili gubitka emitenta za više od 10% u odnosu na stanje iz prethodnog izvještaja navodeći činjenice koje su na to uticale
B42: =IF(ISERROR(ABS(LOG(ABS(SUM(B9:B41)),EXP(3)))),"",ABS(LOG(ABS(SUM(B9:B41)),EXP(3))))
B43: =IF(ISERROR(IF(ISERROR(MID(B42,FIND(".",B42,1)+6,13)),MID(B42,FIND(",",B42,1)+6,13),MID(B42,FIND(".",B42,1)+6,13))),"",IF(ISERROR(MID(B42,FIND(".",B42,1)+6,13)),MID(B42,FIND(",",B42,1)+6,13),MID(B42,FIND(".",B42,1)+6,13)))
...

Sheet BS
E1: DUF SAFE INVESTMENT d.o.o. Sarajevo | J1: Obrazac OEI-PD
E2: Naziv emitenta | J2: Tabela B
E3: Danijela Ozme 1, SARAJEVO
E4: Sjedište i adresa emitenta
E5: 66.30
E6: Šifra djelatnosti
E7: 4203333590002
E8: Identifikacioni broj za direktne poreze
E9: 65-01-0415-24
E10: Matični broj
E12: IZVJEŠTAJ O FINANSIJSKOM POLOŽAJU NA KRAJU PERIODA
E13: (BILANS STANJA)
E14: na dan 30.06.2026. godine
J15: - u KM -
E16: Redni broj | F16: Pozicija | G16: Bilješka | H16: Oznaka za AOP | I16: Iznos tekuće godine | J16: Iznos prethodne godine (početno stanje)
E17: 1 | F17: 2 | G17: 3 | H17: 4 | I17: 5 | J17: 6
F18: IMOVINA
A19: 0.02 | B19: 1.26 | C19: =IF(LEN(I19)=0,"",1+ABS((I19*A19)/LEN(I19))+A19) -> 59.224 | D19: =IF(LEN(J19)=0,"",1+ABS((J19*B19)/LEN(J19))+B19) -> 2701.936 | E19: A. | F19: Dugoročna imovina (002+009+014+015+020+021+022+023+024+025+028+033+034) | H19: 001 | I19: =IFERROR(IF(AND(I20,I27,I32,I33,I43,I44,I45,I46,I47,I48,I51,I56,I57)="","",SUM(I20,I27,I32,I33,I43,I44,I45,I46,I47,I48,I51,I56,I57)),"") -> 14551 | J19: =IFERROR(IF(AND(J20,J27,J32,J33,J43,J44,J45,J46,J47,J48,J51,J56,J57)="","",SUM(J20,J27,J32,J33,J43,J44,J45,J46,J47,J48,J51,J56,J57)),"") -> 10713
A20: 0.03 | B20: 1.27 | C20: =IF(LEN(I20)=0,"",1+ABS((I20*A20)/LEN(I20))+A20) -> 67.138 | D20: =IF(LEN(J20)=0,"",1+ABS((J20*B20)/LEN(J20))+B20) -> 2169.525 | E20: 1. | F20: Nekretnine, postrojenja i oprema (003 do 008) | H20: 002 | I20: {=IF(AND(ISBLANK(I21:I26)),"",SUM(I21:I26))} -> 11018 | J20: {=IF(AND(ISBLANK(J21:J26)),"",SUM(J21:J26))} -> 6826
A21: 0.04 | B21: 1.28 | C21: =IF(LEN(I21)=0,"",1+ABS((I21*A21)/LEN(I21))+A21) | D21: =IF(LEN(J21)=0,"",1+ABS((J21*B21)/LEN(J21))+B21) | E21: 1.1. | F21: Zemljište | H21: 003
A22: 0.05 | B22: 1.29 | C22: =IF(LEN(I22)=0,"",1+ABS((I22*A22)/LEN(I22))+A22) | D22: =IF(LEN(J22)=0,"",1+ABS((J22*B22)/LEN(J22))+B22) | E22: 1.2. | F22: Građevinski objekti | H22: 004
A23: 0.06 | B23: 1.3 | C23: =IF(LEN(I23)=0,"",1+ABS((I23*A23)/LEN(I23))+A23) -> 133.276 | D23: =IF(LEN(J23)=0,"",1+ABS((J23*B23)/LEN(J23))+B23) -> 2220.75 | E23: 1.3. | F23: Postrojenja, oprema i namještaj | H23: 005 | I23: 11018 | J23: 6826
A24: 0.07 | B24: 1.31 | C24: =IF(LEN(I24)=0,"",1+ABS((I24*A24)/LEN(I24))+A24) | D24: =IF(LEN(J24)=0,"",1+ABS((J24*B24)/LEN(J24))+B24) | E24: 1.4. | F24: Transportna sredstva | H24: 006
A25: 0.08 | B25: 1.32 | C25: =IF(LEN(I25)=0,"",1+ABS((I25*A25)/LEN(I25))+A25) | D25: =IF(LEN(J25)=0,"",1+ABS((J25*B25)/LEN(J25))+B25) | E25: 1.5. | F25: Ostala dugoročna materijalna imovina | H25: 007
A26: 0.09 | B26: 1.33 | C26: =IF(LEN(I26)=0,"",1+ABS((I26*A26)/LEN(I26))+A26) | D26: =IF(LEN(J26)=0,"",1+ABS((J26*B26)/LEN(J26))+B26) | E26: 1.6. | F26: Nekretnine, postrojenja i oprema u pripremi | H26: 008
A27: 0.1 | B27: 1.34 | C27: =IF(LEN(I27)=0,"",1+ABS((I27*A27)/LEN(I27))+A27) | D27: =IF(LEN(J27)=0,"",1+ABS((J27*B27)/LEN(J27))+B27) | E27: 2. | F27: Imovina s pravom korištenja (010 do 013) | H27: 009 | I27: {=IF(AND(ISBLANK(I28:I31)),"",SUM(I28:I31))} | J27: {=IF(AND(ISBLANK(J28:J31)),"",SUM(J28:J31))}
A28: 0.11 | B28: 1.35 | C28: =IF(LEN(I28)=0,"",1+ABS((I28*A28)/LEN(I28))+A28) | D28: =IF(LEN(J28)=0,"",1+ABS((J28*B28)/LEN(J28))+B28) | E28: 2.1. | F28: Zemljište | H28: 010
A29: 0.12 | B29: 1.36 | C29: =IF(LEN(I29)=0,"",1+ABS((I29*A29)/LEN(I29))+A29) | D29: =IF(LEN(J29)=0,"",1+ABS((J29*B29)/LEN(J29))+B29) | E29: 2.2. | F29: Građevinski objekti | H29: 011
A30: 0.13 | B30: 1.37 | C30: =IF(LEN(I30)=0,"",1+ABS((I30*A30)/LEN(I30))+A30) | D30: =IF(LEN(J30)=0,"",1+ABS((J30*B30)/LEN(J30))+B30) | E30: 2.3. | F30: Postrojenja i oprema | H30: 012
A31: 0.14 | B31: 1.38 | C31: =IF(LEN(I31)=0,"",1+ABS((I31*A31)/LEN(I31))+A31) | D31: =IF(LEN(J31)=0,"",1+ABS((J31*B31)/LEN(J31))+B31) | E31: 2.4. | F31: Nematerijalna imovina | H31: 013
A32: 0.15 | B32: 1.39 | C32: =IF(LEN(I32)=0,"",1+ABS((I32*A32)/LEN(I32))+A32) | D32: =IF(LEN(J32)=0,"",1+ABS((J32*B32)/LEN(J32))+B32) | E32: 3. | F32: Ulaganja u investicijske nekretnine | H32: 014
A33: 0.16 | B33: 1.4 | C33: =IF(LEN(I33)=0,"",1+ABS((I33*A33)/LEN(I33))+A33) -> 88.48 | D33: =IF(LEN(J33)=0,"",1+ABS((J33*B33)/LEN(J33))+B33) -> 890.35 | E33: 4. | F33: Nematerijalna imovina (016 do 019) | H33: 015 | I33: {=IF(AND(ISBLANK(I34:I37)),"",SUM(I34:I37))} -> 2183 | J33: {=IF(AND(ISBLANK(J34:J37)),"",SUM(J34:J37))} -> 2537
A34: 0.17 | B34: 1.41 | C34: =IF(LEN(I34)=0,"",1+ABS((I34*A34)/LEN(I34))+A34) | D34: =IF(LEN(J34)=0,"",1+ABS((J34*B34)/LEN(J34))+B34) | E34: 4.1. | F34: Kapitalizirana ulaganja u razvoj | H34: 016
A35: 0.18 | B35: 1.42 | C35: =IF(LEN(I35)=0,"",1+ABS((I35*A35)/LEN(I35))+A35) -> 99.415 | D35: =IF(LEN(J35)=0,"",1+ABS((J35*B35)/LEN(J35))+B35) -> 903.055 | E35: 4.2. | F35: Koncesije, patenti, licence i druga prava | H35: 017 | I35: 2183 | J35: 2537
A36: 0.2 | B36: 1.43 | C36: =IF(LEN(I36)=0,"",1+ABS((I36*A36)/LEN(I36))+A36) | D36: =IF(LEN(J36)=0,"",1+ABS((J36*B36)/LEN(J36))+B36) | E36: 4.3. | F36: Ostala nematerijalna imovina | H36: 018
A37: 0.22 | B37: 1.44 | C37: =IF(LEN(I37)=0,"",1+ABS((I37*A37)/LEN(I37))+A37) | D37: =IF(LEN(J37)=0,"",1+ABS((J37*B37)/LEN(J37))+B37) | E37: 4.4. | F37: Nematerijalna imovina u pripremi | H37: 019
J40: str. 1 od 4
E41: Redni broj | F41: Pozicija | G41: Bilješka | H41: Oznaka za AOP | I41: =I16 -> Iznos tekuće godine | J41: =J16 -> Iznos prethodne godine (početno stanje)
E42: 1 | F42: 2 | G42: 3 | H42: 4 | I42: 5 | J42: 6
A43: 0.23 | B43: 1.45 | C43: =IF(LEN(I43)=0,"",1+ABS((I43*A43)/LEN(I43))+A43) | D43: =IF(LEN(J43)=0,"",1+ABS((J43*B43)/LEN(J43))+B43) | E43: 5. | F43: Biološka imovina | H43: 020
...

Sheet BU
E1: =BS!E1 -> DUF SAFE INVESTMENT d.o.o. Sarajevo | J1: Obrazac OEI-PD
E2: Naziv emitenta | J2: Tabela C
E3: =BS!E3 -> Danijela Ozme 1, SARAJEVO
E4: Sjedište i adresa emitenta
E5: =BS!E5 -> 66.30
E6: Šifra djelatnosti
E7: =BS!E7 -> 4203333590002
E8: Identifikacioni broj za direktne poreze
E9: =BS!E9 -> 65-01-0415-24
E10: Matični broj
E12: IZVJEŠTAJ O UKUPNOM REZULTATU ZA PERIOD
E13: (BILANS USPJEHA)
E14: za period od 01.01. do 30.06.2026. godine
J15: - u KM -
E16: Redni broj | F16: Pozicija | G16: Bilješka | H16: Oznaka za AOP | I16: Od 01.01. do 30.06. tekuće godine | J16: Od 01.01. do 30.06. prethodne godine
E17: 1 | F17: 2 | G17: 3 | H17: 4 | I17: 5 | J17: 6
F18: BILANS USPJEHA
A19: 0.01 | B19: 1.53 | C19: =IF(LEN(I19)=0,"",1+ABS((I19*A19)/LEN(I19))+A19) -> 561.85667 | D19: =IF(LEN(J19)=0,"",1+ABS((J19*B19)/LEN(J19))+B19) -> 84561.04 | E19: A. | F19: Prihodi iz ugovora s kupcima (202+206+210) | H19: 201 | I19: =IFERROR(IF(AND(I20,I24,I28)="","",SUM(I20,I24,I28)),"") -> 336508 | J19: =IFERROR(IF(AND(J20,J24,J28)="","",SUM(J20,J24,J28)),"") -> 331602
A20: 0.02 | B20: 1.54 | C20: =IF(LEN(I20)=0,"",1+ABS((I20*A20)/LEN(I20))+A20) -> 1122.7133 | D20: =IF(LEN(J20)=0,"",1+ABS((J20*B20)/LEN(J20))+B20) -> 85113.72 | E20: 1. | F20: Prihodi iz ugovora sa povezanim stranama (203 do 205) | H20: 202 | I20: {=IF(AND(ISBLANK(I21:I23)),"",SUM(I21:I23))} -> 336508 | J20: {=IF(AND(ISBLANK(J21:J23)),"",SUM(J21:J23))} -> 331602
A21: 0.03 | B21: 1.55 | C21: =IF(LEN(I21)=0,"",1+ABS((I21*A21)/LEN(I21))+A21) | D21: =IF(LEN(J21)=0,"",1+ABS((J21*B21)/LEN(J21))+B21) | E21: 1.1. | F21: Prihodi od prodaje robe | H21: 203
A22: 0.04 | B22: 1.56 | C22: =IF(LEN(I22)=0,"",1+ABS((I22*A22)/LEN(I22))+A22) | D22: =IF(LEN(J22)=0,"",1+ABS((J22*B22)/LEN(J22))+B22) | E22: 1.2. | F22: Prihodi od prodaje gotovih proizvoda | H22: 204
A23: 0.06 | B23: 1.57 | C23: =IF(LEN(I23)=0,"",1+ABS((I23*A23)/LEN(I23))+A23) -> 3366.14 | D23: =IF(LEN(J23)=0,"",1+ABS((J23*B23)/LEN(J23))+B23) -> 86771.76 | E23: 1.3. | F23: Prihodi od pruženih usluga | H23: 205 | I23: 336508 | J23: 331602
A24: 0.07 | B24: 1.58 | C24: =IF(LEN(I24)=0,"",1+ABS((I24*A24)/LEN(I24))+A24) | D24: =IF(LEN(J24)=0,"",1+ABS((J24*B24)/LEN(J24))+B24) | E24: 2. | F24: Prihodi iz ugovora sa nepovezanim stranama na domaćem tržištu (207 do 209) | H24: 206 | I24: {=IF(AND(ISBLANK(I25:I27)),"",SUM(I25:I27))} | J24: {=IF(AND(ISBLANK(J25:J27)),"",SUM(J25:J27))}
A25: 0.08 | B25: 1.59 | C25: =IF(LEN(I25)=0,"",1+ABS((I25*A25)/LEN(I25))+A25) | D25: =IF(LEN(J25)=0,"",1+ABS((J25*B25)/LEN(J25))+B25) | E25: 2.1. | F25: Prihodi od prodaje robe | H25: 207
A26: 0.09 | B26: 1.6 | C26: =IF(LEN(I26)=0,"",1+ABS((I26*A26)/LEN(I26))+A26) | D26: =IF(LEN(J26)=0,"",1+ABS((J26*B26)/LEN(J26))+B26) | E26: 2.2. | F26: Prihodi od prodaje gotovih proizvoda | H26: 208
A27: 0.1 | B27: 1.61 | C27: =IF(LEN(I27)=0,"",1+ABS((I27*A27)/LEN(I27))+A27) | D27: =IF(LEN(J27)=0,"",1+ABS((J27*B27)/LEN(J27))+B27) | E27: 2.3. | F27: Prihodi od pruženih usluga | H27: 209
A28: 0.11 | B28: 1.62 | C28: =IF(LEN(I28)=0,"",1+ABS((I28*A28)/LEN(I28))+A28) | D28: =IF(LEN(J28)=0,"",1+ABS((J28*B28)/LEN(J28))+B28) | E28: 3. | F28: Prihodi iz ugovora sa nepovezanim stranama na inostranom tržištu (211 do 213) | H28: 210 | I28: {=IF(AND(ISBLANK(I29:I31)),"",SUM(I29:I31))} | J28: {=IF(AND(ISBLANK(J29:J31)),"",SUM(J29:J31))}
A29: 0.12 | B29: 1.63 | C29: =IF(LEN(I29)=0,"",1+ABS((I29*A29)/LEN(I29))+A29) | D29: =IF(LEN(J29)=0,"",1+ABS((J29*B29)/LEN(J29))+B29) | E29: 3.1. | F29: Prihodi od prodaje robe | H29: 211
A30: 0.13 | B30: 1.64 | C30: =IF(LEN(I30)=0,"",1+ABS((I30*A30)/LEN(I30))+A30) | D30: =IF(LEN(J30)=0,"",1+ABS((J30*B30)/LEN(J30))+B30) | E30: 3.2. | F30: Prihodi od prodaje gotovih proizvoda | H30: 212
A31: 0.15 | B31: 1.65 | C31: =IF(LEN(I31)=0,"",1+ABS((I31*A31)/LEN(I31))+A31) | D31: =IF(LEN(J31)=0,"",1+ABS((J31*B31)/LEN(J31))+B31) | E31: 3.3. | F31: Prihodi od pruženih usluga | H31: 213
A32: 0.16 | B32: 1.66 | C32: =IF(LEN(I32)=0,"",1+ABS((I32*A32)/LEN(I32))+A32) -> 11.826667 | D32: =IF(LEN(J32)=0,"",1+ABS((J32*B32)/LEN(J32))+B32) -> 334.66 | E32: B. | F32: Ostali prihodi i dobici (215+230+241+242+243+244+245+246+247+251) | H32: 214 | I32: =IFERROR(IF(AND(I33,I54,I65,I66,I67,I68,I69,I74,I75,I79)="","",SUM(I33,I54,I65,I66,I67,I68,I69,I74,I75,I79)),"") -> 200 | J32: =IFERROR(IF(AND(J33,J54,J65,J66,J67,J68,J69,J74,J75,J79)="","",SUM(J33,J54,J65,J66,J67,J68,J69,J74,J75,J79)),"") -> 600
A33: 0.17 | B33: 1.67 | C33: =IF(LEN(I33)=0,"",1+ABS((I33*A33)/LEN(I33))+A33) | D33: =IF(LEN(J33)=0,"",1+ABS((J33*B33)/LEN(J33))+B33) | E33: 1. | F33: Dobici od dugoročne nefinansijske imovine (216 do 229) | H33: 215 | I33: =IFERROR(IF(AND(I34,I41,I42,I43,I44,I45,I46,I47,I48,I49,I50,I51,I52,I53)="","",SUM(I34,I41,I42,I43,I44,I45,I46,I47,I48,I49,I50,I51,I52,I53)),"") | J33: =IFERROR(IF(AND(J34,J41,J42,J43,J44,J45,J46,J47,J48,J49,J50,J51,J52,J53)="","",SUM(J34,J41,J42,J43,J44,J45,J46,J47,J48,J49,J50,J51,J52,J53)),"")
A34: 0.18 | B34: 1.68 | C34: =IF(LEN(I34)=0,"",1+ABS((I34*A34)/LEN(I34))+A34) | D34: =IF(LEN(J34)=0,"",1+ABS((J34*B34)/LEN(J34))+B34) | E34: 1.1. | F34: Neto dobici od otuđenja nekretnina, postrojenja i opreme | H34: 216
J38: str. 1 od 5
E39: Redni broj | F39: Pozicija | G39: Bilješka | H39: Oznaka za AOP | I39: =I16 -> Od 01.01. do 30.06. tekuće godine | J39: =J16 -> Od 01.01. do 30.06. prethodne godine
E40: 1 | F40: 2 | G40: 3 | H40: 4 | I40: 5 | J40: 6
A41: 0.19 | B41: 1.69 | C41: =IF(LEN(I41)=0,"",1+ABS((I41*A41)/LEN(I41))+A41) | D41: =IF(LEN(J41)=0,"",1+ABS((J41*B41)/LEN(J41))+B41) | E41: 1.2. | F41: Neto dobici od otpuštanja ranije priznatih gubitaka od umanjenja vrijednosti nekretnina, postrojenja i opreme | H41: 217
A42: 0.2 | B42: 1.7 | C42: =IF(LEN(I42)=0,"",1+ABS((I42*A42)/LEN(I42))+A42) | D42: =IF(LEN(J42)=0,"",1+ABS((J42*B42)/LEN(J42))+B42) | E42: 1.3. | F42: Neto dobici od otpuštanja ranije priznatih gubitaka od promjene revalorizovane vrijednosti nekretnina, postrojenja i opreme za koje nije bilo postojećih revalorizacionih rezervi | H42: 218
A43: 0.21 | B43: 1.71 | C43: =IF(LEN(I43)=0,"",1+ABS((I43*A43)/LEN(I43))+A43) | D43: =IF(LEN(J43)=0,"",1+ABS((J43*B43)/LEN(J43))+B43) | E43: 1.4. | F43: Neto dobici od otuđenja ulaganja u investicijske nekretnine | H43: 219
A44: 0.22 | B44: 1.72 | C44: =IF(LEN(I44)=0,"",1+ABS((I44*A44)/LEN(I44))+A44) | D44: =IF(LEN(J44)=0,"",1+ABS((J44*B44)/LEN(J44))+B44) | E44: 1.5. | F44: Neto povećanja vrijednosti ulaganja u investicijske nekretnine koja se vode po fer vrijednosti | H44: 220
...

Sheet GTDIR
E1: =BS!E1 -> DUF SAFE INVESTMENT d.o.o. Sarajevo | K1: Obrazac OEI-PD
E2: Naziv emitenta | K2: Tabela D
E3: =BS!E3 -> Danijela Ozme 1, SARAJEVO
E4: Sjedište i adresa emitenta
E5: =BS!E5 -> 66.30
E6: Šifra djelatnosti
E7: =BS!E7 -> 4203333590002
E8: Identifikacioni broj za direktne poreze
E9: =BS!E9 -> 65-01-0415-24
E10: Matični broj
E12: IZVJEŠTAJ O TOKOVIMA GOTOVINE
E13: (IZVJEŠTAJ O GOTOVINSKIM TOKOVIMA)
E14: (Direktna metoda)
E15: za period od 01.01. do 30.06.2026. godine
K16: - u KM -
E17: Redni broj | F17: Pozicija | G17: Bilješka | H17: Oznaka (+)/(-) | I17: Oznaka za AOP | J17: Od 01.01. do 30.06. tekuće godine | K17: Od 01.01. do 30.06. prethodne godine
E18: 1 | F18: 2 | G18: 3 | H18: 4 | I18: 5 | J18: 6 | K18: 7
E20: 1. | F20: GOTOVINSKI TOKOVI IZ POSLOVNIH AKTIVNOSTI
A21: 0.01 | B21: 0.57 | C21: =IF(LEN(J21)=0,"",1+ABS((J21*A21)/LEN(J21))+A21) -> 463.56333 | D21: =IF(LEN(K21)=0,"",1+ABS((K21*B21)/LEN(K21))+B21) -> 31514.78 | E21: 1.1. | F21: Prilivi od kupaca | H21: ( + ) | I21: 401 | J21: 277532 | K21: 331718
A22: 0.02 | B22: 0.58 | C22: =IF(LEN(J22)=0,"",1+ABS((J22*A22)/LEN(J22))+A22) -> 358.02 | D22: =IF(LEN(K22)=0,"",1+ABS((K22*B22)/LEN(K22))+B22) -> 10104.351 | E22: 1.2. | F22: Odlivi po osnovu plaćanja zaposlenima | H22: ( - ) | I22: 402 | J22: -124950 | K22: -121930
A23: 0.03 | B23: 0.59 | C23: =IF(LEN(J23)=0,"",1+ABS((J23*A23)/LEN(J23))+A23) -> 225.98 | D23: =IF(LEN(K23)=0,"",1+ABS((K23*B23)/LEN(K23))+B23) -> 4124.7067 | E23: 1.3. | F23: Odlivi po osnovu plaćanja dobavljačima, po osnovu poslovnih aktivnosti | H23: ( - ) | I23: 403 | J23: -44990 | K23: -41930
A24: 0.04 | B24: 0.6 | C24: =IF(LEN(J24)=0,"",1+ABS((J24*A24)/LEN(J24))+A24) -> 200.70667 | D24: =IF(LEN(K24)=0,"",1+ABS((K24*B24)/LEN(K24))+B24) -> 1739.8 | E24: 1.4. | F24: Odlivi po osnovu ostalih troškova, nastalih po osnovu poslovnih aktivnosti | H24: ( - ) | I24: 404 | J24: -29950 | K24: -17382
A25: 0.05 | B25: 0.61 | C25: =IF(LEN(J25)=0,"",1+ABS((J25*A25)/LEN(J25))+A25) | D25: =IF(LEN(K25)=0,"",1+ABS((K25*B25)/LEN(K25))+B25) | E25: 1.5. | F25: Odlivi po osnovu plaćanja poreza na dobit | H25: ( - ) | I25: 405
A26: 0.06 | B26: 0.62 | C26: =IF(LEN(J26)=0,"",1+ABS((J26*A26)/LEN(J26))+A26) -> 5.06 | D26: =IF(LEN(K26)=0,"",1+ABS((K26*B26)/LEN(K26))+B26) -> 125.62 | E26: 1.6. | F26: Ostali prilivi iz poslovnih aktivnosti | H26: ( + ) | I26: 406 | J26: 200 | K26: 600
A27: 0.07 | B27: 0.63 | C27: =IF(LEN(J27)=0,"",1+ABS((J27*A27)/LEN(J27))+A27) | D27: =IF(LEN(K27)=0,"",1+ABS((K27*B27)/LEN(K27))+B27) | E27: 1.7. | F27: Ostali odlivi iz poslovnih aktivnosti | H27: ( - ) | I27: 407
A28: 0.08 | B28: 0.64 | C28: =IF(LEN(J28)=0,"",1+ABS((J28*A28)/LEN(J28))+A28) -> 1246.552 | D28: =IF(LEN(K28)=0,"",1+ABS((K28*B28)/LEN(K28))+B28) -> 16116.413 | E28: A. | F28: Neto gotovinski tok koji je generisan/(korišten) u poslovnim aktivnostima (401 do 407) | H28: ( + ) ( - ) | I28: 408 | J28: {=IF(AND(ISBLANK(J21:J27)),"",SUM(J21:J27))} -> 77842 | K28: {=IF(AND(ISBLANK(K21:K27)),"",SUM(K21:K27))} -> 151076
E30: 2. | F30: GOTOVINSKI TOKOVI IZ ULAGAČKIH AKTIVNOSTI
A31: 0.09 | B31: 0.65 | C31: =IF(LEN(#REF!)=0,"",1+ABS((#REF!*A31)/LEN(#REF!))+A31) -> #REF! | D31: =IF(LEN(K31)=0,"",1+ABS((K31*B31)/LEN(K31))+B31) | E31: 2.1. | F31: Odlivi po osnovu kupovine nekretnina, postrojenja i opreme | H31: ( - ) | I31: 409 | J31: -6240
A32: 0.1 | B32: 0.66 | C32: =IF(LEN(J31)=0,"",1+ABS((J31*A32)/LEN(J31))+A32) -> 125.9 | D32: =IF(LEN(K32)=0,"",1+ABS((K32*B32)/LEN(K32))+B32) | E32: 2.2. | F32: Prilivi po osnovu prodaje nekretnina, postrojenja i opreme | H32: ( + ) | I32: 410
A33: 0.11 | B33: 0.67 | C33: =IF(LEN(J33)=0,"",1+ABS((J33*A33)/LEN(J33))+A33) | D33: =IF(LEN(K33)=0,"",1+ABS((K33*B33)/LEN(K33))+B33) | E33: 2.3. | F33: Odlivi po osnovu kupovine investicijskih nekretnina | H33: ( - ) | I33: 411
A34: 0.12 | B34: 0.68 | C34: =IF(LEN(J34)=0,"",1+ABS((J34*A34)/LEN(J34))+A34) | D34: =IF(LEN(K34)=0,"",1+ABS((K34*B34)/LEN(K34))+B34) | E34: 2.4. | F34: Prilivi po osnovu prodaje investicijskih nekretnina | H34: ( + ) | I34: 412
A35: 0.13 | B35: 0.69 | C35: =IF(LEN(J35)=0,"",1+ABS((J35*A35)/LEN(J35))+A35) | D35: =IF(LEN(K35)=0,"",1+ABS((K35*B35)/LEN(K35))+B35) | E35: 2.5. | F35: Odlivi po osnovu kupovine nematerijalne imovine | H35: ( - ) | I35: 413
A36: 0.14 | B36: 0.7 | C36: =IF(LEN(J36)=0,"",1+ABS((J36*A36)/LEN(J36))+A36) | D36: =IF(LEN(K36)=0,"",1+ABS((K36*B36)/LEN(K36))+B36) | E36: 2.6. | F36: Prilivi po osnovu prodaje nematerijalne imovine | H36: ( + ) | I36: 414
K39: str. 1 od 3
E40: Redni broj | F40: Pozicija | G40: Bilješka | H40: Oznaka (+)/(-) | I40: Oznaka za AOP | J40: =J17 -> Od 01.01. do 30.06. tekuće godine | K40: =K17 -> Od 01.01. do 30.06. prethodne godine
E41: 1 | F41: 2 | G41: 3 | H41: 4 | I41: 5 | J41: 6 | K41: 7
A42: 0.15 | B42: 0.71 | C42: =IF(LEN(J42)=0,"",1+ABS((J42*A42)/LEN(J42))+A42) | D42: =IF(LEN(K42)=0,"",1+ABS((K42*B42)/LEN(K42))+B42) | E42: 2.7. | F42: Odlivi po osnovu kupovine biološke imovine | H42: ( - ) | I42: 415
A43: 0.16 | B43: 0.72 | C43: =IF(LEN(J43)=0,"",1+ABS((J43*A43)/LEN(J43))+A43) | D43: =IF(LEN(K43)=0,"",1+ABS((K43*B43)/LEN(K43))+B43) | E43: 2.8. | F43: Prilivi po osnovu prodaje biološke imovine | H43: ( + ) | I43: 416
A44: 0.17 | B44: 0.73 | C44: =IF(LEN(J44)=0,"",1+ABS((J44*A44)/LEN(J44))+A44) | D44: =IF(LEN(K44)=0,"",1+ABS((K44*B44)/LEN(K44))+B44) | E44: 2.9. | F44: Prilivi po osnovu prodaje dugoročne imovine namijenjene prodaji | H44: ( + ) | I44: 417
A45: 0.18 | B45: 0.74 | C45: =IF(LEN(J45)=0,"",1+ABS((J45*A45)/LEN(J45))+A45) | D45: =IF(LEN(K45)=0,"",1+ABS((K45*B45)/LEN(K45))+B45) | E45: 2.10. | F45: Ulaganja u finansijsku imovinu po fer vrijednosti kroz ostali ukupni rezultat | H45: ( - ) | I45: 418
...

Sheet GTIND
E1: =BS!E1 -> DUF SAFE INVESTMENT d.o.o. Sarajevo | K1: Obrazac OEI-PD
E2: Naziv emitenta | K2: Tabela E
E3: =BS!E3 -> Danijela Ozme 1, SARAJEVO
E4: Sjedište i adresa emitenta
E5: =BS!E5 -> 66.30
E6: Šifra djelatnosti
E7: =BS!E7 -> 4203333590002
E8: Identifikacioni broj za direktne poreze
E9: =BS!E9 -> 65-01-0415-24
E10: Matični broj
E12: IZVJEŠTAJ O TOKOVIMA GOTOVINE
E13: (IZVJEŠTAJ O GOTOVINSKIM TOKOVIMA)
E14: (Indirektna metoda)
E15: za period od 01.01. do 30.06.2026. godine
K16: - u KM -
E17: Redni broj | F17: Pozicija | G17: Bilješka | H17: Oznaka (+)/(-) | I17: Oznaka za AOP | J17: Od 01.01. do 30.06. tekuće godine | K17: Od 01.01. do 30.06. prethodne godine
E18: 1 | F18: 2 | G18: 3 | H18: 4 | I18: 5 | J18: 6 | K18: 7
E20: 1. | F20: GOTOVINSKI TOKOVI IZ POSLOVNIH AKTIVNOSTI
A21: 0.01 | B21: 0.83 | C21: =IF(LEN(J21)=0,"",1+ABS((J21*A21)/LEN(J21))+A21) -> 226.775 | D21: =IF(LEN(K21)=0,"",1+ABS((K21*B21)/LEN(K21))+B21) -> 15832.143 | E21: 1.1. | F21: Dobit/(gubitak) prije oporezivanja | H21: ( + )( - ) | I21: 501 | J21: 135459 | K21: 114436
C22: =IF(LEN(J22)=0,"",1+ABS((J22*A22)/LEN(J22))+A22) | D22: =IF(LEN(K22)=0,"",1+ABS((K22*B22)/LEN(K22))+B22) | E22: 1.2. | F22: Usklađenja:
A23: 0.02 | B23: 0.84 | C23: =IF(LEN(J23)=0,"",1+ABS((J23*A23)/LEN(J23))+A23) -> 13.03 | D23: =IF(LEN(K23)=0,"",1+ABS((K23*B23)/LEN(K23))+B23) -> 412.81 | E23: 1.2.1. | F23: Amortizacija | H23: ( + ) | I23: 502 | J23: 2402 | K23: 1957
A24: 0.03 | B24: 0.85 | C24: =IF(LEN(J24)=0,"",1+ABS((J24*A24)/LEN(J24))+A24) | D24: =IF(LEN(K24)=0,"",1+ABS((K24*B24)/LEN(K24))+B24) | E24: 1.2.2. | F24: (Dobit)/gubitak od otuđenja nekretnina, postrojenja i opreme, neto | H24: ( + )( - ) | I24: 503
A25: 0.04 | B25: 0.86 | C25: =IF(LEN(J25)=0,"",1+ABS((J25*A25)/LEN(J25))+A25) | D25: =IF(LEN(K25)=0,"",1+ABS((K25*B25)/LEN(K25))+B25) | E25: 1.2.3. | F25: (Dobit)/gubitak od otuđenja ulaganja u investicijske nekretnine, neto | H25: ( + )( - ) | I25: 504
A26: 0.05 | B26: 0.87 | C26: =IF(LEN(J26)=0,"",1+ABS((J26*A26)/LEN(J26))+A26) | D26: =IF(LEN(K26)=0,"",1+ABS((K26*B26)/LEN(K26))+B26) | E26: 1.2.4. | F26: (Dobit)/gubitak od otuđenja nematerijalne imovine, neto | H26: ( + )( - ) | I26: 505
A27: 0.06 | B27: 0.88 | C27: =IF(LEN(J27)=0,"",1+ABS((J27*A27)/LEN(J27))+A27) | D27: =IF(LEN(K27)=0,"",1+ABS((K27*B27)/LEN(K27))+B27) | E27: 1.2.5. | F27: (Dobit)/gubitak od dugoročne imovine namijenjene prodaji, neto | H27: ( + )( - ) | I27: 506
A28: 0.07 | B28: 0.89 | C28: =IF(LEN(J28)=0,"",1+ABS((J28*A28)/LEN(J28))+A28) | D28: =IF(LEN(K28)=0,"",1+ABS((K28*B28)/LEN(K28))+B28) | E28: 1.2.6. | F28: Umanjenje vrijednosti nekretnina, postrojenja i opreme | H28: ( + ) | I28: 507
A29: 0.08 | B29: 0.9 | C29: =IF(LEN(J29)=0,"",1+ABS((J29*A29)/LEN(J29))+A29) | E29: 1.2.7. | F29: Umanjenje vrijednosti investicijskih nekretnina | H29: ( + ) | I29: 508
A30: 0.09 | B30: 0.91 | C30: =IF(LEN(J30)=0,"",1+ABS((J30*A30)/LEN(J30))+A30) | E30: 1.2.8. | F30: Umanjenje vrijednosti nematerijalne imovine | H30: ( + ) | I30: 509
A31: 0.1 | B31: 0.92 | C31: =IF(LEN(J31)=0,"",1+ABS((J31*A31)/LEN(J31))+A31) | D31: =IF(LEN(K31)=0,"",1+ABS((K31*B31)/LEN(K31))+B31) | E31: 1.2.9. | F31: Efekti promjene fer vrijednosti ulaganja u investicijske nekretnine, neto | H31: ( + )( - ) | I31: 510
A32: 0.11 | B32: 0.93 | C32: =IF(LEN(J32)=0,"",1+ABS((J32*A32)/LEN(J32))+A32) | D32: =IF(LEN(K32)=0,"",1+ABS((K32*B32)/LEN(K32))+B32) | E32: 1.2.10. | F32: Efekti promjene fer vrijednosti biološke imovine, neto | H32: ( + )( - ) | I32: 511
A33: 0.12 | B33: 0.94 | C33: =IF(LEN(J33)=0,"",1+ABS((J33*A33)/LEN(J33))+A33) | D33: =IF(LEN(K33)=0,"",1+ABS((K33*B33)/LEN(K33))+B33) | E33: 1.2.11. | F33: Efekti promjene vrijednosti instrumenata kapitala po fer vrijednosti kroz bilans uspjeha | H33: ( + )( - ) | I33: 512
A34: 0.13 | B34: 0.95 | C34: =IF(LEN(J34)=0,"",1+ABS((J34*A34)/LEN(J34))+A34) | D34: =IF(LEN(K34)=0,"",1+ABS((K34*B34)/LEN(K34))+B34) | E34: 1.2.12. | F34: (Dobit)/gubitak od prodaje dužničkih instrumenata po fer vrijednosti kroz ostali ukupni rezultat, neto | H34: ( + )( - ) | I34: 513
K37: str. 1 od 4
E38: Redni broj | F38: Pozicija | G38: Bilješka | H38: Oznaka (+)/(-) | I38: Oznaka za AOP | J38: =J17 -> Od 01.01. do 30.06. tekuće godine | K38: =K17 -> Od 01.01. do 30.06. prethodne godine
E39: 1 | F39: 2 | G39: 3 | H39: 4 | I39: 5 | J39: 6 | K39: 7
A40: 0.14 | B40: 0.96 | C40: =IF(LEN(J40)=0,"",1+ABS((J40*A40)/LEN(J40))+A40) | D40: =IF(LEN(K40)=0,"",1+ABS((K40*B40)/LEN(K40))+B40) | E40: 1.2.13. | F40: (Otpuštanje)/Ispravka vrijednosti za gubitke od dužničkih instrumenata po fer vrijednosti kroz ostali ukupni rezultat, neto | H40: ( + )( - ) | I40: 514
A41: 0.15 | B41: 0.97 | C41: =IF(LEN(J41)=0,"",1+ABS((J41*A41)/LEN(J41))+A41) | D41: =IF(LEN(K41)=0,"",1+ABS((K41*B41)/LEN(K41))+B41) | E41: 1.2.14. | F41: (Otpuštanje)/Ispravka vrijednosti za gubitke od potraživanja od kupaca, neto | H41: ( + )( - ) | I41: 515
A42: 0.16 | B42: 0.98 | C42: =IF(LEN(J42)=0,"",1+ABS((J42*A42)/LEN(J42))+A42) | D42: =IF(LEN(K42)=0,"",1+ABS((K42*B42)/LEN(K42))+B42) | E42: 1.2.15. | F42: (Otpuštanje)/Ispravka vrijednosti za gubitke od ugovorne imovine, neto | H42: ( + )( - ) | I42: 516
A43: 0.17 | B43: 0.99 | C43: =IF(LEN(J43)=0,"",1+ABS((J43*A43)/LEN(J43))+A43) | D43: =IF(LEN(K43)=0,"",1+ABS((K43*B43)/LEN(K43))+B43) | E43: 1.2.16. | F43: (Otpuštanje)/Ispravka vrijednosti za gubitke od ostale finansijske imovine po amortizovanom trošku, neto | H43: ( + )( - ) | I43: 517
A44: 0.18 | B44: 1.01 | C44: =IF(LEN(J44)=0,"",1+ABS((J44*A44)/LEN(J44))+A44) | D44: =IF(LEN(K44)=0,"",1+ABS((K44*B44)/LEN(K44))+B44) | E44: 1.2.17. | F44: Viškovi, manjkovi, otpisi i prilagođavanje vrijednosti zaliha, neto | H44: ( + )( - ) | I44: 518
...

Sheet IPK
V1: =BS!E1 -> DUF SAFE INVESTMENT d.o.o. Sarajevo
V2: Naziv emitenta | AG2: Obrazac OEI-PD
V3: =BS!E3 -> Danijela Ozme 1, SARAJEVO | AG3: Tabela F
V4: Sjedište i adresa emitenta
V5: =BS!E5 -> 66.30
V6: Šifra djelatnosti
V7: =BS!E7 -> 4203333590002
V8: Identifikacioni broj za direktne poreze
V9: =BS!E9 -> 65-01-0415-24
V10: Matični broj
U12: IZVJEŠTAJ O PROMJENAMA NA KAPITALU
U13: za period koji završava na dan 30.06.2026. godine
U15: VRSTA PROMJENE NA KAPITALU | W15: Oznaka za AOP | X15: KAPITAL KOJI PRIPADA VLASNICIMA MATIČNOG DRUŠTVA | AD15: Akumulirana neraspore-đena dobit/ (nepokriveni gubitak) | AE15: UKUPNO (3+4+5+6+7+8+9) | AF15: KAPITAL KOJI PRIPADA VLASNICIMA MANJINSKIH INTERESA | AG15: UKUPNI KAPITAL (10+11)
X16: Dionički kapital | Y16: Dionička premija | Z16: Rezerve | AA16: Revalori- zacijske rezerve za nekretnine, postrojenja i opremu | AB16: Revalori-zacijske rezerve za finansijsku imovinu mjerenu po fer vrijednosti kroz ostali ukupni rezultat | AC16: Ostale revaloriza-cijske rezerve
X17: -
X18: Vlasnički udjeli
X19: -
X20: Ostali vlasnički kapital
U21: 1 | W21: 2 | X21: 3 | Y21: 4 | Z21: 5 | AA21: 6 | AB21: 7 | AC21: 8 | AD21: 9 | AE21: 10 | AF21: 11 | AG21: 12
A22: 0.01 | B22: 0.26 | C22: 0.51 | D22: 0.76 | E22: 1.02 | F22: 1.27 | G22: 1.52 | H22: 1.77 | I22: 2.02 | J22: 2.27 | K22: =IF(LEN(X22)=0,"",1+ABS((X22*A22)/LEN(X22))+A22) -> 334.34333 | L22: =IF(LEN(Y22)=0,"",1+ABS((Y22*B22)/LEN(Y22))+B22) | M22: =IF(LEN(Z22)=0,"",1+ABS((Z22*C22)/LEN(Z22))+C22) | N22: =IF(LEN(AA22)=0,"",1+ABS((AA22*D22)/LEN(AA22))+D22) | O22: =IF(LEN(AB22)=0,"",1+ABS((AB22*E22)/LEN(AB22))+E22) | P22: =IF(LEN(AC22)=0,"",1+ABS((AC22*F22)/LEN(AC22))+F22) | Q22: =IF(LEN(AD22)=0,"",1+ABS((AD22*G22)/LEN(AD22))+G22) -> 8932.824 | R22: =IF(LEN(AE22)=0,"",1+ABS((AE22*H22)/LEN(AE22))+H22) -> 67668.69 | ... T22: =IF(LEN(AG22)=0,"",1+ABS((AG22*J22)/LEN(AG22))+J22) | U22: 1. Stanje na kraju perioda na dan 31.12.2024. godine | W22: 901 | X22: 200000 | AD22: 29376 | AE22: =IFERROR(IF(AND(X22,Y22,Z22,AA22,AB22,AC22,AD22)="","",SUM(X22,Y22,Z22,AA22,AB22,AC22,AD22)),"") -> 229376 | AG22: =IFERROR(IF(AND(AE22,AF22)="","",IF(#REF!="Konsolidovani",SUM(AE22,AF22),"")),"")
A23: 0.02 | B23: 0.27 | C23: 0.52 | D23: 0.77 | E23: 1.03 | F23: 1.28 | G23: 1.53 | H23: 1.78 | I23: 2.03 | J23: 2.28 | K23: =IF(LEN(X23)=0,"",1+ABS((X23*A23)/LEN(X23))+A23) | L23: =IF(LEN(Y23)=0,"",1+ABS((Y23*B23)/LEN(Y23))+B23) | M23: =IF(LEN(Z23)=0,"",1+ABS((Z23*C23)/LEN(Z23))+C23) | N23: =IF(LEN(AA23)=0,"",1+ABS((AA23*D23)/LEN(AA23))+D23) | O23: =IF(LEN(AB23)=0,"",1+ABS((AB23*E23)/LEN(AB23))+E23) | P23: =IF(LEN(AC23)=0,"",1+ABS((AC23*F23)/LEN(AC23))+F23) | Q23: =IF(LEN(AD23)=0,"",1+ABS((AD23*G23)/LEN(AD23))+G23) | R23: =IF(LEN(AE23)=0,"",1+ABS((AE23*H23)/LEN(AE23))+H23) | ... T23: =IF(LEN(AG23)=0,"",1+ABS((AG23*J23)/LEN(AG23))+J23) | U23: 2. Efekti retroaktivne primjene promjena računovodstvenih politika | W23: 902 | AG23: =IFERROR(IF(AND(AE23,AF23)="","",IF(#REF!="Konsolidovani",SUM(AE23,AF23),"")),"")
A24: 0.03 | B24: 0.28 | C24: 0.53 | D24: 0.78 | E24: 1.04 | F24: 1.29 | G24: 1.54 | H24: 1.79 | I24: 2.04 | J24: 2.29 | K24: =IF(LEN(X24)=0,"",1+ABS((X24*A24)/LEN(X24))+A24) | L24: =IF(LEN(Y24)=0,"",1+ABS((Y24*B24)/LEN(Y24))+B24) | M24: =IF(LEN(Z24)=0,"",1+ABS((Z24*C24)/LEN(Z24))+C24) | N24: =IF(LEN(AA24)=0,"",1+ABS((AA24*D24)/LEN(AA24))+D24) | O24: =IF(LEN(AB24)=0,"",1+ABS((AB24*E24)/LEN(AB24))+E24) | P24: =IF(LEN(AC24)=0,"",1+ABS((AC24*F24)/LEN(AC24))+F24) | Q24: =IF(LEN(AD24)=0,"",1+ABS((AD24*G24)/LEN(AD24))+G24) | R24: =IF(LEN(AE24)=0,"",1+ABS((AE24*H24)/LEN(AE24))+H24) | ... T24: =IF(LEN(AG24)=0,"",1+ABS((AG24*J24)/LEN(AG24))+J24) | U24: 3. Efekti retroaktivnog prepravljanja iznosa priznatih u skladu sa MRS 8 | W24: 903 | AE24: =IFERROR(IF(AND(X24,Y24,Z24,AA24,AB24,AC24,AD24)="","",SUM(X24,Y24,Z24,AA24,AB24,AC24,AD24)),"") | AG24: =IFERROR(IF(AND(AE24,AF24)="","",IF(#REF!="Konsolidovani",SUM(AE24,AF24),"")),"")
