Workbook
Name Grad: #REF!
Name Kanton: #REF!
Name OblikPreduzeca: #REF!
Name Opstina: #REF!
Name Velicina: #REF!
Name VerzijaIzvjestaja: #REF!

Sheet #Konverter
A1: Opština | B1: Šifra opštine 3 | C1: Šifra opštine 5 | D1: =A1 -> Opština | E1: Poštanski br. | F1: Kanton | G1: Šifra kantona | H1: Entitet | I1: Šifra djelatnosti | J1: Naziv djelatnosti | K1: Ministarstva | L1: Opština | M1: Naselje | N1: Poštanski broj | O1: Šifra opštine | P1: Kanton | Q1: Oznaka banke | R1: Naziv banke | S1: Oblik preduzeća | T1: Tip fonda | U1: Entitet | V1: Standard izvještavanja | X1: Tip izvještaja | Y1: Verzija izvještaja | AA1: Kombinacija | AB1: Tip izvještaja ID | AC1: Veličina pravnog lica | AD1: ID obrasca | AE1: Naziv obrasca | AF1: Stopa za ONŠ opštine | AG1: Kanton | AH1: Stopa za ONŠ | AI1: Grad | AJ1: GradID | AK1: Opština | AL1: OpštinaID | AM1: Kanton | AN1: KantonID | AO1: KP | AP1: KPID | AQ1: Izvještajna godina
A2: Banovići | B2: 001 | C2: 10014 | D2: =A2 -> Banovići | E2: 75290 | F2: Tuzlanski kanton | G2: 3 | H2: FBiH | I2: 01.11 | J2: Uzgoj žitarica (osim riže), mahunarki i sjemenja uljarica | K2: FBiH|Ministarstvo energije, rudarstva i industrije | L2: Travnik | M2: Babanovac | N2: 72286 | O2: 11061 | P2: Srednjobosanski kanton | Q2: 306 | R2: Addiko bank d.d. Sarajevo | S2: d.o.o. | T2: Otvoreni | U2: FBiH | V2: MSFI za MSP (mala i srednja pravna lica) | X2: Godišnji | Y2: Osnovna | AA2: Godišnji|Osnovna | AB2: 10 | AC2: Mikro | AD2: 10 | AE2: Izvještaj o finansijskom položaju na kraju perioda (Bilans stanja) | AF2: =VLOOKUP(F2,AG$2:AH$11,2,FALSE) -> 0.0005 | AG2: Tuzlanski kanton | AH2: 0.0005 | AI2: Bihać | AJ2: 80 | AK2: Banovići | AL2: 91 | AM2: Tuzlanski kanton | AN2: 3 | AO2: a) reklasifikacija na konta aktive | AP2: 1 | AQ2: 45657
A3: Bihać | B3: 003 | C3: 10049 | D3: =A3 -> Bihać | E3: 77000 | F3: Unsko-sanski kanton | G3: 1 | H3: FBiH | I3: 01.12 | J3: Uzgoj riže | K3: FBiH|Ministarstvo finansija | L3: Banovići | M3: Banovići | N3: 75290 | O3: 10014 | P3: Tuzlanski kanton | Q3: 134 | R3: ASA Banka d.d. Sarajevo | S3: d.d. | T3: Zatvoreni | U3: RS | V3: MRS/MSFI (velika pravna lica) | X3: Godišnji - različit izvještajni period | Y3: Izmijenjena | AA3: Godišnji - različit izvještajni period|Osnovna | AB3: 11 | AC3: Malo | AD3: 11 | AE3: Izvještaj o ukupnom rezultatu za period (Bilans uspjeha) | AF3: =VLOOKUP(F3,AG$2:AH$11,2,FALSE) -> 0.0007 | AG3: Unsko-sanski kanton | AH3: 0.0007 | AI3: Bosanska Krupa | AJ3: 81 | AK3: Bihać | AL3: 80 | AM3: Unsko-sanski kanton | AN3: 1 | AO3: b) storniranjem troškova | AP3: 2 | AQ3: 45291
A4: Bosanska Krupa | B4: 008 | C4: 11428 | D4: =A4 -> Bosanska Krupa | E4: 77240 | F4: Unsko-sanski kanton | G4: 1 | H4: FBiH | I4: 01.13 | J4: Uzgoj povrća, dinja i lubenica, korjenastog i gomoljastog povrća | K4: FBiH|Ministarstvo kulture i sporta | L4: Žepče | M4: Begov Han | N4: 72233 | O4: 11207 | P4: Zeničko-dobojski kanton | Q4: 141 | R4: Bosna Bank International d.d. Sarajevo | S4: d.n.o. | X4: Konsolidovani | AA4: Godišnji - životno osiguranje|Osnovna | AB4: 12 | AC4: Srednje | AD4: 12 | AE4: Izvještaj o prihodima i rashodima | AF4: =VLOOKUP(F4,AG$2:AH$11,2,FALSE) -> 0.0007 | AG4: Kanton 10 | AH4: 0.0007 | AI4: Cazin | AJ4: 83 | AK4: Bosanska Krupa | AL4: 81 | AM4: Kanton 10 | AN4: 10 | AO4: c) preko konta prihoda i navesti konto | AP4: 3 | AQ4: 44926
A5: Bosanski Petrovac | B5: 011 | C5: 11436 | D5: =A5 -> Bosanski Petrovac | E5: 77250 | F5: Unsko-sanski kanton | G5: 1 | H5: FBiH | I5: 01.14 | J5: Uzgoj šećerne trske | K5: FBiH|Ministarstvo obrazovanja i nauke | L5: Bihać | M5: Bihać | N5: 77000 | O5: 10049 | P5: Unsko-sanski kanton | Q5: 154 | R5: Intesa Sanpaolo Banka d.d. BiH | S5: k.d. | X5: Stečaj - otvaranje/zaključenje | AA5: Godišnji - neživotno osiguranje|Osnovna | AB5: 13 | AC5: Veliko | AD5: 13 | AE5: Račun prihoda i rashoda | AF5: =VLOOKUP(F5,AG$2:AH$11,2,FALSE) -> 0.0007 | AG5: Zeničko-dobojski kanton | AH5: 0.0007 | AI5: Goražde | AJ5: 116 | AK5: Bosanski Petrovac | AL5: 82 | AM5: Zeničko-dobojski kanton | AN5: 4 | AO5: d) ostalo - navesti | AP5: 4 | AQ5: 44561
A6: Bosansko Grahovo | B6: 013 | C6: 10146 | D6: =A6 -> Bosansko Grahovo | E6: 80270 | F6: Kanton 10 | G6: 10 | H6: FBiH | I6: 01.15 | J6: Uzgoj duhana | K6: FBiH|Ministarstvo okoliša i turizma | L6: Vitez | M6: Bila | N6: 72256 | O6: 11142 | P6: Srednjobosanski kanton | Q6: 198 | R6: Komercijalno-investiciona banka d.d. V. Kladuša | S6: ostalo | X6: Stečaj - otvaranje | AA6: Konsolidovani|Osnovna | AB6: 14 | AD6: 14 | AE6: Izvještaj o gotovinskim tokovima | AF6: =VLOOKUP(F6,AG$2:AH$11,2,FALSE) -> 0.0007 | AG6: Srednjobosanski kanton | AH6: 0.0004 | AI6: Gračanica | AJ6: 92 | AK6: Bosansko Grahovo | AL6: 84 | AM6: Srednjobosanski kanton | AN6: 6 | AQ6: 44196
A7: Breza | B7: 016 | C7: 10189 | D7: =A7 -> Breza | E7: 71370 | F7: Zeničko-dobojski kanton | G7: 4 | H7: FBiH | I7: 01.16 | J7: Uzgoj tekstilnih biljaka | K7: FBiH|Ministarstvo poljoprivrede, vodoprivrede i šumarstva | L7: Kiseljak | M7: Bilalovac | N7: 71253 | O7: 10472 | P7: Srednjobosanski kanton | Q7: 132 | R7: NLB Banka d.d. Sarajevo | X7: Stečaj u procesu | AA7: Revizorski|Osnovna | AB7: 15 | AD7: 15 | AE7: Izvještaj o novčanim tokovima | AF7: =VLOOKUP(F7,AG$2:AH$11,2,FALSE) -> 0.0007 | AG7: Hercegovačko-neretvanski kanton | AH7: - | AI7: Gradačac | AJ7: 93 | AK7: Breza | AL7: 104 | AM7: Hercegovačko-neretvanski kanton | AN7: 7 | AQ7: 43830
A8: Bugojno | B8: 017 | C8: 10197 | D8: =A8 -> Bugojno | E8: 70230 | F8: Srednjobosanski kanton | G8: 6 | H8: FBiH | I8: 01.19 | J8: Uzgoj ostalih jednogodišnjih usjeva | K8: FBiH|Ministarstvo pravde | L8: Čitluk | M8: Biletić Polje | N8: 88268 | O8: 10260 | P8: Hercegovačko-neretvanski kanton | Q8: 101 | R8: Privredna banka Sarajevo d.d. Sarajevo | X8: Stečaj - zatvaranje | AA8: Revizorski - konsolidovani|Osnovna | AB8: 16 | AD8: 16 | AE8: Izvještaj o gotovinskim tokovima - direktna metoda | AF8: =VLOOKUP(F8,AG$2:AH$11,2,FALSE) -> 0.0004 | AG8: Posavski kanton | AH8: 0.00015 | AI8: Konjic | AJ8: 135 | AK8: Bugojno | AL8: 119 | AM8: Posavski kanton | AN8: 2 | AQ8: 43465
A9: Busovača | B9: 018 | C9: 10219 | D9: =A9 -> Busovača | E9: 72260 | F9: Srednjobosanski kanton | G9: 6 | H9: FBiH | I9: 01.21 | J9: Uzgoj grožđa | K9: FBiH|Ministarstvo prometa i komunikacija | L9: Kakanj | M9: Bilješevo | N9: 72248 | O9: 10448 | P9: Zeničko-dobojski kanton | Q9: 194 | R9: ProCredit Bank d.d. Sarajevo | X9: Likvidacija - otvaranje | AA9: Revizorski - nekonsolidovani|Osnovna | AB9: 17 | AD9: 17 | AE9: Izvještaj o gotovinskim tokovima - indirektna metoda | AF9: =VLOOKUP(F9,AG$2:AH$11,2,FALSE) -> 0.0004 | AG9: Bosansko-podrinjski kanton | AH9: 0.0005 | AI9: Livno | AJ9: 153 | AK9: Busovača | AL9: 120 | AM9: Bosansko-podrinjski kanton | AN9: 5 | AQ9: 43100
A10: Bužim | B10: 124 | C10: 11240 | D10: =A10 -> Bužim | E10: 77245 | F10: Unsko-sanski kanton | G10: 1 | H10: FBiH | I10: 01.22 | J10: Uzgoj tropskog i suptropskog voća | K10: FBiH|Ministarstvo prostornog uređenja | L10: Konjic | M10: Bjelimići | N10: 88407 | O10: 10529 | P10: Hercegovačko-neretvanski kanton | Q10: 161 | R10: Raiffeisen Bank d.d. BiH | X10: Likvidacija u procesu | AA10: Revizorski - nekonsolidovani i konsolidovani|Osnovna | AB10: 18 | AD10: 18 | AE10: Izvještaj o promjenama na kapitalu | AF10: =VLOOKUP(F10,AG$2:AH$11,2,FALSE) -> 0.0007 | AG10: Zapadnohercegovački kanton | AH10: 0.0007 | AI10: Lukavac | AJ10: 97 | AK10: Bužim | AL10: 87 | AM10: Zapadnohercegovački kanton | AN10: 8 | AQ10: 42735
A11: Cazin | B11: 019 | C11: 10227 | D11: =A11 -> Cazin | E11: 77220 | F11: Unsko-sanski kanton | G11: 1 | H11: FBiH | I11: 01.23 | J11: Uzgoj agruma | K11: FBiH|Ministarstvo rada i socijalne politike | L11: Mostar | M11: Blagaj | N11: 88201 | O11: 11410 | P11: Hercegovačko-neretvanski kanton | Q11: 195 | R11: Razvojna banka Federacije BiH | X11: Likvidacija - zatvaranje | AA11: Stečaj - otvaranje/zaključenje|Osnovna | AB11: 19 | AD11: 19 | AE11: Izvještaj o kapitalnim izdacima i finansiranju | AF11: =VLOOKUP(F11,AG$2:AH$11,2,FALSE) -> 0.0007 | AG11: Kanton Sarajevo | AH11: 0.0007 | AI11: Ljubuški | AJ11: 142 | AK11: Cazin | AL11: 83 | AM11: Kanton Sarajevo | AN11: 9 | AQ11: 42369
A12: Čapljina | B12: 021 | C12: 10243 | D12: =A12 -> Čapljina | E12: 88300 | F12: Hercegovačko-neretvanski kanton | G12: 7 | H12: FBiH | I12: 01.24 | J12: Uzgoj jezgričavog i koštuničavog voća | K12: FBiH|Ministarstvo raseljenih osoba i izbjeglica | L12: Čitluk | M12: Blatnica | N12: 88263 | O12: 10260 | P12: Hercegovačko-neretvanski kanton | Q12: 199 | R12: Sparkasse Bank d.d. BiH | X12: Statusne promjene | AA12: Stečaj - otvaranje|Osnovna | AB12: 20 | AD12: 20 | AE12: Vanbilansna evidencija | AF12: =VLOOKUP(F12,AG$2:AH$11,2,FALSE) -> - | AI12: Mostar | AJ12: 133 | AK12: Čapljina | AL12: 131 | AQ12: 42004
A13: Čelić | B13: 056 | C13: 11231 | D13: =A13 -> Čelić | E13: 75246 | F13: Tuzlanski kanton | G13: 3 | H13: FBiH | I13: 01.25 | J13: Uzgoj bobičastog, orašastog i ostalog voća | K13: FBiH|Ministarstvo razvoja, poduzetništva i obrta | L13: Ilidža | M13: Blažuj | N13: 71215 | O13: 11550 | P13: Kanton Sarajevo | Q13: 338 | R13: UniCredit Bank d.d. Mostar | X13: Vanredni | AA13: Stečaj u procesu|Osnovna | AB13: 21 | AD13: 21 | AE13: Izvještaj o promjenama neto imovine investicionog fonda | AF13: =VLOOKUP(F13,AG$2:AH$11,2,FALSE) -> 0.0005 | AI13: Orašje | AJ13: 88 | AK13: Čelić | AL13: 96 | AQ13: 41639
A14: Čitluk | B14: 023 | C14: 10260 | D14: =A14 -> Čitluk | E14: 88260 | F14: Hercegovačko-neretvanski kanton | G14: 7 | H14: FBiH | I14: 01.26 | J14: Uzgoj plodova uljarica | K14: FBiH|Ministarstvo trgovine | L14: Orašje | M14: Bok | N14: 76277 | O14: 11533 | P14: Posavski kanton | Q14: 102 | R14: Union banka d.d. Sarajevo | X14: Godišnji - životno osiguranje | AA14: Stečaj - zatvaranje|Osnovna | AB14: 22 | AD14: 22 | AE14: Posebni podaci o plaćama i broju zaposlenih | AF14: =VLOOKUP(F14,AG$2:AH$11,2,FALSE) -> - | AI14: Sarajevo | AJ14: 159 | AK14: Čitluk | AL14: 132 | AQ14: 41274
A15: Doboj-Istok | B15: 128 | C15: 11258 | D15: =A15 -> Doboj-Istok | E15: 74206 | F15: Tuzlanski kanton | G15: 3 | H15: FBiH | I15: 01.27 | J15: Uzgoj biljaka za pripremanje napitaka | K15: FBiH|Ministarstvo unutrašnjih poslova | L15: Konjic | M15: Boračko Jezero | N15: 88405 | O15: 10529 | P15: Hercegovačko-neretvanski kanton | Q15: 186 | R15: ZiraatBank BH d.d. Sarajevo | X15: Godišnji - neživotno osiguranje | AA15: Likvidacija - otvaranje|Osnovna | AB15: 23 | AD15: 23 | AE15: Bilješke uz finansijske izvještaje | AF15: =VLOOKUP(F15,AG$2:AH$11,2,FALSE) -> 0.0005 | AI15: Srebrenik | AJ15: 98 | AK15: Doboj-Istok | AL15: 101 | AQ15: 40908
A16: Doboj-Jug | B16: 132 | C16: 11266 | D16: =A16 -> Doboj-Jug | E16: 74203 | F16: Zeničko-dobojski kanton | G16: 4 | H16: FBiH | I16: 01.28 | J16: Uzgoj bilja za upotrebu u farmaciji, aromatskog, začinskog i ljekovitog bilja | K16: FBiH|Ministarstvo za pitanja boraca i invalida odbrambeno-oslobodilačkog rata | L16: Stolac | M16: Borojevići | N16: 88365 | O16: 11606 | P16: Hercegovačko-neretvanski kanton | Q16: 555 | R16: Nova banka a.d. Banja Luka-Filijala Sarajevo | X16: Revizorski | AA16: Likvidacija u procesu|Osnovna | AB16: 24 | AD16: 24 | AE16: Izvještaj o poslovanju; Konsolidovani izvještaj o poslovanju | AF16: =VLOOKUP(F16,AG$2:AH$11,2,FALSE) -> 0.0007 | AI16: Stolac | AJ16: 139 | AK16: Doboj-Jug | AL16: 114
A17: Dobretići | B17: 050 | C17: 11274 | D17: =A17 -> Dobretići | E17: 70210 | F17: Srednjobosanski kanton | G17: 6 | H17: FBiH | I17: 01.29 | J17: Uzgoj ostalih višegodišnjih usjeva | K17: FBiH|Ministarstvo zdravstva | L17: Bosanska Krupa | M17: Bosanska Krupa | N17: 77240 | O17: 11428 | P17: Unsko-sanski kanton | Q17: 571 | R17: Komercijalna banka a.d. Banja Luka-Filijala Sarajevo | X17: Revizorski - konsolidovani | AA17: Likvidacija - zatvaranje|Osnovna | AB17: 25 | AD17: 25 | AE17: Odluka o utvrđivanju finansijskih izvještaja | AF17: =VLOOKUP(F17,AG$2:AH$11,2,FALSE) -> 0.0004 | AI17: Široki Brijeg | AJ17: 140 | AK17: Dobretići | AL17: 112
A18: Domaljevac-Šamac | B18: 012 | C18: 11282 | D18: =A18 -> Domaljevac-Šamac | E18: 76233 | F18: Posavski kanton | G18: 2 | H18: FBiH | I18: 01.30 | J18: Uzgoj sadnog materijala i ukrasnog bilja | K18: BPK|Ministarstvo za privredu | L18: Bosanski Petrovac | M18: Bosanski Petrovac | N18: 77250 | O18: 11436 | P18: Unsko-sanski kanton | Q18: 572 | R18: MF banka a.d. Banja Luka-Poslovnica Tuzla | X18: Revizorski - nekonsolidovani | AA18: Statusne promjene|Osnovna | AB18: 26 | AD18: 26 | AE18: Odluka o prijedlogu raspodjele dobiti/pokrića gubitka | AF18: =VLOOKUP(F18,AG$2:AH$11,2,FALSE) -> 0.00015 | AI18: Tuzla | AJ18: 99 | AK18: Domaljevac-Šamac | AL18: 90
A19: Donji Vakuf | B19: 026 | C19: 10294 | D19: =A19 -> Donji Vakuf | E19: 70220 | F19: Srednjobosanski kanton | G19: 6 | H19: FBiH | I19: 01.41 | J19: Uzgoj muznih krava | K19: BPK|Ministarstvo za pravosuđe, upravu i radne odnose | L19: Bosansko Grahovo | M19: Bosansko Grahovo | N19: 80270 | O19: 10146 | P19: Kanton 10 | Q19: 140 | R19: ASA Banka Naša i snažna d.d. Sarajevo | X19: Revizorski - nekonsolidovani i konsolidovani | AA19: Izjava o neaktivnosti|Osnovna | AB19: 27 | AD19: 27 | AE19: Aneks - Dodatni računovodstveni izvještaj | AF19: =VLOOKUP(F19,AG$2:AH$11,2,FALSE) -> 0.0004 | AI19: Visoko | AJ19: 110 | AK19: Donji Vakuf | AL19: 121
A20: Drvar | B20: 027 | C20: 11614 | D20: =A20 -> Drvar | E20: 80260 | F20: Kanton 10 | G20: 10 | H20: FBiH | I20: 01.42 | J20: Uzgoj ostalih goveda i bivola | K20: BPK|Ministarstvo za unutrašnje poslove | L20: Bihać | M20: Brekovica | N20: 77205 | O20: 10049 | P20: Unsko-sanski kanton | X20: Izjava o neaktivnosti | AA20: Godišnji|Izmijenjena | AB20: 28 | AD20: 28 | AE20: Statistički aneks godišnjeg izvještaja | AF20: =VLOOKUP(F20,AG$2:AH$11,2,FALSE) -> 0.0007 | AI20: Zavidovići | AJ20: 111 | AK20: Drvar | AL20: 158
A21: Foča | B21: 134 | C21: 11444 | D21: =A21 -> Foča | E21: 73250 | F21: Bosansko-podrinjski kanton | G21: 5 | H21: FBiH | I21: 01.43 | J21: Uzgoj konja, magaraca, mula i mazgi | K21: BPK|Ministarstvo za socijalnu politiku, zdravstvo, raseljena lica i izbjeglice | L21: Kiseljak | M21: Brestovsko | N21: 71255 | O21: 10472 | P21: Srednjobosanski kanton | AA21: Godišnji - različit izvještajni period|Izmijenjena | AB21: 29 | AD21: 29 | AE21: Godišnji izvještaj o investicijama | AF21: =VLOOKUP(F21,AG$2:AH$11,2,FALSE) -> 0.0005 | AI21: Zenica | AJ21: 112 | AK21: Foča | AL21: 117
A22: Fojnica | B22: 030 | C22: 10324 | D22: =A22 -> Fojnica | E22: 71270 | F22: Srednjobosanski kanton | G22: 6 | H22: FBiH | I22: 01.44 | J22: Uzgoj deva i lama | K22: BPK|Ministarstvo za urbanizam, prostorno uređenje i zaštitu okoline | L22: Breza | M22: Breza | N22: 71370 | O22: 10189 | P22: Zeničko-dobojski kanton | AA22: Godišnji - životno osiguranje|Izmijenjena | AB22: 30 | AD22: 30 | AE22: Obračun članarine turističkoj zajednici | AF22: =VLOOKUP(F22,AG$2:AH$11,2,FALSE) -> 0.0004 | AI22: Živinice | AJ22: 100 | AK22: Fojnica | AL22: 123
A23: Glamoč | B23: 032 | C23: 10359 | D23: =A23 -> Glamoč | E23: 80230 | F23: Kanton 10 | G23: 10 | H23: FBiH | I23: 01.45 | J23: Uzgoj ovaca i koza | K23: BPK|Ministarstvo za obrazovanje, mlade, nauku, kulturu i sport | L23: Doboj-Istok | M23: Brijesnica | N23: 74206 | O23: 11258 | P23: Tuzlanski kanton | AA23: Godišnji - neživotno osiguranje|Izmijenjena | AB23: 31 | AD23: 31 | AE23: Obračun naknade za korištenje, zaštitu i unapređenje šuma | AF23: =VLOOKUP(F23,AG$2:AH$11,2,FALSE) -> 0.0007 | AK23: Glamoč | AL23: 156
A24: Goražde | B24: 033 | C24: 11452 | D24: =A24 -> Goražde | E24: 73101 | F24: Bosansko-podrinjski kanton | G24: 5 | H24: FBiH | I24: 01.46 | J24: Uzgoj svinja | K24: BPK|Ministarstvo za boračka pitanja | L24: Kakanj | M24: Brnjic | N24: 72243 | O24: 10448 | P24: Zeničko-dobojski kanton | AA24: Konsolidovani|Izmijenjena | AB24: 32 | AD24: 32 | AE24: Izvještaj o obračunatim i uplaćenim vodnim naknadama | AF24: =VLOOKUP(F24,AG$2:AH$11,2,FALSE) -> 0.0005 | AK24: Goražde | AL24: 116
A25: Gornji Vakuf-Uskoplje | B25: 034 | C25: 10375 | D25: =A25 -> Gornji Vakuf-Uskoplje | E25: 70240 | F25: Srednjobosanski kanton | G25: 6 | H25: FBiH | I25: 01.47 | J25: Uzgoj peradi | K25: BPK|Ministarstvo za finansije | L25: Posušje | M25: Broćanac | N25: 88243 | O25: 10731 | P25: Zapadnohercegovački kanton | AA25: Revizorski|Izmijenjena | AB25: 33 | AD25: 33 | AE25: Izvještaj o obračunatom i uplaćenom posebnom porezu/naknadi za zaštitu od prirodnih i drugih nesreća | AF25: =VLOOKUP(F25,AG$2:AH$11,2,FALSE) -> 0.0004 | AK25: Gornji Vakuf-Uskoplje | AL25: 124
A26: Gračanica | B26: 035 | C26: 11479 | D26: =A26 -> Gračanica | E26: 75320 | F26: Tuzlanski kanton | G26: 3 | H26: FBiH | I26: 01.49 | J26: Uzgoj ostalih životinja | K26: HNK|Ministarstvo finansija | L26: Novi Travnik | M26: Bučići | N26: 72293 | O26: 10774 | P26: Srednjobosanski kanton | AA26: Revizorski - konsolidovani|Izmijenjena | AB26: 34 | AD26: 34 | AE26: Obavijest o razvrstavanju | AF26: =VLOOKUP(F26,AG$2:AH$11,2,FALSE) -> 0.0005 | AK26: Gračanica | AL26: 92
A27: Gradačac | B27: 036 | C27: 10391 | D27: =A27 -> Gradačac | E27: 76250 | F27: Tuzlanski kanton | G27: 3 | H27: FBiH | I27: 01.50 | J27: Mješovita poljoprivredna proizvodnja (biljna i stočna proizvodnja) | K27: HNK|Ministarstvo privrede | L27: Bugojno | M27: Bugojno | N27: 70230 | O27: 10197 | P27: Srednjobosanski kanton | AA27: Revizorski - nekonsolidovani|Izmijenjena | AB27: 35 | AD27: 35 | AE27: Izjava o standardu | AF27: =VLOOKUP(F27,AG$2:AH$11,2,FALSE) -> 0.0005 | AK27: Gradačac | AL27: 93
A28: Grude | B28: 037 | C28: 10405 | D28: =A28 -> Grude | E28: 88340 | F28: Zapadnohercegovački kanton | G28: 8 | H28: FBiH | I28: 01.61 | J28: Pomoćne djelatnosti za uzgoj usjeva | K28: HNK|Ministarstvo graditeljstva i prostornog uređenja | L28: Tuzla | M28: Bukinje | N28: 75203 | O28: 11088 | P28: Tuzlanski kanton | AA28: Revizorski - nekonsolidovani i konsolidovani|Izmijenjena | AB28: 36 | AD28: 36 | AE28: Izjava o neaktivnosti | AF28: =VLOOKUP(F28,AG$2:AH$11,2,FALSE) -> 0.0007 | AK28: Grude | AL28: 141
A29: Hadžići | B29: 038 | C29: 10847 | D29: =A29 -> Hadžići | E29: 71240 | F29: Kanton Sarajevo | G29: 9 | H29: FBiH | I29: 01.62 | J29: Pomoćne djelatnosti za uzgoj životinja | K29: HNK|Ministarstvo poljoprivrede, šumarstva i vodoprivrede | L29: Mostar | M29: Buna | N29: 88202 | O29: 11410 | P29: Hercegovačko-neretvanski kanton | AA29: Stečaj - otvaranje/zaključenje|Izmijenjena | AB29: 37 | AF29: =VLOOKUP(F29,AG$2:AH$11,2,FALSE) -> 0.0007 | AK29: Hadžići | AL29: 144
A30: Ilidža | B30: 078 | C30: 11550 | D30: =A30 -> Ilidža | E30: 71210 | F30: Kanton Sarajevo | G30: 9 | H30: FBiH | I30: 01.63 | J30: Djelatnosti koje se obavljaju nakon žetve/berbe poljoprivrednih proizvoda (priprema za primarna tržišta) | K30: HNK|Ministarstvo pravosuđa, uprave i lokalne samouprave | L30: Stolac | M30: Burmazi | N30: 88366 | O30: 11606 | P30: Hercegovačko-neretvanski kanton | AA30: Stečaj - otvaranje|Izmijenjena | AB30: 38 | AF30: =VLOOKUP(F30,AG$2:AH$11,2,FALSE) -> 0.0007 | AK30: Ilidža | AL30: 147
A31: Ilijaš | B31: 040 | C31: 10863 | D31: =A31 -> Ilijaš | E31: 71380 | F31: Kanton Sarajevo | G31: 9 | H31: FBiH | I31: 01.64 | J31: Dorada sjemena za sjemenski materijal | K31: HNK|Ministarstvo prometa i veza | L31: Busovača | M31: Busovača | N31: 72260 | O31: 10219 | P31: Srednjobosanski kanton | AA31: Stečaj u procesu|Izmijenjena | AB31: 39 | AF31: =VLOOKUP(F31,AG$2:AH$11,2,FALSE) -> 0.0007 | AK31: Ilijaš | AL31: 145
A32: Jablanica | B32: 041 | C32: 10421 | D32: =A32 -> Jablanica | E32: 88420 | F32: Hercegovačko-neretvanski kanton | G32: 7 | H32: FBiH | I32: 01.70 | J32: Lov, stupičarenje i uslužne djelatnosti u vezi s njima | K32: HNK|Ministarstvo prosvjete, nauke, kulture i sporta | L32: Konjic | M32: Buturović Polje | N32: 88409 | O32: 10529 | P32: Hercegovačko-neretvanski kanton | AA32: Stečaj - zatvaranje|Izmijenjena | AB32: 40 | AF32: =VLOOKUP(F32,AG$2:AH$11,2,FALSE) -> - | AK32: Jablanica | AL32: 134
A33: Jajce | B33: 042 | C33: 11487 | D33: =A33 -> Jajce | E33: 70101 | F33: Srednjobosanski kanton | G33: 6 | H33: FBiH | I33: 02.10 | J33: Uzgoj šuma i ostale djelatnosti u šumarstvu | K33: HNK|Ministarstvo trgovine, turizma i zaštite okoliša | L33: Bužim | M33: Bužim | N33: 77245 | O33: 11240 | P33: Unsko-sanski kanton | AA33: Likvidacija - otvaranje|Izmijenjena | AB33: 41 | AF33: =VLOOKUP(F33,AG$2:AH$11,2,FALSE) -> 0.0004 | AK33: Jajce | AL33: 125
A34: Kakanj | B34: 043 | C34: 10448 | D34: =A34 -> Kakanj | E34: 72240 | F34: Zeničko-dobojski kanton | G34: 4 | H34: FBiH | I34: 02.20 | J34: Sječa drva (iskorištavanje šuma) | K34: HNK|Ministarstvo unutrašnjih poslova | L34: Olovo | M34: Careva Ćuprija | N34: 71347 | O34: 10715 | P34: Zeničko-dobojski kanton | AA34: Likvidacija u procesu|Izmijenjena | AB34: 42 | AF34: =VLOOKUP(F34,AG$2:AH$11,2,FALSE) -> 0.0007 | AK34: Kakanj | AL34: 105
A35: Kalesija | B35: 044 | C35: 11495 | D35: =A35 -> Kalesija | E35: 75260 | F35: Tuzlanski kanton | G35: 3 | H35: FBiH | I35: 02.30 | J35: Sakupljanje nekultiviranih šumskih plodova i proizvoda, osim šumskih sortimenata | K35: HNK|Ministarstvo za pitanja boraca | L35: Cazin | M35: Cazin | N35: 77220 | O35: 10227 | P35: Unsko-sanski kanton | AA35: Likvidacija - zatvaranje|Izmijenjena | AB35: 43 | AF35: =VLOOKUP(F35,AG$2:AH$11,2,FALSE) -> 0.0005 | AK35: Kalesija | AL35: 94
A36: Kiseljak | B36: 046 | C36: 10472 | D36: =A36 -> Kiseljak | E36: 71250 | F36: Srednjobosanski kanton | G36: 6 | H36: FBiH | I36: 02.40 | J36: Pomoćne usluge u šumarstvu | K36: HNK|Ministarstvo zdravstva, rada i socijalne zaštite | L36: Stolac | M36: Crnići | N36: 88367 | O36: 11606 | P36: Hercegovačko-neretvanski kanton | AA36: Statusne promjene|Izmijenjena | AB36: 44 | AF36: =VLOOKUP(F36,AG$2:AH$11,2,FALSE) -> 0.0004 | AK36: Kiseljak | AL36: 126
A37: Kladanj | B37: 047 | C37: 10499 | D37: =A37 -> Kladanj | E37: 75280 | F37: Tuzlanski kanton | G37: 3 | H37: FBiH | I37: 03.11 | J37: Morski ribolov | K37: K10|Ministarstvo finansija | L37: Čapljina | M37: Čapljina | N37: 88300 | O37: 10243 | P37: Hercegovačko-neretvanski kanton | AA37: Izjava o neaktivnosti|Izmijenjena | AB37: 45 | AF37: =VLOOKUP(F37,AG$2:AH$11,2,FALSE) -> 0.0005 | AK37: Kladanj | AL37: 95
A38: Ključ | B38: 048 | C38: 11509 | D38: =A38 -> Ključ | E38: 79280 | F38: Unsko-sanski kanton | G38: 1 | H38: FBiH | I38: 03.12 | J38: Slatkovodni ribolov | K38: K10|Ministarstvo gospodarstva | L38: Zavidovići | M38: Čardak | N38: 72224 | O38: 11177 | P38: Zeničko-dobojski kanton | AA38: Vanredni|Osnovna | AB38: 46 | AF38: =VLOOKUP(F38,AG$2:AH$11,2,FALSE) -> 0.0007 | AK38: Ključ | AL38: 84
A39: Konjic | B39: 049 | C39: 10529 | D39: =A39 -> Konjic | E39: 88400 | F39: Hercegovačko-neretvanski kanton | G39: 7 | H39: FBiH | I39: 03.21 | J39: Morska akvakultura | K39: K10|Ministarstvo graditeljstva, obnove, prostornog uređenja i zaštite okoliša | L39: Konjic | M39: Čelebići | N39: 88404 | O39: 10529 | P39: Hercegovačko-neretvanski kanton | AA39: Vanredni|Izmijenjena | AB39: 47 | AF39: =VLOOKUP(F39,AG$2:AH$11,2,FALSE) -> - | AK39: Konjic | AL39: 135
A40: Kreševo | B40: 051 | C40: 10545 | D40: =A40 -> Kreševo | E40: 71260 | F40: Srednjobosanski kanton | G40: 6 | H40: FBiH | I40: 03.22 | J40: Slatkovodna akvakultura | K40: K10|Ministarstvo poljoprivrede, vodoprivrede i šumarstva | L40: Čelić | M40: Čelić | N40: 75246 | O40: 11231 | P40: Tuzlanski kanton | AF40: =VLOOKUP(F40,AG$2:AH$11,2,FALSE) -> 0.0004 | AK40: Kreševo | AL40: 127
A41: Kupres | B41: 052 | C41: 11517 | D41: =A41 -> Kupres | E41: 80320 | F41: Kanton 10 | G41: 10 | H41: FBiH | I41: 05.10 | J41: Vađenje kamenog ugljena | K41: K10|Ministarstvo pravosuđa i uprave | L41: Čitluk | M41: Čerin | N41: 88265 | O41: 10260 | P41: Hercegovačko-neretvanski kanton | AF41: =VLOOKUP(F41,AG$2:AH$11,2,FALSE) -> 0.0007 | AK41: Kupres | AL41: 155
A42: Livno | B42: 055 | C42: 10588 | D42: =A42 -> Livno | E42: 80101 | F42: Kanton 10 | G42: 10 | H42: FBiH | I42: 05.20 | J42: Vađenje lignita | K42: K10|Ministarstvo rada, zdravstva, socijalne skrbi i prognanih | L42: Čitluk | M42: Čitluk | N42: 88260 | O42: 10260 | P42: Hercegovačko-neretvanski kanton | AF42: =VLOOKUP(F42,AG$2:AH$11,2,FALSE) -> 0.0007 | AK42: Livno | AL42: 153
A43: Lukavac | B43: 057 | C43: 10600 | D43: =A43 -> Lukavac | E43: 75300 | F43: Tuzlanski kanton | G43: 3 | H43: FBiH | I43: 06.10 | J43: Vađenje sirove nafte | K43: K10|Ministarstvo unutrašnjih poslova | L43: Kakanj | M43: Ćatići | N43: 72246 | O43: 10448 | P43: Zeničko-dobojski kanton | AF43: =VLOOKUP(F43,AG$2:AH$11,2,FALSE) -> 0.0005 | AK43: Lukavac | AL43: 97
A44: Ljubuški | B44: 059 | C44: 10626 | D44: =A44 -> Ljubuški | E44: 88320 | F44: Zapadnohercegovački kanton | G44: 8 | H44: FBiH | I44: 06.20 | J44: Vađenje prirodnog plina | K44: K10|Ministarstvo znanosti, prosvjete, kulture i sporta | L44: Cazin | M44: Ćoralići | N44: 77226 | O44: 10227 | P44: Unsko-sanski kanton | AF44: =VLOOKUP(F44,AG$2:AH$11,2,FALSE) -> 0.0007 | AK44: Ljubuški | AL44: 142
A45: Maglaj | B45: 060 | C45: 10634 | D45: =A45 -> Maglaj | E45: 74250 | F45: Zeničko-dobojski kanton | G45: 4 | H45: FBiH | I45: 07.10 | J45: Vađenje željeznih ruda | K45: PK|Ministarstvo unutrašnjih poslova | L45: Trnovo | M45: Delijaš | N45: 71223 | O45: 11592 | P45: Kanton Sarajevo | AF45: =VLOOKUP(F45,AG$2:AH$11,2,FALSE) -> 0.0007 | AK45: Maglaj | AL45: 106
A46: Mostar | B46: 180 | C46: 11410 | D46: =A46 -> Mostar | E46: 88000 | F46: Hercegovačko-neretvanski kanton | G46: 7 | H46: FBiH | I46: 07.21 | J46: Vađenje uranijevih i torijevih ruda | K46: PK|Ministarstvo pravosuđa i uprave | L46: Jajce | M46: Divičani | N46: 70204 | O46: 11487 | P46: Srednjobosanski kanton | AF46: =VLOOKUP(F46,AG$2:AH$11,2,FALSE) -> - | AK46: Mostar | AL46: 133
A47: Neum | B47: 107 | C47: 10685 | D47: =A47 -> Neum | E47: 88390 | F47: Hercegovačko-neretvanski kanton | G47: 7 | H47: FBiH | I47: 07.29 | J47: Vađenje ostalih ruda obojenih metala | K47: PK|Ministarstvo finansija | L47: Doboj-Jug | M47: Doboj-Jug | N47: 74203 | O47: 11266 | P47: Zeničko-dobojski kanton | AF47: =VLOOKUP(F47,AG$2:AH$11,2,FALSE) -> - | AK47: Neum | AL47: 136
A48: Novi Travnik | B48: 065 | C48: 10774 | D48: =A48 -> Novi Travnik | E48: 72290 | F48: Srednjobosanski kanton | G48: 6 | H48: FBiH | I48: 08.11 | J48: Vađenje ukrasnog kamena i kamena za gradnju, krečnjaka, gipsa, krede i škriljevca | K48: PK|Ministarstvo prometa, veza, turizma i zaštite okoliša | L48: Gračanica | M48: Doborovci | N48: 75328 | O48: 11479 | P48: Tuzlanski kanton | AF48: =VLOOKUP(F48,AG$2:AH$11,2,FALSE) -> 0.0004 | AK48: Novi Travnik | AL48: 128
A49: Odžak | B49: 066 | C49: 11525 | D49: =A49 -> Odžak | E49: 76290 | F49: Posavski kanton | G49: 2 | H49: FBiH | I49: 08.12 | J49: Djelatnosti kopova šljunka i pijeska; vađenje gline i kaolina | K49: PK|Ministarstvo prosvjete, nauke, kulture i sporta | L49: Dobretići | M49: Dobretići | N49: 70210 | O49: 11274 | P49: Srednjobosanski kanton | AF49: =VLOOKUP(F49,AG$2:AH$11,2,FALSE) -> 0.00015 | AK49: Odžak | AL49: 89
A50: Olovo | B50: 067 | C50: 10715 | D50: =A50 -> Olovo | E50: 71340 | F50: Zeničko-dobojski kanton | G50: 4 | H50: FBiH | I50: 08.91 | J50: Vađenje minerala za proizvodnju hemikalije i prirodnih mineralnih gnojiva | K50: PK|Ministarstvo zdravstva, rada i socijalne politike | L50: Travnik | M50: Dolac na Lašvi | N50: 72278 | O50: 11061 | P50: Srednjobosanski kanton | AF50: =VLOOKUP(F50,AG$2:AH$11,2,FALSE) -> 0.0007 | AK50: Olovo | AL50: 107
A51: Orašje | B51: 068 | C51: 11533 | D51: =A51 -> Orašje | E51: 76270 | F51: Posavski kanton | G51: 2 | H51: FBiH | I51: 08.92 | J51: Vađenje treseta | K51: PK|Ministarstvo poljoprivrede, vodoprivrede i šumarstva | L51: Prozor | M51: Doljani | N51: 88446 | O51: 10766 | P51: Hercegovačko-neretvanski kanton | AF51: =VLOOKUP(F51,AG$2:AH$11,2,FALSE) -> 0.00015 | AK51: Orašje | AL51: 88
... A80: Živinice | B80: 106 | C80: 11215 | D80: =A80 -> Živinice | E80: 75270 | F80: Tuzlanski kanton | G80: 3 | H80: FBiH | I80: 10.92 | J80: Proizvodnja pripremljene hrane za kućne ljubimce | K80: TK|Ministarstvo trgovine, turizma i saobraćaja | L80: Cazin | M80: Gornja Koprivna | N80: 77222 | O80: 10227 | P80: Unsko-sanski kanton | AF80: =VLOOKUP(F80,AG$2:AH$11,2,FALSE) -> 0.0005 | AK80: Živinice | AL80: 100
I81: 11.01 | J81: Destiliranje, pročišćavanje i miješanje alkoholnih pića | K81: TK|Ministarstvo pravosuđa i uprave | L81: Tuzla | M81: Gornja Tuzla | N81: 75208 | O81: 11088 | P81: Tuzlanski kanton
I82: 11.02 | J82: Proizvodnja vina od grožđa | K82: TK|Ministarstvo za boračka pitanja | L82: Gornji Vakuf-Uskoplje | M82: Gornji Vakuf-Uskoplje | N82: 70240 | O82: 10375 | P82: Srednjobosanski kanton
I83: 11.03 | J83: Proizvodnja jabukovače i ostalih voćnih vina | K83: TK|Ministarstvo privrede | L83: Prozor | M83: Gračac | N83: 88443 | O83: 10766 | P83: Hercegovačko-neretvanski kanton
I84: 11.04 | J84: Proizvodnja ostalih nedestiliranih fermentiranih pića | K84: TK|Ministarstvo za rad, socijalnu politiku i povratak | L84: Gračanica | M84: Gračanica | N84: 75320 | O84: 11479 | P84: Tuzlanski kanton
I85: 11.05 | J85: Proizvodnja piva | K85: TK|Ministarstvo zdravstva | L85: Bugojno | M85: Gračanica kod Bugojna | N85: 70233 | O85: 10197 | P85: Srednjobosanski kanton
I86: 11.06 | J86: Proizvodnja slada | K86: USK|Ministarstvo unutrašnjih poslova | L86: Živinice | M86: Gračanica Selo | N86: 75276 | O86: 11215 | P86: Tuzlanski kanton
I87: 11.07 | J87: Proizvodnja osvježavajućih pića; proizvodnja mineralne vode i drugih flaširanih voda | K87: USK|Ministarstvo pravosuđa i uprave | L87: Neum | M87: Gradac | N87: 88392 | O87: 10685 | P87: Hercegovačko-neretvanski kanton
I88: 12.00 | J88: Proizvodnja duhanskih proizvoda | K88: USK|Ministarstvo finansija | L88: Gradačac | M88: Gradačac | N88: 76250 | O88: 10391 | P88: Tuzlanski kanton
I89: 13.10 | J89: Priprema i predenje tekstilnih vlakana | K89: USK|Ministarstvo privrede | L89: Domaljevac-Šamac | M89: Grebnice | N89: 76234 | O89: 11282 | P89: Posavski kanton
I90: 13.20 | J90: Tkanje tekstila | K90: USK|Ministarstvo zdravstva, rada i socijalne politike | L90: Grude | M90: Grude | N90: 88340 | O90: 10405 | P90: Zapadnohercegovački kanton
I91: 13.30 | J91: Dovršavanje tekstila | K91: USK|Ministarstvo obrazovanja, nauke, kulture i sporta | L91: Livno | M91: Guber | N91: 80205 | O91: 10588 | P91: Kanton 10
I92: 13.91 | J92: Proizvodnja pletenih i heklanih tkanina | K92: USK|Ministarstvo za građenje, prostorno uređenje i zaštitu okoliša | L92: Travnik | M92: Guča Gora | N92: 72277 | O92: 11061 | P92: Srednjobosanski kanton
... I112: 16.22 | J112: Proizvodnja sastavljenog parketa | K112: ZDK|Ministarstvo za rad, socijalnu politiku i izbjeglice | L112: Kakanj | M112: Kakanj | N112: 72240 | O112: 10448 | P112: Zeničko-dobojski kanton
I113: 16.23 | J113: Proizvodnja ostale građevne stolarije i elemenata | L113: Kalesija | M113: Kalesija | N113: 75260 | O113: 11495 | P113: Tuzlanski kanton
I114: 16.24 | J114: Proizvodnja ambalaže od drva | L114: Bihać | M114: Kamenica | N114: 77204 | O114: 10049 | P114: Unsko-sanski kanton
I115: 16.29 | J115: Proizvodnja ostalih proizvoda od drva, proizvoda od pluta, slame i pletarskih materijala | L115: Busovača | M115: Kaonik | N115: 72265 | O115: 10219 | P115: Srednjobosanski kanton
I116: 17.11 | J116: Proizvodnja celuloze | L116: Bugojno | M116: Karadže | N116: 70235 | O116: 10197 | P116: Srednjobosanski kanton
I117: 17.12 | J117: Proizvodnja papira i kartona | L117: Travnik | M117: Karaula | N117: 72284 | O117: 11061 | P117: Srednjobosanski kanton
I118: 17.21 | J118: Proizvodnja valovitog papira i kartona te ambalaže od papira i kartona | L118: Tomislavgrad | M118: Kazaginac | N118: 80246 | O118: 10308 | P118: Kanton 10
I119: 17.22 | J119: Proizvodnja proizvoda za domaćinstvo i higijenu te toaletnih potrepština od papira | L119: Kiseljak | M119: Kiseljak | N119: 71250 | O119: 10472 | P119: Srednjobosanski kanton
I120: 17.23 | J120: Proizvodnja kancelarijskog materijala od papira | L120: Tuzla | M120: Kiseljak kod Tuzle | N120: 75211 | O120: 11088 | P120: Tuzlanski kanton
I121: 17.24 | J121: Proizvodnja zidnih tapeta | L121: Kladanj | M121: Kladanj | N121: 75280 | O121: 10499 | P121: Tuzlanski kanton
I122: 17.29 | J122: Proizvodnja ostalih proizvoda od papira i kartona | L122: Ljubuški | M122: Klobuk (Ljubuški) | N122: 88324 | O122: 10626 | P122: Zapadnohercegovački kanton
I123: 18.11 | J123: Štampanje novina | L123: Doboj-Istok | M123: Klokotnica | N123: 74207 | O123: 11258 | P123: Tuzlanski kanton
I124: 18.12 | J124: Ostalo štampanje | L124: Ključ | M124: Ključ | N124: 79280 | O124: 11509 | P124: Unsko-sanski kanton
... I288: 35.13 | J288: Distribucija električne energije | L288: Breza | M288: Župča | N288: 71373 | O288: 10189 | P288: Zeničko-dobojski kanton
I289: 35.14 | J289: Trgovina električnom energijom
I290: 35.21 | J290: Proizvodnja plina
I291: 35.22 | J291: Distribucija plinovitih goriva distribucijskom mrežom
I292: 35.23 | J292: Trgovina plinom distribucijskom mrežom
I293: 35.30 | J293: Proizvodnja i snabdijevanje parom i klimatizacija
I294: 36.00 | J294: Sakupljanje, pročišćavanje i snabdijevanje vodom
I295: 37.00 | J295: Uklanjanje otpadnih voda
I296: 38.11 | J296: Sakupljanje neopasnog otpada
I297: 38.12 | J297: Sakupljanje opasnog otpada
I298: 38.21 | J298: Obrada i zbrinjavanje neopasnog otpada
I299: 38.22 | J299: Obrada i zbrinjavanje opasnog otpada
I300: 38.31 | J300: Rastavljanje olupina
... I616: 99.00 | J616: Djelatnosti vanteritorijalnih organizacija i organa

Sheet #UNOS
A1: Naziv pravnog lica | B1: =IF(#REF!="","",#REF!) -> #REF!
A2: Skraćeni naziv pravnog lica | B2: -
A3: Potrošačka jedinica-glava | B3: -
A4: Datum registracije | B4: =IF(#REF!="","",#REF!) -> #REF!
A5: Oblik | B5: =IF(#REF!="","",#REF!) -> #REF!
A6: Tip fonda | B6: -
A7: Naziv društva za upravljanje | B7: -
A8: Matični broj društva za upravljanje | B8: -
A9: JIB društva za upravljanje | B9: -
A10: Registarski broj fonda | B10: -
A11: Sjedište | B11: =IF(#REF!="","",#REF!) -> #REF!
A12: Šifra opštine 3 | B12: =IF(#REF!="","",VLOOKUP(#REF!,'#Konverter'!A2:B80,2,FALSE)) -> #REF!
A13: Šifra opštine 5 | B13: =IF(#REF!="","",VLOOKUP(#REF!,'#Konverter'!A2:C80,3,FALSE)) -> #REF!
A14: Ulica i broj | B14: =IF(#REF!="","",#REF!) -> #REF!
A15: Jedinstveni identifikacioni broj (JIB) | B15: =IF(#REF!="","",#REF!) -> #REF!
A16: PDV broj | B16: =IF(AND(#REF!="DA",LEN(#REF!)=12),#REF!,"") -> #REF!
A17: Organizacioni broj | B17: -
A18: Operativni broj | B18: -
A19: Funkcionalni kôd | B19: -
A20: Fond | B20: -
A21: Šifra djelatnosti po KDBiH 2010 | B21: =IF(#REF!="","",#REF!) -> #REF!
A22: Djelatnost | B22: =IF(#REF!="","",#REF!) -> #REF!
A23: Nadležno ministarstvo | B23: -
A24: Naziv banke | B24: =IF(#REF!="","",#REF!) -> #REF!
A25: Broj računa | B25: =IF(#REF!="","",#REF!) -> #REF!
A26: Zakonski zastupnik društva za upravljanje | B26: - | C26: - | D26: -
A27: Odgovorno lice | B27: =IF(#REF!="","",#REF!) -> #REF! | C27: =IF(#REF!="","",#REF!) -> #REF! | D27: =IF(#REF!="","",#REF!) -> #REF! | E27: =IF(#REF!="","",#REF!) -> #REF!
A28: Kontakt-telefon pravnog lica | B28: =IF(#REF!="","","0"&#REF!) -> #REF!
A29: E-mail pravnog lica | B29: =IF(#REF!="","",#REF!) -> #REF!
A30: Tip izvještaja | B30: =IF(ISTEXT(VLOOKUP(#REF! &"|"&#REF!,'#Konverter'!AA2:AB39,2,FALSE)),VLOOKUP(#REF! &"|"&#REF!,'#Konverter'!AA2:AB39,2,FALSE),"Greška!") -> Greška!
A31: Izvještajna godina | B31: =IF(#REF!="","",IF(#REF!<>"Godišnji - različit izvještajni period",#REF!,#REF!)) -> #REF!
A32: Interval predaje - Od | B32: =IF(#REF!="","",#REF!) -> #REF!
A33: Interval predaje - Do | B33: =IF(#REF!="","",#REF!) -> #REF!
A34: Veličina pravnog lica | B34: =IF(OR(#REF!="Revizorski",#REF!="Izjava o neaktivnosti"),"Mikro",IF(#REF!="","",#REF!)) -> #REF!
A35: Priprema FI (utiskuje se s weba) | B35: 1
A36: Priprema FI - ID (utiskuje se s weba) | B36: 2998 | C36: =IF(#REF!="","",#REF!) -> #REF!
A37: Priprema FI - Telefon | B37: =IF(#REF!="","","0"&#REF!) -> #REF!
A38: Priprema FI - Mail | B38: =IF(#REF!="","",#REF!) -> #REF!
A39: Primijenjeni standard izvještavanja | B39: =IF(#REF!="","",#REF!) -> #REF!
A40: Datum sastavljanja finansijskih izvještaja | B40: =IF(#REF!="","",#REF!) -> #REF!
A41: Izvještaj o finansijskom položaju na kraju perioda (Bilans stanja) | B41: =IF(LEN(BS!J39)=4,"",BS!J39) -> 0 | C41: =IF(AND(ROWS(BS!1:155)=155,COLUMNS(BS!E:J)=6),1,0) -> 1
A42: Izvještaj o ukupnom rezultatu za period (Bilans uspjeha) | B42: =IF(LEN(BU!J36)=4,"",BU!J36) -> 0 | C42: =IF(AND(ROWS(BU!1:190)=190,COLUMNS(BU!E:J)=6),1,0) -> 1
A43: Izvještaj o prihodima i rashodima | B43: -
A44: Račun prihoda i rashoda | B44: -
A45: Izvještaj o gotovinskim tokovima | B45: -
A46: Izvještaj o novčanim tokovima | B46: -
A47: Izvještaj o gotovinskim tokovima - direktna metoda | B47: =IF(LEN(GTDIR!K38)=4,"",GTDIR!K38) -> 0 | C47: =IF(AND(ROWS(GTDIR!1:99)=99,COLUMNS(GTDIR!E:K)=7),1,0) -> 1
A48: Izvještaj o gotovinskim tokovima - indirektna metoda | B48: =IF(LEN(GTIND!K36)=4,"",GTIND!K36) -> 0 | C48: =IF(AND(ROWS(GTIND!1:129)=129,COLUMNS(GTIND!E:K)=7),1,0) -> 1
A49: Izvještaj o promjenama na kapitalu | B49: =IF(LEN(IPK!AC7)=4,"",IPK!AC7) -> 0 | C49: =IF(AND(ROWS(IPK!2:54)=73,COLUMNS(IPK!U:AG)=13),1,0) -> 0
A50: Izvještaj o kapitalnim izdacima i finansiranju | B50: -
A51: Vanbilansna evidencija | B51: -
A52: Izvještaj o promjenama neto imovine investicionog fonda | B52: -
A53: Posebni podaci o plaćama i broju zaposlenih | B53: =IF(LEN(#REF!)=4,"",#REF!) -> #REF! | C53: =IF(AND(ROWS(#REF!)=64,COLUMNS(#REF!)=23),1,0) -> #REF!
A54: Bilješke uz finansijske izvještaje | B54: -
A55: Izvještaj o poslovanju; Konsolidovani izvještaj o poslovanju | B55: -
A56: Odluka o utvrđivanju finansijskih izvještaja | B56: -
A57: Odluka o prijedlogu raspodjele dobiti/pokrića gubitka | B57: -
A58: Aneks - Dodatni računovodstveni izvještaj | B58: =IF(LEN(#REF!)=4,"",#REF!) -> #REF! | C58: =IF(AND(ROWS(#REF!)=143,COLUMNS(#REF!)=45),1,0) -> #REF!
A59: Godišnji izvještaj o investicijama | B59: =IF(LEN(#REF!)=4,"",#REF!) -> #REF! | C59: =IF(AND(ROWS(#REF!)=63,COLUMNS(#REF!)=55,ROWS(#REF!)=97,COLUMNS(#REF!)=86),1,0) -> #REF!
A60: Obračun članarine turističkoj zajednici | B60: =IF(LEN(OP!AJ1)=4,"",OP!AJ1) -> 0 | C60: =IF(AND(ROWS(OP!1:52)=38,COLUMNS(OP!C:AJ)=38),1,0) -> 0
A61: Obračun naknade za korištenje, zaštitu i unapređenje šuma | B61: =IF(LEN(#REF!)=4,"",#REF!) -> #REF! | C61: =IF(AND(ROWS(#REF!)=37,COLUMNS(#REF!)=51),1,0) -> #REF!
A62: Izvještaj o obračunatim i uplaćenim vodnim naknadama | B62: =IF(LEN(#REF!)=4,"",#REF!) -> #REF! | C62: =IF(AND(ROWS(#REF!)=43,COLUMNS(#REF!)=51),1,0) -> #REF!
A63: Izvještaj o obračunatom i uplaćenom posebnom porezu/naknadi za zaštitu od prirodnih i drugih nesreća | B63: =IF(LEN(#REF!)=4,"",#REF!) -> #REF! | C63: =IF(AND(ROWS(#REF!)=47,COLUMNS(#REF!)=40),1,0) -> #REF!
A64: Obavijest o razvrstavanju | B64: =IF(LEN(#REF!)=4,"",#REF!) -> #REF! | C64: =IF(AND(ROWS(#REF!)=37,COLUMNS(#REF!)=6),1,0) -> #REF!
A65: Izjava o standardu | B65: =IF(LEN(#REF!)=4,"",#REF!) -> #REF! | C65: =IF(AND(ROWS(#REF!)=29,COLUMNS(#REF!)=6),1,0) -> #REF!
A66: Izjava o neaktivnosti | B66: =IF(AND(#REF!="Izjava o neaktivnosti",LEN(#REF!)>4),#REF!,"") -> #REF! | C66: =IF(AND(ROWS(#REF!)=40,COLUMNS(#REF!)=17),1,0) -> #REF!
A67: JIB+ | B67: =IF(#REF!="","",#REF!) -> #REF!
A68: Subjekt od javnog interesa | B68: =IF(#REF!="","",IF(#REF!="DA",1,0)) -> #REF!
A69: Matični broj | B69: =IF(#REF!="","",#REF!) -> #REF!
A70: =#REF! -> #REF! | B70: =IF(#REF!="","",#REF!) -> #REF!
A71: =#REF! -> #REF! | B71: =IF(#REF!="","",#REF!) -> #REF!
A72: =#REF! -> #REF! | B72: =IF(#REF!="","",#REF!) -> #REF! | C72: =IF(#REF!="","",VLOOKUP(#REF!,'#Konverter'!AM2:AN11,2,FALSE)) -> #REF!
A73: =#REF! -> #REF! | B73: =IF(#REF!="","",#REF!) -> #REF! | C73: =IF(#REF!="","",VLOOKUP(#REF!,'#Konverter'!AI2:AJ80,2,FALSE)) -> #REF!
A74: =#REF! -> #REF! | B74: =IF(#REF!="","",#REF!) -> #REF! | C74: =IF(#REF!="","",VLOOKUP(#REF!,'#Konverter'!AK2:AL80,2,FALSE)) -> #REF!
A75: =#REF! -> #REF! | B75: =IF(#REF!="","",#REF!) -> #REF! | C75: =IF(#REF!="","",VLOOKUP(#REF!,'#Konverter'!AK2:AL80,2,FALSE)) -> #REF!
A76: =#REF! -> #REF! | B76: =IF(#REF!="","",#REF!) -> #REF! | C76: =IF(#REF!="","",VLOOKUP(#REF!,'#Konverter'!AK2:AL80,2,FALSE)) -> #REF!
A77: =#REF! -> #REF! | B77: =IF(#REF!="","",#REF!) -> #REF! | C77: =IF(#REF!="","",#REF!) -> #REF!
A78: =#REF! -> #REF! | B78: =IF(#REF!="","",#REF!) -> #REF! | C78: =IF(#REF!="","",#REF!) -> #REF!
A79: Tip | B79: 1
A80: Verzija | B80: v.02
A81: KPID | B81: =IF(#REF!="","",VLOOKUP(#REF!,'#Konverter'!AO2:AP5,2,0)) -> #REF! | C81: =IF(#REF!="","",#REF!) -> #REF!

Sheet OP
AK1: Obrazac OEI-PD
AK2: Tabela A
C4: OPĆI PODACI
C5: za period od 01.01. do 30.06.2026. godine
C7: Opis | S7: Sadržaj
A9: 0.01 | B9: =IF(LEN(Y9)=0,"",1+ABS((Y9*A9)/LEN(Y9))+A9) | C9: Registarski broj emitenta u registru kod Komisije:
C10: 1. PODACI O IDENTITETU EMITENTA
C11: Punu i skraćenu firmu emitenta | S11: Puni naziv: Društvo za upravljanje fondovima SAFE INVESTMENT d.o.o. Sarajevo Skraćeni naziv: SAFE INVESTMENT d.o.o. Sarajevo
C12: Puna adresa (poštanski broj, mjesto, ulica i broj) | S12: 71000 Sarajevo, Danijela Ozme 1
C13: Broj telefona i telefaksa | S13: tel: 033 550120 fax: 033550121
C14: E-mail adresa | S14: info@safeinvestment.ba
C15: Internetska stranica | S15: www.safeinvestment.ba
C16: Djelatnost emitenta | S16: 66.30 Djelatnost upravljanja fondovima
C17: Broj uposlenih u emitentu | S17: 4
C18: Broj poslovnih jedinica i predstavništava emitenta | S18: 1
C19: Firma i sjedište vanjskog revizora emitenta | S19: ZUKO d.o.o. Sarajevo, Džemala Bijedića 185, Sarajevo
C20: Naznaka da li su finansijski izvještaji za period za koji se podnose revidirani od strane vanjskog revizora | S20: NE
C21: Ime i prezime članova odbora za reviziju | S21: Alma Agić- predsjednik; Muhamed Bekto - član; Nijaz Salamović - član
C22: 2. INFORMACIJE O NADZORNOM ODBORU I UPRAVI EMITENTA
C23: Ime i prezime predsjednika i članova nadzornog odbora emitenta | S23: Admir Pejkušić - predsjednik; Aida Jazvin - član; Ahmed Halilović-član
C24: Imena i prezimena, funkcije članova uprave emitenta | S24: Olja Mujagić - direktor društva; Ahmed Aljukić- izvršni direktor društva
C25: Broj dionica emitenta koji posjeduje svaki od članova nadzornog odbora i uprave i učešće ukupnog nominalnog iznosa ovih dionica u osnovnom kapitalu emitenta na početku i na kraju perioda za koji se izvještaj podnosi | S25: Članovi nadzornog odbora i uprave ne posjeduju udjele u kapitalu Društva
C26: 3. PODACI O DIONICAMA I DIONIČARIMA EMITENTA
C27: Ukupan broj dioničara na zadnji datum izvještajnog perioda | S27: 1
C28: Broj emitovanih dionica i nominalna cijena po dionici na zadnji datum izvještajnog perioda
C29: Ime i prezime svakog fizičkog lica i firma svakog pravnog lica koje je vlasnik više od 5% dionica emitenta s pravom glasa na kraju izvještajnog perioda | S29: Munib Elkazović, vlasnik 100%
C30: 4. PODACI O PRAVNIM LICIMA KOJI SU U VLASNIŠTVU EMITENTA
C31: Naziv pravnog lica u kojem emitent posjeduje više od 10% dionica ili vlasništva u kapitalu na kraju izvještajnog perioda, te naziv poslovnih jedinica/predstavništava emitenta
C32: 5. PODACI O ODRŽANIM SKUPŠTINAMA EMITENTA U IZVJEŠTAJNOM PERIODU
C33: Datum i mjesto održavanja | S33: 15.05.2026., Sarajevo
C34: Dnevni red skupštine | S34: 1. Usvajanje godišnjeg finansijskog izvještaja o poslovanju Društva za upravljanje fondovima SAFE INVESTMENT d.o.o. Sarajevo za 2025. godinu koji uključuje izvještaje Vanjskih revizora, Nadzornog odbora i Odbora za reviziju, 2. Usvajanje odluke o rasporedu finansijskog rezultata iz 2025. godine, 3. Usvajanje odluke o isplati dobiti, 4. Usvajanje odluke o izboru Vanjskog revizora Društva za 2026. godinu 5. Usvajanje Izvještaja o aktivnostima po nalozima Komisije za vrijednosne papire FBiH iz 2025. godine.
C35: Značajne odluke donesene na skupštini | S35: 1. Odluka o usvajanju godišnjeg finansijskog izvještaja o poslovanju Društva za upravljanje fondovima SAFE INVESTMENT d.o.o. Sarajevo za 2025. godinu koji uključuje izvještaj Vanjskog revizora, Nadzornog odbora i Odbora za reviziju, 2. Odluka o rasporedu finansijskog rezultata iz 2025. godine, 3. Odluka o isplati dobiti, 4. Odluka o izboru Vanjskog revizora Društva za 2026. godinu, 5. Odluka o usvajanju Izvještaja o aktivnostima po nalozima Komisije za vrijednosne papire FBiH iz 2025. godine.
C36: 6.BITNI DOGAĐAJI U IZVJEŠTAJNOM PERIODU
C37: Podaci o isplaćenoj dividendi i kamatama od vrijednosnih papira | S37: 01.06.2026., isplata dobiti vlasniku 176.494,00 KM
C38: Podaci o emisiji vrijednosnih papira i načinu upotrebe kapitala pribavljenog putem emisije vrijednosnih papira emitenta u izvještajnom periodu
C39: Podaci o transakcijama imovinom u obimu većem od 10% vrijednosti ukupne imovine emitenata na dan transakcije navodeći činjenice koje su na to uticale
C40: Podaci o smanjenju ili povećanju imovine emitenta za više od 10% u odnosu na stanje iz prethodnog izvještaja navodeći činjenice koje su na to uticale
C41: Podaci o smanjenju ili povećanju neto dobiti ili gubitka emitenta za više od 10% u odnosu na stanje iz prethodnog izvještaja navodeći činjenice koje su na to uticale
B42: =IF(ISERROR(ABS(LOG(ABS(SUM(B9:B41)),EXP(3)))),"",ABS(LOG(ABS(SUM(B9:B41)),EXP(3))))
B43: =IF(ISERROR(IF(ISERROR(MID(B42,FIND(".",B42,1)+6,13)),MID(B42,FIND(",",B42,1)+6,13),MID(B42,FIND(".",B42,1)+6,13))),"",IF(ISERROR(MID(B42,FIND(".",B42,1)+6,13)),MID(B42,FIND(",",B42,1)+6,13),MID(B42,FIND(".",B42,1)+6,13)))
C44: Mjesto i datum | AC44: M.P. | AJ44: Direktor
C45: Sarajevo, 10.08.2026. | AJ45: Olja Mujagić
AJ46: Izvještaj sastavio/la:
AJ47: Esmir Krnić

Sheet BS
E1: DUF SAFE INVESTMENT d.o.o. Sarajevo | J1: Obrazac OEI-PD
E2: Naziv emitenta | J2: Tabela B
E3: Danijela Ozme 1, SARAJEVO
E4: Sjedište i adresa emitenta
E5: 66.30
E6: Šifra djelatnosti
E7: 4203333590002
E8: Identifikacioni broj za direktne poreze
E9: 65-01-0415-24
E10: Matični broj
E12: IZVJEŠTAJ O FINANSIJSKOM POLOŽAJU NA KRAJU PERIODA
E13: (BILANS STANJA)
E14: na dan 30.06.2026. godine
J15: - u KM -
E16: Redni broj | F16: Pozicija | G16: Bilješka | H16: Oznaka za AOP | I16: Iznos tekuće godine | J16: Iznos prethodne godine (početno stanje)
E17: 1 | F17: 2 | G17: 3 | H17: 4 | I17: 5 | J17: 6
F18: IMOVINA
A19: 0.02 | B19: 1.26 | C19: =IF(LEN(I19)=0,"",1+ABS((I19*A19)/LEN(I19))+A19) -> 59.224 | D19: =IF(LEN(J19)=0,"",1+ABS((J19*B19)/LEN(J19))+B19) -> 2701.936 | E19: A. | F19: Dugoročna imovina (002+009+014+015+020+021+022+023+024+025+028+033+034) | H19: 001 | I19: =IFERROR(IF(AND(I20,I27,I32,I33,I43,I44,I45,I46,I47,I48,I51,I56,I57)="","",SUM(I20,I27,I32,I33,I43,I44,I45,I46,I47,I48,I51,I56,I57)),"") -> 14551 | J19: =IFERROR(IF(AND(J20,J27,J32,J33,J43,J44,J45,J46,J47,J48,J51,J56,J57)="","",SUM(J20,J27,J32,J33,J43,J44,J45,J46,J47,J48,J51,J56,J57)),"") -> 10713
A20: 0.03 | B20: 1.27 | C20: =IF(LEN(I20)=0,"",1+ABS((I20*A20)/LEN(I20))+A20) -> 67.138 | D20: =IF(LEN(J20)=0,"",1+ABS((J20*B20)/LEN(J20))+B20) -> 2169.525 | E20: 1. | F20: Nekretnine, postrojenja i oprema (003 do 008) | H20: 002 | I20: {=IF(AND(ISBLANK(I21:I26)),"",SUM(I21:I26))} -> 11018 | J20: {=IF(AND(ISBLANK(J21:J26)),"",SUM(J21:J26))} -> 6826
A21: 0.04 | B21: 1.28 | C21: =IF(LEN(I21)=0,"",1+ABS((I21*A21)/LEN(I21))+A21) | D21: =IF(LEN(J21)=0,"",1+ABS((J21*B21)/LEN(J21))+B21) | E21: 1.1. | F21: Zemljište | H21: 003
A22: 0.05 | B22: 1.29 | C22: =IF(LEN(I22)=0,"",1+ABS((I22*A22)/LEN(I22))+A22) | D22: =IF(LEN(J22)=0,"",1+ABS((J22*B22)/LEN(J22))+B22) | E22: 1.2. | F22: Građevinski objekti | H22: 004
A23: 0.06 | B23: 1.3 | C23: =IF(LEN(I23)=0,"",1+ABS((I23*A23)/LEN(I23))+A23) -> 133.276 | D23: =IF(LEN(J23)=0,"",1+ABS((J23*B23)/LEN(J23))+B23) -> 2220.75 | E23: 1.3. | F23: Postrojenja, oprema i namještaj | H23: 005 | I23: 11018 | J23: 6826
A24: 0.07 | B24: 1.31 | C24: =IF(LEN(I24)=0,"",1+ABS((I24*A24)/LEN(I24))+A24) | D24: =IF(LEN(J24)=0,"",1+ABS((J24*B24)/LEN(J24))+B24) | E24: 1.4. | F24: Transportna sredstva | H24: 006
A25: 0.08 | B25: 1.32 | C25: =IF(LEN(I25)=0,"",1+ABS((I25*A25)/LEN(I25))+A25) | D25: =IF(LEN(J25)=0,"",1+ABS((J25*B25)/LEN(J25))+B25) | E25: 1.5. | F25: Ostala dugoročna materijalna imovina | H25: 007
A26: 0.09 | B26: 1.33 | C26: =IF(LEN(I26)=0,"",1+ABS((I26*A26)/LEN(I26))+A26) | D26: =IF(LEN(J26)=0,"",1+ABS((J26*B26)/LEN(J26))+B26) | E26: 1.6. | F26: Nekretnine, postrojenja i oprema u pripremi | H26: 008
A27: 0.1 | B27: 1.34 | C27: =IF(LEN(I27)=0,"",1+ABS((I27*A27)/LEN(I27))+A27) | D27: =IF(LEN(J27)=0,"",1+ABS((J27*B27)/LEN(J27))+B27) | E27: 2. | F27: Imovina s pravom korištenja (010 do 013) | H27: 009 | I27: {=IF(AND(ISBLANK(I28:I31)),"",SUM(I28:I31))} | J27: {=IF(AND(ISBLANK(J28:J31)),"",SUM(J28:J31))}
A28: 0.11 | B28: 1.35 | C28: =IF(LEN(I28)=0,"",1+ABS((I28*A28)/LEN(I28))+A28) | D28: =IF(LEN(J28)=0,"",1+ABS((J28*B28)/LEN(J28))+B28) | E28: 2.1. | F28: Zemljište | H28: 010
A29: 0.12 | B29: 1.36 | C29: =IF(LEN(I29)=0,"",1+ABS((I29*A29)/LEN(I29))+A29) | D29: =IF(LEN(J29)=0,"",1+ABS((J29*B29)/LEN(J29))+B29) | E29: 2.2. | F29: Građevinski objekti | H29: 011
A30: 0.13 | B30: 1.37 | C30: =IF(LEN(I30)=0,"",1+ABS((I30*A30)/LEN(I30))+A30) | D30: =IF(LEN(J30)=0,"",1+ABS((J30*B30)/LEN(J30))+B30) | E30: 2.3. | F30: Postrojenja i oprema | H30: 012
A31: 0.14 | B31: 1.38 | C31: =IF(LEN(I31)=0,"",1+ABS((I31*A31)/LEN(I31))+A31) | D31: =IF(LEN(J31)=0,"",1+ABS((J31*B31)/LEN(J31))+B31) | E31: 2.4. | F31: Nematerijalna imovina | H31: 013
A32: 0.15 | B32: 1.39 | C32: =IF(LEN(I32)=0,"",1+ABS((I32*A32)/LEN(I32))+A32) | D32: =IF(LEN(J32)=0,"",1+ABS((J32*B32)/LEN(J32))+B32) | E32: 3. | F32: Ulaganja u investicijske nekretnine | H32: 014
A33: 0.16 | B33: 1.4 | C33: =IF(LEN(I33)=0,"",1+ABS((I33*A33)/LEN(I33))+A33) -> 88.48 | D33: =IF(LEN(J33)=0,"",1+ABS((J33*B33)/LEN(J33))+B33) -> 890.35 | E33: 4. | F33: Nematerijalna imovina (016 do 019) | H33: 015 | I33: {=IF(AND(ISBLANK(I34:I37)),"",SUM(I34:I37))} -> 2183 | J33: {=IF(AND(ISBLANK(J34:J37)),"",SUM(J34:J37))} -> 2537
A34: 0.17 | B34: 1.41 | C34: =IF(LEN(I34)=0,"",1+ABS((I34*A34)/LEN(I34))+A34) | D34: =IF(LEN(J34)=0,"",1+ABS((J34*B34)/LEN(J34))+B34) | E34: 4.1. | F34: Kapitalizirana ulaganja u razvoj | H34: 016
A35: 0.18 | B35: 1.42 | C35: =IF(LEN(I35)=0,"",1+ABS((I35*A35)/LEN(I35))+A35) -> 99.415 | D35: =IF(LEN(J35)=0,"",1+ABS((J35*B35)/LEN(J35))+B35) -> 903.055 | E35: 4.2. | F35: Koncesije, patenti, licence i druga prava | H35: 017 | I35: 2183 | J35: 2537
A36: 0.2 | B36: 1.43 | C36: =IF(LEN(I36)=0,"",1+ABS((I36*A36)/LEN(I36))+A36) | D36: =IF(LEN(J36)=0,"",1+ABS((J36*B36)/LEN(J36))+B36) | E36: 4.3. | F36: Ostala nematerijalna imovina | H36: 018
A37: 0.22 | B37: 1.44 | C37: =IF(LEN(I37)=0,"",1+ABS((I37*A37)/LEN(I37))+A37) | D37: =IF(LEN(J37)=0,"",1+ABS((J37*B37)/LEN(J37))+B37) | E37: 4.4. | F37: Nematerijalna imovina u pripremi | H37: 019
J40: str. 1 od 4
E41: Redni broj | F41: Pozicija | G41: Bilješka | H41: Oznaka za AOP | I41: =I16 -> Iznos tekuće godine | J41: =J16 -> Iznos prethodne godine (početno stanje)
E42: 1 | F42: 2 | G42: 3 | H42: 4 | I42: 5 | J42: 6
A43: 0.23 | B43: 1.45 | C43: =IF(LEN(I43)=0,"",1+ABS((I43*A43)/LEN(I43))+A43) | D43: =IF(LEN(J43)=0,"",1+ABS((J43*B43)/LEN(J43))+B43) | E43: 5. | F43: Biološka imovina | H43: 020
A44: 0.28 | B44: 1.46 | C44: =IF(LEN(I44)=0,"",1+ABS((I44*A44)/LEN(I44))+A44) | D44: =IF(LEN(J44)=0,"",1+ABS((J44*B44)/LEN(J44))+B44) | E44: 6. | F44: Ulaganja u zavisne subjekte | H44: 021
A45: 0.29 | B45: 1.47 | C45: =IF(LEN(I45)=0,"",1+ABS((I45*A45)/LEN(I45))+A45) | D45: =IF(LEN(J45)=0,"",1+ABS((J45*B45)/LEN(J45))+B45) | E45: 7. | F45: Ulaganja u pridružene subjekte | H45: 022
A46: 0.3 | B46: 1.48 | C46: =IF(LEN(I46)=0,"",1+ABS((I46*A46)/LEN(I46))+A46) | D46: =IF(LEN(J46)=0,"",1+ABS((J46*B46)/LEN(J46))+B46) | E46: 8. | F46: Ulaganja u zajedničke poduhvate | H46: 023
A47: 0.31 | B47: 1.49 | C47: =IF(LEN(I47)=0,"",1+ABS((I47*A47)/LEN(I47))+A47) | D47: =IF(LEN(J47)=0,"",1+ABS((J47*B47)/LEN(J47))+B47) | E47: 9. | F47: Goodwill | H47: 024
A48: 0.32 | B48: 1.5 | C48: =IF(LEN(I48)=0,"",1+ABS((I48*A48)/LEN(I48))+A48) | D48: =IF(LEN(J48)=0,"",1+ABS((J48*B48)/LEN(J48))+B48) | E48: 10. | F48: Finansijska imovina po fer vrijednosti kroz ostali ukupni rezultat (026+027) | H48: 025 | I48: {=IF(AND(ISBLANK(I49:I50)),"",SUM(I49:I50))} | J48: {=IF(AND(ISBLANK(J49:J50)),"",SUM(J49:J50))}
A49: 0.33 | B49: 1.51 | C49: =IF(LEN(I49)=0,"",1+ABS((I49*A49)/LEN(I49))+A49) | D49: =IF(LEN(J49)=0,"",1+ABS((J49*B49)/LEN(J49))+B49) | E49: 10.1. | F49: Ulaganja u instrumente kapitala | H49: 026
A50: 0.34 | B50: 1.52 | C50: =IF(LEN(I50)=0,"",1+ABS((I50*A50)/LEN(I50))+A50) | D50: =IF(LEN(J50)=0,"",1+ABS((J50*B50)/LEN(J50))+B50) | E50: 10.2. | F50: Obveznice, dati krediti i ostali dužnički instrumenti | H50: 027
A51: 0.35 | B51: 1.53 | C51: =IF(LEN(I51)=0,"",1+ABS((I51*A51)/LEN(I51))+A51) | D51: =IF(LEN(J51)=0,"",1+ABS((J51*B51)/LEN(J51))+B51) | E51: 11. | F51: Finansijska imovina po amortizovanom trošku (029 do 032) | H51: 028 | I51: {=IF(AND(ISBLANK(I52:I55)),"",SUM(I52:I55))} | J51: {=IF(AND(ISBLANK(J52:J55)),"",SUM(J52:J55))}
A52: 0.36 | B52: 1.54 | C52: =IF(LEN(I52)=0,"",1+ABS((I52*A52)/LEN(I52))+A52) | D52: =IF(LEN(J52)=0,"",1+ABS((J52*B52)/LEN(J52))+B52) | E52: 11.1 | F52: Depoziti kod banaka | H52: 029
A53: 0.37 | B53: 1.55 | C53: =IF(LEN(I53)=0,"",1+ABS((I53*A53)/LEN(I53))+A53) | D53: =IF(LEN(J53)=0,"",1+ABS((J53*B53)/LEN(J53))+B53) | E53: 11.2. | F53: Dati krediti | H53: 030
A54: 0.38 | B54: 1.56 | C54: =IF(LEN(I54)=0,"",1+ABS((I54*A54)/LEN(I54))+A54) | D54: =IF(LEN(J54)=0,"",1+ABS((J54*B54)/LEN(J54))+B54) | E54: 11.3. | F54: Obveznice | H54: 031
A55: 0.4 | B55: 1.57 | C55: =IF(LEN(I55)=0,"",1+ABS((I55*A55)/LEN(I55))+A55) | D55: =IF(LEN(J55)=0,"",1+ABS((J55*B55)/LEN(J55))+B55) | E55: 11.4. | F55: Ostala finansijska imovina po amortizovanom trošku | H55: 032
A56: 0.41 | B56: 1.58 | C56: =IF(LEN(I56)=0,"",1+ABS((I56*A56)/LEN(I56))+A56) | D56: =IF(LEN(J56)=0,"",1+ABS((J56*B56)/LEN(J56))+B56) | E56: 12. | F56: Potraživanja po finansijskim najmovima | H56: 033
A57: 0.42 | B57: 1.59 | C57: =IF(LEN(I57)=0,"",1+ABS((I57*A57)/LEN(I57))+A57) -> 143.17 | D57: =IF(LEN(J57)=0,"",1+ABS((J57*B57)/LEN(J57))+B57) -> 539.215 | E57: 13. | F57: Ostala imovina i potraživanja | H57: 034 | I57: 1350 | J57: 1350
A58: 0.43 | B58: 1.6 | C58: =IF(LEN(I58)=0,"",1+ABS((I58*A58)/LEN(I58))+A58) | D58: =IF(LEN(J58)=0,"",1+ABS((J58*B58)/LEN(J58))+B58) | E58: B. | F58: Odgođena porezna imovina | H58: 035
A59: 0.44 | B59: 1.61 | C59: =IF(LEN(I59)=0,"",1+ABS((I59*A59)/LEN(I59))+A59) -> 32867.313 | D59: =IF(LEN(J59)=0,"",1+ABS((J59*B59)/LEN(J59))+B59) -> 132582.62 | E59: C. | F59: Kratkoročna imovina (037+043+044+045+049+054+055+056+057+058+059) | H59: 036 | I59: =IFERROR(IF(AND(I60,I66,I67,I68,I72,I77,I78,I83,I84,I85,I86)="","",SUM(I60,I66,I67,I68,I72,I77,I78,I83,I84,I85,I86)),"") -> 448171 | J59: =IFERROR(IF(AND(J60,J66,J67,J68,J72,J77,J78,J83,J84,J85,J86)="","",SUM(J60,J66,J67,J68,J72,J77,J78,J83,J84,J85,J86)),"") -> 494087
A60: 0.45 | B60: 1.62 | C60: =IF(LEN(I60)=0,"",1+ABS((I60*A60)/LEN(I60))+A60) | D60: =IF(LEN(J60)=0,"",1+ABS((J60*B60)/LEN(J60))+B60) | E60: 1. | F60: Zalihe (038 do 042) | H60: 037 | I60: {=IF(AND(ISBLANK(I61:I65)),"",SUM(I61:I65))} | J60: {=IF(AND(ISBLANK(J61:J65)),"",SUM(J61:J65))}
A61: 0.46 | B61: 1.63 | C61: =IF(LEN(I61)=0,"",1+ABS((I61*A61)/LEN(I61))+A61) | D61: =IF(LEN(J61)=0,"",1+ABS((J61*B61)/LEN(J61))+B61) | E61: 1.1. | F61: Sirovine, materijal, rezervni dijelovi i sitan inventar | H61: 038
A62: 0.47 | B62: 1.64 | C62: =IF(LEN(I62)=0,"",1+ABS((I62*A62)/LEN(I62))+A62) | D62: =IF(LEN(J62)=0,"",1+ABS((J62*B62)/LEN(J62))+B62) | E62: 1.2. | F62: Proizvodnja u toku, poluproizvodi i nedovršene usluge | H62: 039
A63: 0.48 | B63: 1.65 | C63: =IF(LEN(I63)=0,"",1+ABS((I63*A63)/LEN(I63))+A63) | D63: =IF(LEN(J63)=0,"",1+ABS((J63*B63)/LEN(J63))+B63) | E63: 1.3. | F63: Gotovi proizvodi | H63: 040
A64: 0.49 | B64: 1.66 | C64: =IF(LEN(I64)=0,"",1+ABS((I64*A64)/LEN(I64))+A64) | D64: =IF(LEN(J64)=0,"",1+ABS((J64*B64)/LEN(J64))+B64) | E64: 1.4. | F64: Roba | H64: 041
A65: 0.5 | B65: 1.67 | C65: =IF(LEN(I65)=0,"",1+ABS((I65*A65)/LEN(I65))+A65) | D65: =IF(LEN(J65)=0,"",1+ABS((J65*B65)/LEN(J65))+B65) | E65: 1.5. | F65: Dati avansi | H65: 042
A66: 0.51 | B66: 1.68 | C66: =IF(LEN(I66)=0,"",1+ABS((I66*A66)/LEN(I66))+A66) | D66: =IF(LEN(J66)=0,"",1+ABS((J66*B66)/LEN(J66))+B66) | E66: 2. | F66: Dugoročna imovina namijenjena prodaji i imovina poslovanja koje se obustavlja | H66: 043
A67: 0.52 | B67: 1.69 | C67: =IF(LEN(I67)=0,"",1+ABS((I67*A67)/LEN(I67))+A67) | D67: =IF(LEN(J67)=0,"",1+ABS((J67*B67)/LEN(J67))+B67) | E67: 3. | F67: Ugovorna imovina | H67: 044
A68: 0.53 | B68: 1.7 | C68: =IF(LEN(I68)=0,"",1+ABS((I68*A68)/LEN(I68))+A68) -> 10136.897 | D68: =IF(LEN(J68)=0,"",1+ABS((J68*B68)/LEN(J68))+B68) -> 18962.46 | E68: 4. | F68: Potraživanja od kupaca (046 do 048) | H68: 045 | I68: {=IF(AND(ISBLANK(I69:I71)),"",SUM(I69:I71))} -> 114740 | J68: {=IF(AND(ISBLANK(J69:J71)),"",SUM(J69:J71))} -> 55764
A69: 0.54 | B69: 1.71 | C69: =IF(LEN(I69)=0,"",1+ABS((I69*A69)/LEN(I69))+A69) -> 10328.14 | D69: =IF(LEN(J69)=0,"",1+ABS((J69*B69)/LEN(J69))+B69) -> 19073.998 | E69: 4.1. | F69: Kupci - povezane strane | H69: 046 | I69: 114740 | J69: 55764
A70: 0.55 | B70: 1.72 | C70: =IF(LEN(I70)=0,"",1+ABS((I70*A70)/LEN(I70))+A70) | D70: =IF(LEN(J70)=0,"",1+ABS((J70*B70)/LEN(J70))+B70) | E70: 4.2. | F70: Kupci u zemlji | H70: 047
A71: 0.56 | B71: 1.73 | C71: =IF(LEN(I71)=0,"",1+ABS((I71*A71)/LEN(I71))+A71) | D71: =IF(LEN(J71)=0,"",1+ABS((J71*B71)/LEN(J71))+B71) | E71: 4.3. | F71: Kupci u inostranstvu | H71: 048
A72: 0.57 | B72: 1.74 | C72: =IF(LEN(I72)=0,"",1+ABS((I72*A72)/LEN(I72))+A72) | D72: =IF(LEN(J72)=0,"",1+ABS((J72*B72)/LEN(J72))+B72) | E72: 5. | F72: Ostala finansijska imovina po amortizovanom trošku (050 do 053) | H72: 049 | I72: {=IF(AND(ISBLANK(I73:I76)),"",SUM(I73:I76))} | J72: {=IF(AND(ISBLANK(J73:J76)),"",SUM(J73:J76))}
A73: 0.58 | B73: 1.75 | C73: =IF(LEN(I73)=0,"",1+ABS((I73*A73)/LEN(I73))+A73) | D73: =IF(LEN(J73)=0,"",1+ABS((J73*B73)/LEN(J73))+B73) | E73: 5.1. | F73: Depoziti kod banaka | H73: 050
A74: 0.59 | B74: 1.76 | C74: =IF(LEN(I74)=0,"",1+ABS((I74*A74)/LEN(I74))+A74) | D74: =IF(LEN(J74)=0,"",1+ABS((J74*B74)/LEN(J74))+B74) | E74: 5.2. | F74: Dati krediti | H74: 051
A75: 0.6 | B75: 1.77 | C75: =IF(LEN(I75)=0,"",1+ABS((I75*A75)/LEN(I75))+A75) | D75: =IF(LEN(J75)=0,"",1+ABS((J75*B75)/LEN(J75))+B75) | E75: 5.3. | F75: Obveznice | H75: 052
A76: 0.61 | B76: 1.78 | C76: =IF(LEN(I76)=0,"",1+ABS((I76*A76)/LEN(I76))+A76) | D76: =IF(LEN(J76)=0,"",1+ABS((J76*B76)/LEN(J76))+B76) | E76: 5.4. | F76: Ostala finansijska imovina po amortizovanom trošku | H76: 053
A77: 0.62 | B77: 1.79 | C77: =IF(LEN(I77)=0,"",1+ABS((I77*A77)/LEN(I77))+A77) | D77: =IF(LEN(J77)=0,"",1+ABS((J77*B77)/LEN(J77))+B77) | E77: 6. | F77: Potraživanja po finansijskim najmovima | H77: 054
A78: 0.63 | B78: 1.8 | C78: =IF(LEN(I78)=0,"",1+ABS((I78*A78)/LEN(I78))+A78) | D78: =IF(LEN(J78)=0,"",1+ABS((J78*B78)/LEN(J78))+B78) | E78: 7. | F78: Finansijska imovina po fer vrijednosti kroz izvještaj o dobiti ili gubitku | H78: 055
J80: str. 2 od 4
E81: Redni broj | F81: Pozicija | G81: Bilješka | H81: Oznaka za AOP | I81: =I16 -> Iznos tekuće godine | J81: =J16 -> Iznos prethodne godine (početno stanje)
E82: 1 | F82: 2 | G82: 3 | H82: 4 | I82: 5 | J82: 6
A83: 0.64 | B83: 1.81 | C83: =IF(LEN(I83)=0,"",1+ABS((I83*A83)/LEN(I83))+A83) | D83: =IF(LEN(J83)=0,"",1+ABS((J83*B83)/LEN(J83))+B83) | E83: 8. | F83: Derivatni finansijski instrumenti | H83: 056
A84: 0.65 | B84: 1.82 | C84: =IF(LEN(I84)=0,"",1+ABS((I84*A84)/LEN(I84))+A84) -> 36123.342 | D84: =IF(LEN(J84)=0,"",1+ABS((J84*B84)/LEN(J84))+B84) -> 132960.8 | E84: 9. | F84: Novac i novčani ekvivalenti (isključujući prekoračenja po bankovnim računima) | H84: 057 | I84: 333431 | J84: 438323
A85: 0.66 | B85: 1.83 | C85: =IF(LEN(I85)=0,"",1+ABS((I85*A85)/LEN(I85))+A85) | D85: =IF(LEN(J85)=0,"",1+ABS((J85*B85)/LEN(J85))+B85) | E85: 10. | F85: Akontacije poreza na dobit | H85: 058
A86: 0.67 | B86: 1.84 | C86: =IF(LEN(I86)=0,"",1+ABS((I86*A86)/LEN(I86))+A86) | D86: =IF(LEN(J86)=0,"",1+ABS((J86*B86)/LEN(J86))+B86) | E86: 11. | F86: Ostala imovina i potraživanja, uključujući i razgraničenja | H86: 059
A87: 0.68 | B87: 1.85 | C87: =IF(LEN(I87)=0,"",1+ABS((I87*A87)/LEN(I87))+A87) -> 52443.507 | D87: =IF(LEN(J87)=0,"",1+ABS((J87*B87)/LEN(J87))+B87) -> 155649.52 | E87: D. | F87: UKUPNO IMOVINA (001+035+036) | H87: 060 | I87: =IFERROR(IF(AND(I19,I58,I59)="","",SUM(I19,I58,I59)),"") -> 462722 | J87: =IFERROR(IF(AND(J19,J58,J59)="","",SUM(J19,J58,J59)),"") -> 504800
A88: 0.69 | B88: 1.86 | C88: =IF(LEN(I88)=0,"",1+ABS((I88*A88)/LEN(I88))+A88) | D88: =IF(LEN(J88)=0,"",1+ABS((J88*B88)/LEN(J88))+B88) | E88: E. | F88: VANBILANSNA EVIDENCIJA | H88: 061
A89: 0.7 | B89: 1.87 | C89: =IF(LEN(I89)=0,"",1+ABS((I89*A89)/LEN(I89))+A89) -> 53985.933 | D89: =IF(LEN(J89)=0,"",1+ABS((J89*B89)/LEN(J89))+B89) -> 157332.2 | E89: F. | F89: UKUPNO IMOVINA I VANBILANSNA EVIDENCIJA (060+061) | H89: 062 | I89: =IFERROR(IF(AND(I87,I88)="","",SUM(I87,I88)),"") -> 462722 | J89: =IFERROR(IF(AND(J87,J88)="","",SUM(J87,J88)),"") -> 504800
A91: 0.72 | B91: 1.89 | C91: =IF(LEN(I91)=0,"",1+ABS((I91*A91)/LEN(I91))+A91) | D91: =IF(LEN(J91)=0,"",1+ABS((J91*B91)/LEN(J91))+B91) | F91: KAPITAL
A92: 0.73 | B92: 1.9 | C92: =IF(LEN(I92)=0,"",1+ABS((I92*A92)/LEN(I92))+A92) -> 24335.063 | D92: =IF(LEN(J92)=0,"",1+ABS((J92*B92)/LEN(J92))+B92) -> 63336.233 | E92: 1. | F92: Vlasnički kapital (102-103+104+105+106) | H92: 101 | I92: {=IF(AND(ISBLANK(I93:I97)),"",(SUM(I93)-SUM(I94)+SUM(I95:I97)))} -> 200000 | J92: {=IF(AND(ISBLANK(J93:J97)),"",(SUM(J93)-SUM(J94)+SUM(J95:J97)))} -> 200000
A93: 0.74 | B93: 1.91 | C93: =IF(LEN(I93)=0,"",1+ABS((I93*A93)/LEN(I93))+A93) | D93: =IF(LEN(J93)=0,"",1+ABS((J93*B93)/LEN(J93))+B93) | E93: 1.1. | F93: Dionički kapital | H93: 102
A94: 0.75 | B94: 1.92 | C94: =IF(LEN(I94)=0,"",1+ABS((I94*A94)/LEN(I94))+A94) | D94: =IF(LEN(J94)=0,"",1+ABS((J94*B94)/LEN(J94))+B94) | E94: 1.2. | F94: Otkupljene vlastite dionice | H94: 103
A95: 0.76 | B95: 1.93 | C95: =IF(LEN(I95)=0,"",1+ABS((I95*A95)/LEN(I95))+A95) -> 25335.093 | D95: =IF(LEN(J95)=0,"",1+ABS((J95*B95)/LEN(J95))+B95) -> 64336.263 | E95: 1.3. | F95: Udjeli članova društva sa ograničenom odgovornošću | H95: 104 | I95: 200000 | J95: 200000
A96: 0.77 | B96: 1.94 | C96: =IF(LEN(I96)=0,"",1+ABS((I96*A96)/LEN(I96))+A96) | D96: =IF(LEN(J96)=0,"",1+ABS((J96*B96)/LEN(J96))+B96) | E96: 1.4. | F96: Državni kapital | H96: 105
A97: 0.78 | B97: 1.95 | C97: =IF(LEN(I97)=0,"",1+ABS((I97*A97)/LEN(I97))+A97) | D97: =IF(LEN(J97)=0,"",1+ABS((J97*B97)/LEN(J97))+B97) | E97: 1.5. | F97: Ostali oblici vlasničkog kapitala | H97: 106
A98: 0.79 | B98: 1.96 | C98: =IF(LEN(I98)=0,"",1+ABS((I98*A98)/LEN(I98))+A98) | D98: =IF(LEN(J98)=0,"",1+ABS((J98*B98)/LEN(J98))+B98) | E98: 2. | F98: Dionička premija | H98: 107
A99: 0.8 | B99: 1.97 | C99: =IF(LEN(I99)=0,"",1+ABS((I99*A99)/LEN(I99))+A99) -> 13335.133 | D99: =IF(LEN(J99)=0,"",1+ABS((J99*B99)/LEN(J99))+B99) -> 11577.114 | E99: 3. | F99: Rezerve (109+110) | H99: 108 | I99: {=IF(AND(ISBLANK(I100:I101)),"",SUM(I100:I101))} -> 100000 | J99: {=IF(AND(ISBLANK(J100:J101)),"",SUM(J100:J101))} -> 29376
A100: 0.81 | B100: 1.98 | C100: =IF(LEN(I100)=0,"",1+ABS((I100*A100)/LEN(I100))+A100) -> 13501.81 | D100: =IF(LEN(J100)=0,"",1+ABS((J100*B100)/LEN(J100))+B100) -> 11635.876 | E100: 3.1. | F100: Statutarne rezerve | H100: 109 | I100: 100000 | J100: 29376
A101: 0.82 | B101: 1.99 | C101: =IF(LEN(I101)=0,"",1+ABS((I101*A101)/LEN(I101))+A101) | D101: =IF(LEN(J101)=0,"",1+ABS((J101*B101)/LEN(J101))+B101) | E101: 3.2. | F101: Ostale rezerve | H101: 110
A102: 0.83 | B102: 2 | C102: =IF(LEN(I102)=0,"",1+ABS((I102*A102)/LEN(I102))+A102) | D102: =IF(LEN(J102)=0,"",1+ABS((J102*B102)/LEN(J102))+B102) | E102: 4. | F102: Revalorizacione rezerve (112+113+114) | H102: 111 | I102: {=IF(AND(ISBLANK(I103:I105)),"",SUM(I103:I105))} | J102: {=IF(AND(ISBLANK(J103:J105)),"",SUM(J103:J105))}
A103: 0.84 | B103: 2.01 | C103: =IF(LEN(I103)=0,"",1+ABS((I103*A103)/LEN(I103))+A103) | D103: =IF(LEN(J103)=0,"",1+ABS((J103*B103)/LEN(J103))+B103) | E103: 4.1. | F103: Revalorizacione rezerve za nekretnine, postrojenja i opremu | H103: 112
A104: 0.85 | B104: 2.02 | C104: =IF(LEN(I104)=0,"",1+ABS((I104*A104)/LEN(I104))+A104) | D104: =IF(LEN(J104)=0,"",1+ABS((J104*B104)/LEN(J104))+B104) | E104: 4.2. | F104: Revalorizacione rezerve za finansijsku imovinu mjerenu po fer vrijednosti kroz ostali ukupni rezultat | H104: 113
A105: 0.86 | B105: 2.03 | C105: =IF(LEN(I105)=0,"",1+ABS((I105*A105)/LEN(I105))+A105) | D105: =IF(LEN(J105)=0,"",1+ABS((J105*B105)/LEN(J105))+B105) | E105: 4.3. | F105: Ostale revalorizacione rezerve | H105: 114
...

Sheet BU
E1: =BS!E1 -> DUF SAFE INVESTMENT d.o.o. Sarajevo | J1: Obrazac OEI-PD
E2: Naziv emitenta | J2: Tabela C
E3: =BS!E3 -> Danijela Ozme 1, SARAJEVO
E4: Sjedište i adresa emitenta
E5: =BS!E5 -> 66.30
E6: Šifra djelatnosti
E7: =BS!E7 -> 4203333590002
E8: Identifikacioni broj za direktne poreze
E9: =BS!E9 -> 65-01-0415-24
E10: Matični broj
E12: IZVJEŠTAJ O UKUPNOM REZULTATU ZA PERIOD
E13: (BILANS USPJEHA)
E14: za period od 01.01. do 30.06.2026. godine
J15: - u KM -
E16: Redni broj | F16: Pozicija | G16: Bilješka | H16: Oznaka za AOP | I16: Od 01.01. do 30.06. tekuće godine | J16: Od 01.01. do 30.06. prethodne godine
E17: 1 | F17: 2 | G17: 3 | H17: 4 | I17: 5 | J17: 6
F18: BILANS USPJEHA
A19: 0.01 | B19: 1.53 | C19: =IF(LEN(I19)=0,"",1+ABS((I19*A19)/LEN(I19))+A19) -> 561.85667 | D19: =IF(LEN(J19)=0,"",1+ABS((J19*B19)/LEN(J19))+B19) -> 84561.04 | E19: A. | F19: Prihodi iz ugovora s kupcima (202+206+210) | H19: 201 | I19: =IFERROR(IF(AND(I20,I24,I28)="","",SUM(I20,I24,I28)),"") -> 336508 | J19: =IFERROR(IF(AND(J20,J24,J28)="","",SUM(J20,J24,J28)),"") -> 331602
A20: 0.02 | B20: 1.54 | C20: =IF(LEN(I20)=0,"",1+ABS((I20*A20)/LEN(I20))+A20) -> 1122.7133 | D20: =IF(LEN(J20)=0,"",1+ABS((J20*B20)/LEN(J20))+B20) -> 85113.72 | E20: 1. | F20: Prihodi iz ugovora sa povezanim stranama (203 do 205) | H20: 202 | I20: {=IF(AND(ISBLANK(I21:I23)),"",SUM(I21:I23))} -> 336508 | J20: {=IF(AND(ISBLANK(J21:J23)),"",SUM(J21:J23))} -> 331602
A21: 0.03 | B21: 1.55 | C21: =IF(LEN(I21)=0,"",1+ABS((I21*A21)/LEN(I21))+A21) | D21: =IF(LEN(J21)=0,"",1+ABS((J21*B21)/LEN(J21))+B21) | E21: 1.1. | F21: Prihodi od prodaje robe | H21: 203
A22: 0.04 | B22: 1.56 | C22: =IF(LEN(I22)=0,"",1+ABS((I22*A22)/LEN(I22))+A22) | D22: =IF(LEN(J22)=0,"",1+ABS((J22*B22)/LEN(J22))+B22) | E22: 1.2. | F22: Prihodi od prodaje gotovih proizvoda | H22: 204
A23: 0.06 | B23: 1.57 | C23: =IF(LEN(I23)=0,"",1+ABS((I23*A23)/LEN(I23))+A23) -> 3366.14 | D23: =IF(LEN(J23)=0,"",1+ABS((J23*B23)/LEN(J23))+B23) -> 86771.76 | E23: 1.3. | F23: Prihodi od pruženih usluga | H23: 205 | I23: 336508 | J23: 331602
A24: 0.07 | B24: 1.58 | C24: =IF(LEN(I24)=0,"",1+ABS((I24*A24)/LEN(I24))+A24) | D24: =IF(LEN(J24)=0,"",1+ABS((J24*B24)/LEN(J24))+B24) | E24: 2. | F24: Prihodi iz ugovora sa nepovezanim stranama na domaćem tržištu (207 do 209) | H24: 206 | I24: {=IF(AND(ISBLANK(I25:I27)),"",SUM(I25:I27))} | J24: {=IF(AND(ISBLANK(J25:J27)),"",SUM(J25:J27))}
A25: 0.08 | B25: 1.59 | C25: =IF(LEN(I25)=0,"",1+ABS((I25*A25)/LEN(I25))+A25) | D25: =IF(LEN(J25)=0,"",1+ABS((J25*B25)/LEN(J25))+B25) | E25: 2.1. | F25: Prihodi od prodaje robe | H25: 207
A26: 0.09 | B26: 1.6 | C26: =IF(LEN(I26)=0,"",1+ABS((I26*A26)/LEN(I26))+A26) | D26: =IF(LEN(J26)=0,"",1+ABS((J26*B26)/LEN(J26))+B26) | E26: 2.2. | F26: Prihodi od prodaje gotovih proizvoda | H26: 208
A27: 0.1 | B27: 1.61 | C27: =IF(LEN(I27)=0,"",1+ABS((I27*A27)/LEN(I27))+A27) | D27: =IF(LEN(J27)=0,"",1+ABS((J27*B27)/LEN(J27))+B27) | E27: 2.3. | F27: Prihodi od pruženih usluga | H27: 209
A28: 0.11 | B28: 1.62 | C28: =IF(LEN(I28)=0,"",1+ABS((I28*A28)/LEN(I28))+A28) | D28: =IF(LEN(J28)=0,"",1+ABS((J28*B28)/LEN(J28))+B28) | E28: 3. | F28: Prihodi iz ugovora sa nepovezanim stranama na inostranom tržištu (211 do 213) | H28: 210 | I28: {=IF(AND(ISBLANK(I29:I31)),"",SUM(I29:I31))} | J28: {=IF(AND(ISBLANK(J29:J31)),"",SUM(J29:J31))}
A29: 0.12 | B29: 1.63 | C29: =IF(LEN(I29)=0,"",1+ABS((I29*A29)/LEN(I29))+A29) | D29: =IF(LEN(J29)=0,"",1+ABS((J29*B29)/LEN(J29))+B29) | E29: 3.1. | F29: Prihodi od prodaje robe | H29: 211
A30: 0.13 | B30: 1.64 | C30: =IF(LEN(I30)=0,"",1+ABS((I30*A30)/LEN(I30))+A30) | D30: =IF(LEN(J30)=0,"",1+ABS((J30*B30)/LEN(J30))+B30) | E30: 3.2. | F30: Prihodi od prodaje gotovih proizvoda | H30: 212
A31: 0.15 | B31: 1.65 | C31: =IF(LEN(I31)=0,"",1+ABS((I31*A31)/LEN(I31))+A31) | D31: =IF(LEN(J31)=0,"",1+ABS((J31*B31)/LEN(J31))+B31) | E31: 3.3. | F31: Prihodi od pruženih usluga | H31: 213
A32: 0.16 | B32: 1.66 | C32: =IF(LEN(I32)=0,"",1+ABS((I32*A32)/LEN(I32))+A32) -> 11.826667 | D32: =IF(LEN(J32)=0,"",1+ABS((J32*B32)/LEN(J32))+B32) -> 334.66 | E32: B. | F32: Ostali prihodi i dobici (215+230+241+242+243+244+245+246+247+251) | H32: 214 | I32: =IFERROR(IF(AND(I33,I54,I65,I66,I67,I68,I69,I74,I75,I79)="","",SUM(I33,I54,I65,I66,I67,I68,I69,I74,I75,I79)),"") -> 200 | J32: =IFERROR(IF(AND(J33,J54,J65,J66,J67,J68,J69,J74,J75,J79)="","",SUM(J33,J54,J65,J66,J67,J68,J69,J74,J75,J79)),"") -> 600
A33: 0.17 | B33: 1.67 | C33: =IF(LEN(I33)=0,"",1+ABS((I33*A33)/LEN(I33))+A33) | D33: =IF(LEN(J33)=0,"",1+ABS((J33*B33)/LEN(J33))+B33) | E33: 1. | F33: Dobici od dugoročne nefinansijske imovine (216 do 229) | H33: 215 | I33: =IFERROR(IF(AND(I34,I41,I42,I43,I44,I45,I46,I47,I48,I49,I50,I51,I52,I53)="","",SUM(I34,I41,I42,I43,I44,I45,I46,I47,I48,I49,I50,I51,I52,I53)),"") | J33: =IFERROR(IF(AND(J34,J41,J42,J43,J44,J45,J46,J47,J48,J49,J50,J51,J52,J53)="","",SUM(J34,J41,J42,J43,J44,J45,J46,J47,J48,J49,J50,J51,J52,J53)),"")
A34: 0.18 | B34: 1.68 | C34: =IF(LEN(I34)=0,"",1+ABS((I34*A34)/LEN(I34))+A34) | D34: =IF(LEN(J34)=0,"",1+ABS((J34*B34)/LEN(J34))+B34) | E34: 1.1. | F34: Neto dobici od otuđenja nekretnina, postrojenja i opreme | H34: 216
J38: str. 1 od 5
E39: Redni broj | F39: Pozicija | G39: Bilješka | H39: Oznaka za AOP | I39: =I16 -> Od 01.01. do 30.06. tekuće godine | J39: =J16 -> Od 01.01. do 30.06. prethodne godine
E40: 1 | F40: 2 | G40: 3 | H40: 4 | I40: 5 | J40: 6
A41: 0.19 | B41: 1.69 | C41: =IF(LEN(I41)=0,"",1+ABS((I41*A41)/LEN(I41))+A41) | D41: =IF(LEN(J41)=0,"",1+ABS((J41*B41)/LEN(J41))+B41) | E41: 1.2. | F41: Neto dobici od otpuštanja ranije priznatih gubitaka od umanjenja vrijednosti nekretnina, postrojenja i opreme | H41: 217
A42: 0.2 | B42: 1.7 | C42: =IF(LEN(I42)=0,"",1+ABS((I42*A42)/LEN(I42))+A42) | D42: =IF(LEN(J42)=0,"",1+ABS((J42*B42)/LEN(J42))+B42) | E42: 1.3. | F42: Neto dobici od otpuštanja ranije priznatih gubitaka od promjene revalorizovane vrijednosti nekretnina, postrojenja i opreme za koje nije bilo postojećih revalorizacionih rezervi | H42: 218
A43: 0.21 | B43: 1.71 | C43: =IF(LEN(I43)=0,"",1+ABS((I43*A43)/LEN(I43))+A43) | D43: =IF(LEN(J43)=0,"",1+ABS((J43*B43)/LEN(J43))+B43) | E43: 1.4. | F43: Neto dobici od otuđenja ulaganja u investicijske nekretnine | H43: 219
A44: 0.22 | B44: 1.72 | C44: =IF(LEN(I44)=0,"",1+ABS((I44*A44)/LEN(I44))+A44) | D44: =IF(LEN(J44)=0,"",1+ABS((J44*B44)/LEN(J44))+B44) | E44: 1.5. | F44: Neto povećanja vrijednosti ulaganja u investicijske nekretnine koja se vode po fer vrijednosti | H44: 220
A45: 0.23 | B45: 1.73 | C45: =IF(LEN(I45)=0,"",1+ABS((I45*A45)/LEN(I45))+A45) | D45: =IF(LEN(J45)=0,"",1+ABS((J45*B45)/LEN(J45))+B45) | E45: 1.6. | F45: Neto dobici od otpuštanja ranije priznatih gubitaka od umanjenja vrijednosti investicijskih nekretnina | H45: 221
A46: 0.24 | B46: 1.74 | C46: =IF(LEN(I46)=0,"",1+ABS((I46*A46)/LEN(I46))+A46) | D46: =IF(LEN(J46)=0,"",1+ABS((J46*B46)/LEN(J46))+B46) | E46: 1.7. | F46: Neto dobici od otuđenja nematerijalne imovine | H46: 222
A47: 0.25 | B47: 1.75 | C47: =IF(LEN(I47)=0,"",1+ABS((I47*A47)/LEN(I47))+A47) | D47: =IF(LEN(J47)=0,"",1+ABS((J47*B47)/LEN(J47))+B47) | E47: 1.8. | F47: Neto dobici od otpuštanja ranije priznatih gubitaka od umanjenja vrijednosti nematerijalne imovine | H47: 223
A48: 0.26 | B48: 1.76 | C48: =IF(LEN(I48)=0,"",1+ABS((I48*A48)/LEN(I48))+A48) | D48: =IF(LEN(J48)=0,"",1+ABS((J48*B48)/LEN(J48))+B48) | E48: 1.9. | F48: Neto dobici od prestanka priznavanja imovine s pravom korištenja | H48: 224
A49: 0.27 | B49: 1.77 | C49: =IF(LEN(I49)=0,"",1+ABS((I49*A49)/LEN(I49))+A49) | D49: =IF(LEN(J49)=0,"",1+ABS((J49*B49)/LEN(J49))+B49) | E49: 1.10. | F49: Neto dobici od otuđenja biološke imovine | H49: 225
A50: 0.28 | B50: 1.78 | C50: =IF(LEN(I50)=0,"",1+ABS((I50*A50)/LEN(I50))+A50) | D50: =IF(LEN(J50)=0,"",1+ABS((J50*B50)/LEN(J50))+B50) | E50: 1.11. | F50: Neto povećanja vrijednosti biološke imovine koja se vodi po fer vrijednosti | H50: 226
A51: 0.29 | B51: 1.79 | C51: =IF(LEN(I51)=0,"",1+ABS((I51*A51)/LEN(I51))+A51) | D51: =IF(LEN(J51)=0,"",1+ABS((J51*B51)/LEN(J51))+B51) | E51: 1.12. | F51: Neto dobici od otpuštanja ranije priznatih gubitaka od umanjenja vrijednosti biološke imovine | H51: 227
A52: 0.3 | B52: 1.8 | C52: =IF(LEN(I52)=0,"",1+ABS((I52*A52)/LEN(I52))+A52) | D52: =IF(LEN(J52)=0,"",1+ABS((J52*B52)/LEN(J52))+B52) | E52: 1.13. | F52: Neto dobici od dugoročne imovine namijenjene prodaji | H52: 228
A53: 0.31 | B53: 1.81 | C53: =IF(LEN(I53)=0,"",1+ABS((I53*A53)/LEN(I53))+A53) | D53: =IF(LEN(J53)=0,"",1+ABS((J53*B53)/LEN(J53))+B53) | E53: 1.14. | F53: Ostali neto dobici od otpuštanja ranije priznatih gubitaka od umanjenja vrijednosti dugoročne nefinansijske imovine | H53: 229
A54: 0.32 | B54: 1.82 | C54: =IF(LEN(I54)=0,"",1+ABS((I54*A54)/LEN(I54))+A54) | D54: =IF(LEN(J54)=0,"",1+ABS((J54*B54)/LEN(J54))+B54) | E54: 2. | F54: Dobici od finansijske imovine (231 do 240) | H54: 230 | I54: {=IF(AND(ISBLANK(I55:I64)),"",SUM(I55:I64))} | J54: {=IF(AND(ISBLANK(J55:J64)),"",SUM(J55:J64))}
A55: 0.33 | B55: 1.83 | C55: =IF(LEN(I55)=0,"",1+ABS((I55*A55)/LEN(I55))+A55) | D55: =IF(LEN(J55)=0,"",1+ABS((J55*B55)/LEN(J55))+B55) | E55: 2.1. | F55: Neto otpuštanja ranije priznatih kreditnih gubitaka od finansijske imovine po amortizovanom trošku | H55: 231
A56: 0.34 | B56: 1.84 | C56: =IF(LEN(I56)=0,"",1+ABS((I56*A56)/LEN(I56))+A56) | D56: =IF(LEN(J56)=0,"",1+ABS((J56*B56)/LEN(J56))+B56) | E56: 2.2. | F56: Neto otpuštanja ranije priznatih kreditnih gubitaka od finansijske imovine po fer vrijednosti kroz ostali ukupni rezultat | H56: 232
A57: 0.35 | B57: 1.85 | C57: =IF(LEN(I57)=0,"",1+ABS((I57*A57)/LEN(I57))+A57) | D57: =IF(LEN(J57)=0,"",1+ABS((J57*B57)/LEN(J57))+B57) | E57: 2.3. | F57: Neto dobici od prestanka priznavanja finansijske imovine po amortizovanom trošku | H57: 233
A58: 0.36 | B58: 1.86 | C58: =IF(LEN(I58)=0,"",1+ABS((I58*A58)/LEN(I58))+A58) | D58: =IF(LEN(J58)=0,"",1+ABS((J58*B58)/LEN(J58))+B58) | E58: 2.4. | F58: Neto dobici od modifikacija finansijske imovine po amortizovanom trošku koje nisu rezultirale prestankom priznavanja | H58: 234
A59: 0.37 | B59: 1.87 | C59: =IF(LEN(I59)=0,"",1+ABS((I59*A59)/LEN(I59))+A59) | D59: =IF(LEN(J59)=0,"",1+ABS((J59*B59)/LEN(J59))+B59) | E59: 2.5. | F59: Neto dobici od otuđenja finansijske imovine po amortizovanom trošku | H59: 235
A60: 0.38 | B60: 1.88 | C60: =IF(LEN(I60)=0,"",1+ABS((I60*A60)/LEN(I60))+A60) | D60: =IF(LEN(J60)=0,"",1+ABS((J60*B60)/LEN(J60))+B60) | E60: 2.6. | F60: Neto povećanja vrijednosti finansijske imovine po fer vrijednosti kroz bilans uspjeha | H60: 236
A61: 0.39 | B61: 1.89 | C61: =IF(LEN(I61)=0,"",1+ABS((I61*A61)/LEN(I61))+A61) | D61: =IF(LEN(J61)=0,"",1+ABS((J61*B61)/LEN(J61))+B61) | E61: 2.7. | F61: Neto dobici od otuđenja finansijske imovine po fer vrijednosti kroz bilans uspjeha | H61: 237
A62: 0.4 | B62: 1.9 | C62: =IF(LEN(I62)=0,"",1+ABS((I62*A62)/LEN(I62))+A62) | D62: =IF(LEN(J62)=0,"",1+ABS((J62*B62)/LEN(J62))+B62) | E62: 2.8. | F62: Neto dobici od otuđenja finansijske imovine po fer vrijednosti kroz ostali ukupni rezultat | H62: 238
A63: 0.41 | B63: 1.91 | C63: =IF(LEN(I63)=0,"",1+ABS((I63*A63)/LEN(I63))+A63) | D63: =IF(LEN(J63)=0,"",1+ABS((J63*B63)/LEN(J63))+B63) | E63: 2.9. | F63: Neto dobici od reklasifikacija finansijske imovine između poslovnih modela | H63: 239
A64: 0.42 | B64: 1.92 | C64: =IF(LEN(I64)=0,"",1+ABS((I64*A64)/LEN(I64))+A64) | D64: =IF(LEN(J64)=0,"",1+ABS((J64*B64)/LEN(J64))+B64) | E64: 2.10 | F64: Ostali neto dobici od finansijske imovine | H64: 240
A65: 0.43 | B65: 1.93 | C65: =IF(LEN(I65)=0,"",1+ABS((I65*A65)/LEN(I65))+A65) | D65: =IF(LEN(J65)=0,"",1+ABS((J65*B65)/LEN(J65))+B65) | E65: 3. | F65: Neto otpuštanja rezervisanja | H65: 241
A66: 0.44 | B66: 1.94 | C66: =IF(LEN(I66)=0,"",1+ABS((I66*A66)/LEN(I66))+A66) | D66: =IF(LEN(J66)=0,"",1+ABS((J66*B66)/LEN(J66))+B66) | E66: 4. | F66: Neto dobici od trgovanja derivatima | H66: 242
... A69: 0.47 | B69: 1.97 | C69: =IF(LEN(I69)=0,"",1+ABS((I69*A69)/LEN(I69))+A69) | D69: =IF(LEN(J69)=0,"",1+ABS((J69*B69)/LEN(J69))+B69) | E69: 7. | F69: Prihodi od dividendi | H69: 245
J71: str. 2 od 5
E72: Redni broj | F72: Pozicija | G72: Bilješka | H72: Oznaka za AOP | I72: =I16 -> Od 01.01. do 30.06. tekuće godine | J72: =J16 -> Od 01.01. do 30.06. prethodne godine
E73: 1 | F73: 2 | G73: 3 | H73: 4 | I73: 5 | J73: 6
A74: 0.48 | B74: 1.98 | C74: =IF(LEN(I74)=0,"",1+ABS((I74*A74)/LEN(I74))+A74) | D74: =IF(LEN(J74)=0,"",1+ABS((J74*B74)/LEN(J74))+B74) | E74: 8. | F74: Udio u dobiti pridruženog društva i zajedničkog poduhvata primjenom metode udjela | H74: 246
A75: 0.49 | B75: 1.99 | C75: =IF(LEN(I75)=0,"",1+ABS((I75*A75)/LEN(I75))+A75) | D75: =IF(LEN(J75)=0,"",1+ABS((J75*B75)/LEN(J75))+B75) | E75: 9. | F75: Finansijski prihodi (248+249+250) | H75: 247 | I75: {=IF(AND(ISBLANK(I76:I78)),"",SUM(I76:I78))} | J75: {=IF(AND(ISBLANK(J76:J78)),"",SUM(J76:J78))}
A76: 0.5 | B76: 2 | C76: =IF(LEN(I76)=0,"",1+ABS((I76*A76)/LEN(I76))+A76) | D76: =IF(LEN(J76)=0,"",1+ABS((J76*B76)/LEN(J76))+B76) | E76: 9.1. | F76: Prihodi od kamata | H76: 248
A77: 0.51 | B77: 2.01 | C77: =IF(LEN(I77)=0,"",1+ABS((I77*A77)/LEN(I77))+A77) | D77: =IF(LEN(J77)=0,"",1+ABS((J77*B77)/LEN(J77))+B77) | E77: 9.2. | F77: Neto pozitivne kursne razlike | H77: 249
A78: 0.52 | B78: 2.02 | C78: =IF(LEN(I78)=0,"",1+ABS((I78*A78)/LEN(I78))+A78) | D78: =IF(LEN(J78)=0,"",1+ABS((J78*B78)/LEN(J78))+B78) | E78: 9.3. | F78: Ostali finansijski prihodi | H78: 250
A79: 0.53 | B79: 2.03 | C79: =IF(LEN(I79)=0,"",1+ABS((I79*A79)/LEN(I79))+A79) -> 36.863333 | D79: =IF(LEN(J79)=0,"",1+ABS((J79*B79)/LEN(J79))+B79) -> 409.03 | E79: 10. | F79: Ostali prihodi i dobici | H79: 251 | I79: 200 | J79: 600
A80: 0.54 | B80: 2.04 | C80: =IF(LEN(I80)=0,"",1+ABS((I80*A80)/LEN(I80))+A80) -> 30305.26 | D80: =IF(LEN(J80)=0,"",1+ABS((J80*B80)/LEN(J80))+B80) -> 112951.72 | E80: C. | F80: Ukupno prihodi (201+214) | H80: 252 | I80: =IFERROR(IF(AND(I19,I32)="","",SUM(I19,I32)),"") -> 336708 | J80: =IFERROR(IF(AND(J19,J32)="","",SUM(J19,J32)),"") -> 332202
A81: 0.55 | B81: 2.05 | C81: =IF(LEN(I81)=0,"",1+ABS((I81*A81)/LEN(I81))+A81) -> 18449.375 | D81: =IF(LEN(J81)=0,"",1+ABS((J81*B81)/LEN(J81))+B81) -> 74406.433 | E81: D. | F81: Poslovni rashodi (254+255+256+257+258+262+269+270) | H81: 253 | I81: =IFERROR(IF(AND(I82,I83,I84,I85,I86,I90,I97,I98)="","",SUM(I82,I83,I84,I85,I86,I90,I97,I98)),"") -> 201249 | J81: =IFERROR(IF(AND(J82,J83,J84,J85,J86,J90,J97,J98)="","",SUM(J82,J83,J84,J85,J86,J90,J97,J98)),"") -> 217766
A82: 0.56 | B82: 2.06 | C82: =IF(LEN(I82)=0,"",1+ABS((I82*A82)/LEN(I82))+A82) | D82: =IF(LEN(J82)=0,"",1+ABS((J82*B82)/LEN(J82))+B82) | E82: 1. | F82: Nabavna vrijednost prodate robe | H82: 254
A83: 0.57 | B83: 2.07 | C83: =IF(LEN(I83)=0,"",1+ABS((I83*A83)/LEN(I83))+A83) | D83: =IF(LEN(J83)=0,"",1+ABS((J83*B83)/LEN(J83))+B83) | E83: 2. | F83: Promjene u zalihama gotovih proizvoda, poluproizvoda i proizvodnje u toku, neto (+) / (-) | H83: 255
A84: 0.58 | B84: 2.08 | C84: =IF(LEN(I84)=0,"",1+ABS((I84*A84)/LEN(I84))+A84) -> 37.153333 | D84: =IF(LEN(J84)=0,"",1+ABS((J84*B84)/LEN(J84))+B84) -> 227.72 | E84: 3. | F84: Troškovi sirovina i materijala | H84: 256 | I84: 184 | J84: 324
A85: 0.59 | B85: 2.09 | C85: =IF(LEN(I85)=0,"",1+ABS((I85*A85)/LEN(I85))+A85) -> 337.005 | D85: =IF(LEN(J85)=0,"",1+ABS((J85*B85)/LEN(J85))+B85) -> 1098.25 | E85: 4. | F85: Troškovi energije i goriva | H85: 257 | I85: 2274 | J85: 2096
A86: 0.6 | B86: 2.1 | C86: =IF(LEN(I86)=0,"",1+ABS((I86*A86)/LEN(I86))+A86) -> 14295.8 | D86: =IF(LEN(J86)=0,"",1+ABS((J86*B86)/LEN(J86))+B86) -> 56077.3 | E86: 5. | F86: Troškovi plaća i ostalih ličnih primanja (259 do 261) | H86: 258 | I86: {=IF(AND(ISBLANK(I87:I89)),"",SUM(I87:I89))} -> 142942 | J86: {=IF(AND(ISBLANK(J87:J89)),"",SUM(J87:J89))} -> 160212
A87: 0.61 | B87: 2.11 | C87: =IF(LEN(I87)=0,"",1+ABS((I87*A87)/LEN(I87))+A87) -> 11281.628 | D87: =IF(LEN(J87)=0,"",1+ABS((J87*B87)/LEN(J87))+B87) -> 40180.675 | E87: 5.1. | F87: Bruto plaće zaposlenih | H87: 259 | I87: 110951 | J87: 114249
A88: 0.62 | B88: 2.12 | C88: =IF(LEN(I88)=0,"",1+ABS((I88*A88)/LEN(I88))+A88) -> 1716.912 | D88: =IF(LEN(J88)=0,"",1+ABS((J88*B88)/LEN(J88))+B88) -> 4926.184 | E88: 5.2. | F88: Ostale naknade zaposlenih | H88: 260 | I88: 13833 | J88: 11611
A89: 0.63 | B89: 2.13 | C89: =IF(LEN(I89)=0,"",1+ABS((I89*A89)/LEN(I89))+A89) -> 2289.538 | D89: =IF(LEN(J89)=0,"",1+ABS((J89*B89)/LEN(J89))+B89) -> 14637.082 | E89: 5.3. | F89: Troškovi ostalih angažovanih fizičkih lica, uključujući članove odbora | H89: 261 | I89: 18158 | J89: 34352
A90: 0.64 | B90: 2.14 | C90: =IF(LEN(I90)=0,"",1+ABS((I90*A90)/LEN(I90))+A90) -> 385.96 | D90: =IF(LEN(J90)=0,"",1+ABS((J90*B90)/LEN(J90))+B90) -> 1050.135 | E90: 6. | F90: Amortizacija (263 do 268) | H90: 262 | I90: {=IF(AND(ISBLANK(I91:I96)),"",SUM(I91:I96))} -> 2402 | J90: {=IF(AND(ISBLANK(J91:J96)),"",SUM(J91:J96))} -> 1957
A91: 0.65 | B91: 2.15 | C91: =IF(LEN(I91)=0,"",1+ABS((I91*A91)/LEN(I91))+A91) -> 334.45 | D91: =IF(LEN(J91)=0,"",1+ABS((J91*B91)/LEN(J91))+B91) -> 864.7625 | E91: 6.1. | F91: Nekretnine, postrojenja i oprema | H91: 263 | I91: 2048 | J91: 1603
A92: 0.66 | B92: 2.16 | C92: =IF(LEN(I92)=0,"",1+ABS((I92*A92)/LEN(I92))+A92) | D92: =IF(LEN(J92)=0,"",1+ABS((J92*B92)/LEN(J92))+B92) | E92: 6.2. | F92: Investicijske nekretnine | H92: 264
A93: 0.67 | B93: 2.17 | C93: =IF(LEN(I93)=0,"",1+ABS((I93*A93)/LEN(I93))+A93) | D93: =IF(LEN(J93)=0,"",1+ABS((J93*B93)/LEN(J93))+B93) | E93: 6.3. | F93: Imovina s pravom korištenja | H93: 265
A94: 0.68 | B94: 2.18 | C94: =IF(LEN(I94)=0,"",1+ABS((I94*A94)/LEN(I94))+A94) -> 81.92 | D94: =IF(LEN(J94)=0,"",1+ABS((J94*B94)/LEN(J94))+B94) -> 260.42 | E94: 6.4. | F94: Nematerijalna imovina | H94: 266 | I94: 354 | J94: 354
A95: 0.69 | B95: 2.19 | C95: =IF(LEN(I95)=0,"",1+ABS((I95*A95)/LEN(I95))+A95) | D95: =IF(LEN(J95)=0,"",1+ABS((J95*B95)/LEN(J95))+B95) | E95: 6.5. | F95: Biološka imovina | H95: 267
A96: 0.7 | B96: 2.2 | C96: =IF(LEN(I96)=0,"",1+ABS((I96*A96)/LEN(I96))+A96) | D96: =IF(LEN(J96)=0,"",1+ABS((J96*B96)/LEN(J96))+B96) | E96: 6.6. | F96: Ostala dugoročna imovina po osnovu ugovora sa kupcima | H96: 268
A97: 0.71 | B97: 2.21 | C97: =IF(LEN(I97)=0,"",1+ABS((I97*A97)/LEN(I97))+A97) -> 6423.66 | D97: =IF(LEN(J97)=0,"",1+ABS((J97*B97)/LEN(J97))+B97) -> 19372.534 | E97: 7. | F97: Troškovi primljenih usluga | H97: 269 | I97: 45225 | J97: 43822
A98: 0.72 | B98: 2.22 | C98: =IF(LEN(I98)=0,"",1+ABS((I98*A98)/LEN(I98))+A98) -> 1481.68 | D98: =IF(LEN(J98)=0,"",1+ABS((J98*B98)/LEN(J98))+B98) -> 5195.245 | E98: 8. | F98: Ostali poslovni rashodi i troškovi | H98: 270 | I98: 8222 | J98: 9355
A99: 0.73 | B99: 2.23 | C99: =IF(LEN(I99)=0,"",1+ABS((I99*A99)/LEN(I99))+A99) | D99: =IF(LEN(J99)=0,"",1+ABS((J99*B99)/LEN(J99))+B99) | E99: E. | F99: Ostali rashodi i gubici (272+287+298+299+300+301+302+303+304+308) | H99: 271 | I99: =IFERROR(IF(AND(I100,I119,I130,I131,I132,I133,I134,I135,I136,I140)="","",SUM(I100,I119,I130,I131,I132,I133,I134,I135,I136,I140)),"") | J99: =IFERROR(IF(AND(J100,J119,J130,J131,J132,J133,J134,J135,J136,J140)="","",SUM(J100,J119,J130,J131,J132,J133,J134,J135,J136,J140)),"")
A100: 0.74 | B100: 2.24 | C100: =IF(LEN(I100)=0,"",1+ABS((I100*A100)/LEN(I100))+A100) | D100: =IF(LEN(J100)=0,"",1+ABS((J100*B100)/LEN(J100))+B100) | E100: 1. | F100: Gubici od dugoročne nefinansijske imovine (273 do 286) | H100: 272 | I100: =IFERROR(IF(AND(I101,I102,I103,I104,I105,I106,I107,I108,I113,I114,I115,I116,I117,I118)="","",SUM(I101,I102,I103,I104,I105,I106,I107,I108,I113,I114,I115,I116,I117,I118)),"") | J100: =IFERROR(IF(AND(J101,J102,J103,J104,J105,J106,J107,J108,J113,J114,J115,J116,J117,J118)="","",SUM(J101,J102,J103,J104,J105,J106,J107,J108,J113,J114,J115,J116,J117,J118)),"")
A101: 0.75 | B101: 2.25 | C101: =IF(LEN(I101)=0,"",1+ABS((I101*A101)/LEN(I101))+A101) | D101: =IF(LEN(J101)=0,"",1+ABS((J101*B101)/LEN(J101))+B101) | E101: 1.1. | F101: Neto gubici od otuđenja nekretnina, postrojenja i opreme | H101: 273
A102: 0.76 | B102: 2.26 | C102: =IF(LEN(I102)=0,"",1+ABS((I102*A102)/LEN(I102))+A102) | D102: =IF(LEN(J102)=0,"",1+ABS((J102*B102)/LEN(J102))+B102) | E102: 1.2. | F102: Neto gubici od umanjenja vrijednosti nekretnina, postrojenja i opreme | H102: 274
A103: 0.77 | B103: 2.27 | C103: =IF(LEN(I103)=0,"",1+ABS((I103*A103)/LEN(I103))+A103) | D103: =IF(LEN(J103)=0,"",1+ABS((J103*B103)/LEN(J103))+B103) | E103: 1.3. | F103: Neto gubici od promjene revalorizovane vrijednosti nekretnina, postrojenja i opreme za koje nema postojećih revalorizacionih rezervi | H103: 275
A104: 0.78 | B104: 2.28 | C104: =IF(LEN(I104)=0,"",1+ABS((I104*A104)/LEN(I104))+A104) | D104: =IF(LEN(J104)=0,"",1+ABS((J104*B104)/LEN(J104))+B104) | E104: 1.4. | F104: Neto gubici od otuđenja ulaganja u investicijske nekretnine | H104: 276
A105: 0.79 | B105: 2.29 | C105: =IF(LEN(I105)=0,"",1+ABS((I105*A105)/LEN(I105))+A105) | D105: =IF(LEN(J105)=0,"",1+ABS((J105*B105)/LEN(J105))+B105) | E105: 1.5. | F105: Neto smanjenja vrijednosti ulaganja u investicijske nekretnine koja se vode po fer vrijednosti | H105: 277
A106: 0.8 | B106: 2.3 | C106: =IF(LEN(I106)=0,"",1+ABS((I106*A106)/LEN(I106))+A106) | D106: =IF(LEN(J106)=0,"",1+ABS((J106*B106)/LEN(J106))+B106) | E106: 1.6. | F106: Neto gubici od umanjenja vrijednosti investicijskih nekretnina | H106: 278
A107: 0.81 | B107: 2.31 | C107: =IF(LEN(I107)=0,"",1+ABS((I107*A107)/LEN(I107))+A107) | D107: =IF(LEN(J107)=0,"",1+ABS((J107*B107)/LEN(J107))+B107) | E107: 1.7. | F107: Neto gubici od otuđenja nematerijalne imovine | H107: 279
...

Sheet GTDIR
E1: =BS!E1 -> DUF SAFE INVESTMENT d.o.o. Sarajevo | K1: Obrazac OEI-PD
E2: Naziv emitenta | K2: Tabela D
E3: =BS!E3 -> Danijela Ozme 1, SARAJEVO
E4: Sjedište i adresa emitenta
E5: =BS!E5 -> 66.30
E6: Šifra djelatnosti
E7: =BS!E7 -> 4203333590002
E8: Identifikacioni broj za direktne poreze
E9: =BS!E9 -> 65-01-0415-24
E10: Matični broj
E12: IZVJEŠTAJ O TOKOVIMA GOTOVINE
E13: (IZVJEŠTAJ O GOTOVINSKIM TOKOVIMA)
E14: (Direktna metoda)
E15: za period od 01.01. do 30.06.2026. godine
K16: - u KM -
E17: Redni broj | F17: Pozicija | G17: Bilješka | H17: Oznaka (+)/(-) | I17: Oznaka za AOP | J17: Od 01.01. do 30.06. tekuće godine | K17: Od 01.01. do 30.06. prethodne godine
E18: 1 | F18: 2 | G18: 3 | H18: 4 | I18: 5 | J18: 6 | K18: 7
E20: 1. | F20: GOTOVINSKI TOKOVI IZ POSLOVNIH AKTIVNOSTI
A21: 0.01 | B21: 0.57 | C21: =IF(LEN(J21)=0,"",1+ABS((J21*A21)/LEN(J21))+A21) -> 463.56333 | D21: =IF(LEN(K21)=0,"",1+ABS((K21*B21)/LEN(K21))+B21) -> 31514.78 | E21: 1.1. | F21: Prilivi od kupaca | H21: ( + ) | I21: 401 | J21: 277532 | K21: 331718
A22: 0.02 | B22: 0.58 | C22: =IF(LEN(J22)=0,"",1+ABS((J22*A22)/LEN(J22))+A22) -> 358.02 | D22: =IF(LEN(K22)=0,"",1+ABS((K22*B22)/LEN(K22))+B22) -> 10104.351 | E22: 1.2. | F22: Odlivi po osnovu plaćanja zaposlenima | H22: ( - ) | I22: 402 | J22: -124950 | K22: -121930
A23: 0.03 | B23: 0.59 | C23: =IF(LEN(J23)=0,"",1+ABS((J23*A23)/LEN(J23))+A23) -> 225.98 | D23: =IF(LEN(K23)=0,"",1+ABS((K23*B23)/LEN(K23))+B23) -> 4124.7067 | E23: 1.3. | F23: Odlivi po osnovu plaćanja dobavljačima, po osnovu poslovnih aktivnosti | H23: ( - ) | I23: 403 | J23: -44990 | K23: -41930
A24: 0.04 | B24: 0.6 | C24: =IF(LEN(J24)=0,"",1+ABS((J24*A24)/LEN(J24))+A24) -> 200.70667 | D24: =IF(LEN(K24)=0,"",1+ABS((K24*B24)/LEN(K24))+B24) -> 1739.8 | E24: 1.4. | F24: Odlivi po osnovu ostalih troškova, nastalih po osnovu poslovnih aktivnosti | H24: ( - ) | I24: 404 | J24: -29950 | K24: -17382
A25: 0.05 | B25: 0.61 | C25: =IF(LEN(J25)=0,"",1+ABS((J25*A25)/LEN(J25))+A25) | D25: =IF(LEN(K25)=0,"",1+ABS((K25*B25)/LEN(K25))+B25) | E25: 1.5. | F25: Odlivi po osnovu plaćanja poreza na dobit | H25: ( - ) | I25: 405
A26: 0.06 | B26: 0.62 | C26: =IF(LEN(J26)=0,"",1+ABS((J26*A26)/LEN(J26))+A26) -> 5.06 | D26: =IF(LEN(K26)=0,"",1+ABS((K26*B26)/LEN(K26))+B26) -> 125.62 | E26: 1.6. | F26: Ostali prilivi iz poslovnih aktivnosti | H26: ( + ) | I26: 406 | J26: 200 | K26: 600
A27: 0.07 | B27: 0.63 | C27: =IF(LEN(J27)=0,"",1+ABS((J27*A27)/LEN(J27))+A27) | D27: =IF(LEN(K27)=0,"",1+ABS((K27*B27)/LEN(K27))+B27) | E27: 1.7. | F27: Ostali odlivi iz poslovnih aktivnosti | H27: ( - ) | I27: 407
A28: 0.08 | B28: 0.64 | C28: =IF(LEN(J28)=0,"",1+ABS((J28*A28)/LEN(J28))+A28) -> 1246.552 | D28: =IF(LEN(K28)=0,"",1+ABS((K28*B28)/LEN(K28))+B28) -> 16116.413 | E28: A. | F28: Neto gotovinski tok koji je generisan/(korišten) u poslovnim aktivnostima (401 do 407) | H28: ( + ) ( - ) | I28: 408 | J28: {=IF(AND(ISBLANK(J21:J27)),"",SUM(J21:J27))} -> 77842 | K28: {=IF(AND(ISBLANK(K21:K27)),"",SUM(K21:K27))} -> 151076
E30: 2. | F30: GOTOVINSKI TOKOVI IZ ULAGAČKIH AKTIVNOSTI
A31: 0.09 | B31: 0.65 | C31: =IF(LEN(#REF!)=0,"",1+ABS((#REF!*A31)/LEN(#REF!))+A31) -> #REF! | D31: =IF(LEN(K31)=0,"",1+ABS((K31*B31)/LEN(K31))+B31) | E31: 2.1. | F31: Odlivi po osnovu kupovine nekretnina, postrojenja i opreme | H31: ( - ) | I31: 409 | J31: -6240
A32: 0.1 | B32: 0.66 | C32: =IF(LEN(J31)=0,"",1+ABS((J31*A32)/LEN(J31))+A32) -> 125.9 | D32: =IF(LEN(K32)=0,"",1+ABS((K32*B32)/LEN(K32))+B32) | E32: 2.2. | F32: Prilivi po osnovu prodaje nekretnina, postrojenja i opreme | H32: ( + ) | I32: 410
A33: 0.11 | B33: 0.67 | C33: =IF(LEN(J33)=0,"",1+ABS((J33*A33)/LEN(J33))+A33) | D33: =IF(LEN(K33)=0,"",1+ABS((K33*B33)/LEN(K33))+B33) | E33: 2.3. | F33: Odlivi po osnovu kupovine investicijskih nekretnina | H33: ( - ) | I33: 411
A34: 0.12 | B34: 0.68 | C34: =IF(LEN(J34)=0,"",1+ABS((J34*A34)/LEN(J34))+A34) | D34: =IF(LEN(K34)=0,"",1+ABS((K34*B34)/LEN(K34))+B34) | E34: 2.4. | F34: Prilivi po osnovu prodaje investicijskih nekretnina | H34: ( + ) | I34: 412
A35: 0.13 | B35: 0.69 | C35: =IF(LEN(J35)=0,"",1+ABS((J35*A35)/LEN(J35))+A35) | D35: =IF(LEN(K35)=0,"",1+ABS((K35*B35)/LEN(K35))+B35) | E35: 2.5. | F35: Odlivi po osnovu kupovine nematerijalne imovine | H35: ( - ) | I35: 413
A36: 0.14 | B36: 0.7 | C36: =IF(LEN(J36)=0,"",1+ABS((J36*A36)/LEN(J36))+A36) | D36: =IF(LEN(K36)=0,"",1+ABS((K36*B36)/LEN(K36))+B36) | E36: 2.6. | F36: Prilivi po osnovu prodaje nematerijalne imovine | H36: ( + ) | I36: 414
K39: str. 1 od 3
E40: Redni broj | F40: Pozicija | G40: Bilješka | H40: Oznaka (+)/(-) | I40: Oznaka za AOP | J40: =J17 -> Od 01.01. do 30.06. tekuće godine | K40: =K17 -> Od 01.01. do 30.06. prethodne godine
E41: 1 | F41: 2 | G41: 3 | H41: 4 | I41: 5 | J41: 6 | K41: 7
A42: 0.15 | B42: 0.71 | C42: =IF(LEN(J42)=0,"",1+ABS((J42*A42)/LEN(J42))+A42) | D42: =IF(LEN(K42)=0,"",1+ABS((K42*B42)/LEN(K42))+B42) | E42: 2.7. | F42: Odlivi po osnovu kupovine biološke imovine | H42: ( - ) | I42: 415
A43: 0.16 | B43: 0.72 | C43: =IF(LEN(J43)=0,"",1+ABS((J43*A43)/LEN(J43))+A43) | D43: =IF(LEN(K43)=0,"",1+ABS((K43*B43)/LEN(K43))+B43) | E43: 2.8. | F43: Prilivi po osnovu prodaje biološke imovine | H43: ( + ) | I43: 416
A44: 0.17 | B44: 0.73 | C44: =IF(LEN(J44)=0,"",1+ABS((J44*A44)/LEN(J44))+A44) | D44: =IF(LEN(K44)=0,"",1+ABS((K44*B44)/LEN(K44))+B44) | E44: 2.9. | F44: Prilivi po osnovu prodaje dugoročne imovine namijenjene prodaji | H44: ( + ) | I44: 417
A45: 0.18 | B45: 0.74 | C45: =IF(LEN(J45)=0,"",1+ABS((J45*A45)/LEN(J45))+A45) | D45: =IF(LEN(K45)=0,"",1+ABS((K45*B45)/LEN(K45))+B45) | E45: 2.10. | F45: Ulaganja u finansijsku imovinu po fer vrijednosti kroz ostali ukupni rezultat | H45: ( - ) | I45: 418
A46: 0.19 | B46: 0.75 | C46: =IF(LEN(J46)=0,"",1+ABS((J46*A46)/LEN(J46))+A46) | D46: =IF(LEN(K46)=0,"",1+ABS((K46*B46)/LEN(K46))+B46) | E46: 2.11. | F46: Prilivi od finansijske imovine po fer vrijednosti kroz ostali ukupni rezultat | H46: ( + ) | I46: 419
A47: 0.2 | B47: 0.76 | C47: =IF(LEN(J47)=0,"",1+ABS((J47*A47)/LEN(J47))+A47) | D47: =IF(LEN(K47)=0,"",1+ABS((K47*B47)/LEN(K47))+B47) | E47: 2.12. | F47: Ulaganja u finansijsku imovinu po fer vrijednosti kroz bilans uspjeha | H47: ( - ) | I47: 420
A48: 0.21 | B48: 0.77 | C48: =IF(LEN(J48)=0,"",1+ABS((J48*A48)/LEN(J48))+A48) | D48: =IF(LEN(K48)=0,"",1+ABS((K48*B48)/LEN(K48))+B48) | E48: 2.13. | F48: Prilivi od finansijske imovine po fer vrijednosti kroz bilans uspjeha | H48: ( + ) | I48: 421
A49: 0.22 | B49: 0.78 | C49: =IF(LEN(J49)=0,"",1+ABS((J49*A49)/LEN(J49))+A49) | D49: =IF(LEN(K49)=0,"",1+ABS((K49*B49)/LEN(K49))+B49) | E49: 2.14. | F49: Ulaganja u ostalu finansijsku imovinu po amortizovanom trošku | H49: ( - ) | I49: 422
A50: 0.23 | B50: 0.79 | C50: =IF(LEN(J50)=0,"",1+ABS((J50*A50)/LEN(J50))+A50) | D50: =IF(LEN(K50)=0,"",1+ABS((K50*B50)/LEN(K50))+B50) | E50: 2.15. | F50: Prilivi od ostale finansijske imovine po amortizovanom trošku | H50: ( + ) | I50: 423
A51: 0.24 | B51: 0.8 | C51: =IF(LEN(J51)=0,"",1+ABS((J51*A51)/LEN(J51))+A51) | D51: =IF(LEN(K51)=0,"",1+ABS((K51*B51)/LEN(K51))+B51) | E51: 2.16. | F51: Primljena kamata i prihod od finansijskog najma | H51: ( + ) | I51: 424
A52: 0.25 | B52: 0.81 | C52: =IF(LEN(J52)=0,"",1+ABS((J52*A52)/LEN(J52))+A52) | D52: =IF(LEN(K52)=0,"",1+ABS((K52*B52)/LEN(K52))+B52) | E52: 2.17. | F52: Naplaćena potraživanja od finansijskog najma | H52: ( + ) | I52: 425
A53: 0.26 | B53: 0.82 | C53: =IF(LEN(J53)=0,"",1+ABS((J53*A53)/LEN(J53))+A53) | D53: =IF(LEN(K53)=0,"",1+ABS((K53*B53)/LEN(K53))+B53) | E53: 2.18. | F53: Naplaćena potraživanja od finansijskog podnajma | H53: ( + ) | I53: 426
... A64: 0.37 | B64: 0.93 | C64: =IF(LEN(J64)=0,"",1+ABS((J64*A64)/LEN(J64))+A64) | D64: =IF(LEN(K64)=0,"",1+ABS((K64*B64)/LEN(K64))+B64) | E64: 2.29. | F64: Ostali odlivi iz ulagačkih aktivnosti | H64: ( - ) | I64: 437
A65: 0.38 | B65: 0.94 | C65: =IF(LEN(J65)=0,"",1+ABS((J65*A65)/LEN(J65))+A65) -> 475.62 | D65: =IF(LEN(K65)=0,"",1+ABS((K65*B65)/LEN(K65))+B65) | E65: B. | F65: Neto gotovinski tok koji je generisan/(korišten) u ulagačkim aktivnostima (409 do 437) | H65: ( + ) ( - ) | I65: 438 | J65: =IFERROR(IF(AND(J31,J32,J33,J34,J35,J36,J42,J43,J44,J45,J46,J47,J48,J49,J50,J51,J52,J53,J54,J55,J56,J57,J58,J59,J60,J61,J62,J63,J64)="","",SUM(J31,J32,J33,J34,J35,J36,J42,J43,J44,J45,J46,J47,J48,J49,J50,J51,J52,J53,J54,J55,J56,J57,J58,J59,J60,J61,J62,J63,J64)),"") -> -6240 | K65: =IFERROR(IF(AND(K31,K32,K33,K34,K35,K36,K42,K43,K44,K45,K46,K47,K48,K49,K50,K51,K52,K53,K54,K55,K56,K57,K58,K59,K60,K61,K62,K63,K64)="","",SUM(K31,K32,K33,K34,K35,K36,K42,K43,K44,K45,K46,K47,K48,K49,K50,K51,K52,K53,K54,K55,K56,K57,K58,K59,K60,K61,K62,K63,K64)),"")
E67: 3. | F67: GOTOVINSKI TOKOVI IZ FINANSIJSKIH AKTIVNOSTI
A68: 0.39 | B68: 0.95 | C68: =IF(LEN(J68)=0,"",1+ABS((J68*A68)/LEN(J68))+A68) | D68: =IF(LEN(K68)=0,"",1+ABS((K68*B68)/LEN(K68))+B68) | E68: 3.1. | F68: Prilivi od emisije dionica / uplaćeni vlasnički kapital | H68: ( + ) | I68: 439
A69: 0.4 | B69: 0.96 | C69: =IF(LEN(J69)=0,"",1+ABS((J69*A69)/LEN(J69))+A69) | D69: =IF(LEN(K69)=0,"",1+ABS((K69*B69)/LEN(K69))+B69) | E69: 3.2. | F69: Sticanje vlastitih dionica | H69: ( - ) | I69: 440
A70: 0.41 | B70: 0.97 | C70: =IF(LEN(J70)=0,"",1+ABS((J70*A70)/LEN(J70))+A70) | D70: =IF(LEN(K70)=0,"",1+ABS((K70*B70)/LEN(K70))+B70) | E70: 3.3. | F70: Prilivi od prodaje stečenih vlastitih dionica | H70: ( + ) | I70: 441
A71: 0.42 | B71: 0.98 | C71: =IF(LEN(J71)=0,"",1+ABS((J71*A71)/LEN(J71))+A71) -> 10591.06 | D71: =IF(LEN(K71)=0,"",1+ABS((K71*B71)/LEN(K71))+B71) | E71: 3.4. | F71: Isplaćene dividende | H71: ( - ) | I71: 442 | J71: -176494
A72: 0.43 | B72: 0.99 | C72: =IF(LEN(J72)=0,"",1+ABS((J72*A72)/LEN(J72))+A72) | D72: =IF(LEN(K72)=0,"",1+ABS((K72*B72)/LEN(K72))+B72) | E72: 3.5. | F72: Prilivi od uzetih kredita | H72: ( + ) | I72: 443
A73: 0.44 | B73: 1 | C73: =IF(LEN(J73)=0,"",1+ABS((J73*A73)/LEN(J73))+A73) | D73: =IF(LEN(K73)=0,"",1+ABS((K73*B73)/LEN(K73))+B73) | E73: 3.6. | F73: Otplata glavnice uzetih kredita | H73: ( - ) | I73: 444
A74: 0.45 | B74: 1.01 | C74: =IF(LEN(J74)=0,"",1+ABS((J74*A74)/LEN(J74))+A74) | D74: =IF(LEN(K74)=0,"",1+ABS((K74*B74)/LEN(K74))+B74) | E74: 3.7. | F74: Otplata kamate po uzetim kreditima | H74: ( - ) | I74: 445
A75: 0.46 | B75: 1.02 | C75: =IF(LEN(J75)=0,"",1+ABS((J75*A75)/LEN(J75))+A75) | D75: =IF(LEN(K75)=0,"",1+ABS((K75*B75)/LEN(K75))+B75) | E75: 3.8. | F75: Otplata glavnice po najmovima | H75: ( - ) | I75: 446
A76: 0.47 | B76: 1.03 | C76: =IF(LEN(J76)=0,"",1+ABS((J76*A76)/LEN(J76))+A76) | D76: =IF(LEN(K76)=0,"",1+ABS((K76*B76)/LEN(K76))+B76) | E76: 3.9. | F76: Otplata kamate po najmovima | H76: ( - ) | I76: 447
A77: 0.48 | B77: 1.04 | C77: =IF(LEN(J77)=0,"",1+ABS((J77*A77)/LEN(J77))+A77) | D77: =IF(LEN(K77)=0,"",1+ABS((K77*B77)/LEN(K77))+B77) | E77: 3.10. | F77: Prilivi po osnovu izdatih dužničkih instrumenata | H77: ( + ) | I77: 448
K79: str. 2 od 3
E80: Redni broj | F80: Pozicija | G80: Bilješka | H80: Oznaka (+) / (-) | I80: Oznaka za AOP | J80: =J17 -> Od 01.01. do 30.06. tekuće godine | K80: =K17 -> Od 01.01. do 30.06. prethodne godine
E81: 1 | F81: 2 | G81: 3 | H81: 4 | I81: 5 | J81: 6 | K81: 7
A82: 0.49 | B82: 1.05 | C82: =IF(LEN(J82)=0,"",1+ABS((J82*A82)/LEN(J82))+A82) | D82: =IF(LEN(K82)=0,"",1+ABS((K82*B82)/LEN(K82))+B82) | E82: 3.11. | F82: Odlivi po osnovu otplate izdatih dužničkih instrumenata | H82: ( - ) | I82: 449
A83: 0.5 | B83: 1.06 | C83: =IF(LEN(J83)=0,"",1+ABS((J83*A83)/LEN(J83))+A83) | D83: =IF(LEN(K83)=0,"",1+ABS((K83*B83)/LEN(K83))+B83) | E83: 3.12. | F83: Ostali prilivi iz finansijskih aktivnosti | H83: ( + ) | I83: 450
A84: 0.51 | B84: 1.07 | C84: =IF(LEN(J84)=0,"",1+ABS((J84*A84)/LEN(J84))+A84) | D84: =IF(LEN(K84)=0,"",1+ABS((K84*B84)/LEN(K84))+B84) | E84: 3.13. | F84: Ostali odlivi iz finansijskih aktivnosti | H84: ( - ) | I84: 451
A85: 0.52 | B85: 1.08 | C85: =IF(LEN(J85)=0,"",1+ABS((J85*A85)/LEN(J85))+A85) -> 13112.503 | D85: =IF(LEN(K85)=0,"",1+ABS((K85*B85)/LEN(K85))+B85) | E85: C. | F85: Neto gotovinski tok koji je generisan/(korišten) u finansijskim aktivnostima (439 do 451) | H85: ( + ) ( - ) | I85: 452 | J85: =IFERROR(IF(AND(J68,J69,J70,J71,J72,J73,J74,J75,J76,J77,J82,J83,J84)="","",SUM(J68,J69,J70,J71,J72,J73,J74,J75,J76,J77,J82,J83,J84)),"") -> -176494 | K85: =IFERROR(IF(AND(K68,K69,K70,K71,K72,K73,K74,K75,K76,K77,K82,K83,K84)="","",SUM(K68,K69,K70,K71,K72,K73,K74,K75,K76,K77,K82,K83,K84)),"")
A87: 0.53 | B87: 1.09 | C87: =IF(LEN(J87)=0,"",1+ABS((J87*A87)/LEN(J87))+A87) -> 7943.3529 | D87: =IF(LEN(K87)=0,"",1+ABS((K87*B87)/LEN(K87))+B87) -> 27447.563 | E87: 4. | F87: NETO POVEĆANJE / (SMANJENJE) GOTOVINE I GOTOVINSKIH EKVIVALENATA (A+B+C) | H87: ( + ) ( - ) | I87: 453 | J87: =IFERROR(IF(AND(J28,J65,J85)="","",SUM(J28,J65,J85)),"") -> -104892 | K87: =IFERROR(IF(AND(K28,K65,K85)="","",SUM(K28,K65,K85)),"") -> 151076
A89: 0.54 | B89: 1.1 | C89: =IF(LEN(J89)=0,"",1+ABS((J89*A89)/LEN(J89))+A89) -> 39450.61 | D89: =IF(LEN(K89)=0,"",1+ABS((K89*B89)/LEN(K89))+B89) -> 33873.85 | E89: 5. | F89: GOTOVINA I GOTOVINSKI EKVIVALENTI NA POČETKU PERIODA | H89: ( + ) ( - ) | I89: 454 | J89: 438323 | K89: 184755
A90: 0.55 | B90: 1.11 | C90: =IF(LEN(J90)=0,"",1+ABS((J90*A90)/LEN(J90))+A90) | D90: =IF(LEN(K90)=0,"",1+ABS((K90*B90)/LEN(K90))+B90) | E90: 6. | F90: EFEKTI PROMJENE DEVIZNIH KURSEVA GOTOVINE I GOTOVINSKIH EKVIVALENATA | H90: ( + ) ( - ) | I90: 455
A91: 0.56 | B91: 1.12 | C91: =IF(LEN(J91)=0,"",1+ABS((J91*A91)/LEN(J91))+A91) -> 31121.787 | D91: =IF(LEN(K91)=0,"",1+ABS((K91*B91)/LEN(K91))+B91) -> 62690.573 | E91: 7. | F91: GOTOVINA I GOTOVINSKI EKVIVALENTI NA KRAJU PERIODA (4+5+6) | H91: ( + ) ( - ) | I91: 456 | J91: =IFERROR(IF(AND(J87,J89,J90)="","",SUM(J87,J89,J90)),"") -> 333431 | K91: =IFERROR(IF(AND(K87,K89,K90)="","",SUM(K87,K89,K90)),"") -> 335831
C92: =IF(ISERROR(ABS(LOG(ABS(SUM(C21:C91)),EXP(3)))),"",ABS(LOG(ABS(SUM(C21:C91)),EXP(3)))) | D92: =IF(ISERROR(ABS(LOG(ABS(SUM(D21:D91)),EXP(3)))),"",ABS(LOG(ABS(SUM(D21:D91)),EXP(3)))) -> 4.0476003
C93: =IF(ISERROR(IF(ISERROR(MID(C92,FIND(".",C92,1)+11,13)),MID(C92,FIND(",",C92,1)+11,13),MID(C92,FIND(".",C92,1)+11,13))),"",IF(ISERROR(MID(C92,FIND(".",C92,1)+11,13)),MID(C92,FIND(",",C92,1)+11,13),MID(C92,FIND(".",C92,1)+11,13))) | D93: =IF(ISERROR(IF(ISERROR(MID(D92,FIND(".",D92,1)+11,13)),MID(D92,FIND(",",D92,1)+11,13),MID(D92,FIND(".",D92,1)+11,13))),"",IF(ISERROR(MID(D92,FIND(".",D92,1)+11,13)),MID(D92,FIND(",",D92,1)+11,13),MID(D92,FIND(".",D92,1)+11,13))) -> 0714
E94: Mjesto i datum | J94: M.P. | K94: Direktor
E95: =OP!C45 -> Sarajevo, 10.08.2026. | K95: =OP!AJ45 -> Olja Mujagić
K99: str. 3 od 3

Sheet GTIND
E1: =BS!E1 -> DUF SAFE INVESTMENT d.o.o. Sarajevo | K1: Obrazac OEI-PD
E2: Naziv emitenta | K2: Tabela E
E3: =BS!E3 -> Danijela Ozme 1, SARAJEVO
E4: Sjedište i adresa emitenta
E5: =BS!E5 -> 66.30
E6: Šifra djelatnosti
E7: =BS!E7 -> 4203333590002
E8: Identifikacioni broj za direktne poreze
E9: =BS!E9 -> 65-01-0415-24
E10: Matični broj
E12: IZVJEŠTAJ O TOKOVIMA GOTOVINE
E13: (IZVJEŠTAJ O GOTOVINSKIM TOKOVIMA)
E14: (Indirektna metoda)
E15: za period od 01.01. do 30.06.2026. godine
K16: - u KM -
E17: Redni broj | F17: Pozicija | G17: Bilješka | H17: Oznaka (+)/(-) | I17: Oznaka za AOP | J17: Od 01.01. do 30.06. tekuće godine | K17: Od 01.01. do 30.06. prethodne godine
E18: 1 | F18: 2 | G18: 3 | H18: 4 | I18: 5 | J18: 6 | K18: 7
E20: 1. | F20: GOTOVINSKI TOKOVI IZ POSLOVNIH AKTIVNOSTI
A21: 0.01 | B21: 0.83 | C21: =IF(LEN(J21)=0,"",1+ABS((J21*A21)/LEN(J21))+A21) -> 226.775 | D21: =IF(LEN(K21)=0,"",1+ABS((K21*B21)/LEN(K21))+B21) -> 15832.143 | E21: 1.1. | F21: Dobit/(gubitak) prije oporezivanja | H21: ( + )( - ) | I21: 501 | J21: 135459 | K21: 114436
C22: =IF(LEN(J22)=0,"",1+ABS((J22*A22)/LEN(J22))+A22) | D22: =IF(LEN(K22)=0,"",1+ABS((K22*B22)/LEN(K22))+B22) | E22: 1.2. | F22: Usklađenja:
A23: 0.02 | B23: 0.84 | C23: =IF(LEN(J23)=0,"",1+ABS((J23*A23)/LEN(J23))+A23) -> 13.03 | D23: =IF(LEN(K23)=0,"",1+ABS((K23*B23)/LEN(K23))+B23) -> 412.81 | E23: 1.2.1. | F23: Amortizacija | H23: ( + ) | I23: 502 | J23: 2402 | K23: 1957
A24: 0.03 | B24: 0.85 | C24: =IF(LEN(J24)=0,"",1+ABS((J24*A24)/LEN(J24))+A24) | D24: =IF(LEN(K24)=0,"",1+ABS((K24*B24)/LEN(K24))+B24) | E24: 1.2.2. | F24: (Dobit)/gubitak od otuđenja nekretnina, postrojenja i opreme, neto | H24: ( + )( - ) | I24: 503
A25: 0.04 | B25: 0.86 | C25: =IF(LEN(J25)=0,"",1+ABS((J25*A25)/LEN(J25))+A25) | D25: =IF(LEN(K25)=0,"",1+ABS((K25*B25)/LEN(K25))+B25) | E25: 1.2.3. | F25: (Dobit)/gubitak od otuđenja ulaganja u investicijske nekretnine, neto | H25: ( + )( - ) | I25: 504
A26: 0.05 | B26: 0.87 | C26: =IF(LEN(J26)=0,"",1+ABS((J26*A26)/LEN(J26))+A26) | D26: =IF(LEN(K26)=0,"",1+ABS((K26*B26)/LEN(K26))+B26) | E26: 1.2.4. | F26: (Dobit)/gubitak od otuđenja nematerijalne imovine, neto | H26: ( + )( - ) | I26: 505
A27: 0.06 | B27: 0.88 | C27: =IF(LEN(J27)=0,"",1+ABS((J27*A27)/LEN(J27))+A27) | D27: =IF(LEN(K27)=0,"",1+ABS((K27*B27)/LEN(K27))+B27) | E27: 1.2.5. | F27: (Dobit)/gubitak od dugoročne imovine namijenjene prodaji, neto | H27: ( + )( - ) | I27: 506
A28: 0.07 | B28: 0.89 | C28: =IF(LEN(J28)=0,"",1+ABS((J28*A28)/LEN(J28))+A28) | D28: =IF(LEN(K28)=0,"",1+ABS((K28*B28)/LEN(K28))+B28) | E28: 1.2.6. | F28: Umanjenje vrijednosti nekretnina, postrojenja i opreme | H28: ( + ) | I28: 507
A29: 0.08 | B29: 0.9 | C29: =IF(LEN(J29)=0,"",1+ABS((J29*A29)/LEN(J29))+A29) | E29: 1.2.7. | F29: Umanjenje vrijednosti investicijskih nekretnina | H29: ( + ) | I29: 508
A30: 0.09 | B30: 0.91 | C30: =IF(LEN(J30)=0,"",1+ABS((J30*A30)/LEN(J30))+A30) | E30: 1.2.8. | F30: Umanjenje vrijednosti nematerijalne imovine | H30: ( + ) | I30: 509
A31: 0.1 | B31: 0.92 | C31: =IF(LEN(J31)=0,"",1+ABS((J31*A31)/LEN(J31))+A31) | D31: =IF(LEN(K31)=0,"",1+ABS((K31*B31)/LEN(K31))+B31) | E31: 1.2.9. | F31: Efekti promjene fer vrijednosti ulaganja u investicijske nekretnine, neto | H31: ( + )( - ) | I31: 510
A32: 0.11 | B32: 0.93 | C32: =IF(LEN(J32)=0,"",1+ABS((J32*A32)/LEN(J32))+A32) | D32: =IF(LEN(K32)=0,"",1+ABS((K32*B32)/LEN(K32))+B32) | E32: 1.2.10. | F32: Efekti promjene fer vrijednosti biološke imovine, neto | H32: ( + )( - ) | I32: 511
A33: 0.12 | B33: 0.94 | C33: =IF(LEN(J33)=0,"",1+ABS((J33*A33)/LEN(J33))+A33) | D33: =IF(LEN(K33)=0,"",1+ABS((K33*B33)/LEN(K33))+B33) | E33: 1.2.11. | F33: Efekti promjene vrijednosti instrumenata kapitala po fer vrijednosti kroz bilans uspjeha | H33: ( + )( - ) | I33: 512
A34: 0.13 | B34: 0.95 | C34: =IF(LEN(J34)=0,"",1+ABS((J34*A34)/LEN(J34))+A34) | D34: =IF(LEN(K34)=0,"",1+ABS((K34*B34)/LEN(K34))+B34) | E34: 1.2.12. | F34: (Dobit)/gubitak od prodaje dužničkih instrumenata po fer vrijednosti kroz ostali ukupni rezultat, neto | H34: ( + )( - ) | I34: 513
K37: str. 1 od 4
E38: Redni broj | F38: Pozicija | G38: Bilješka | H38: Oznaka (+)/(-) | I38: Oznaka za AOP | J38: =J17 -> Od 01.01. do 30.06. tekuće godine | K38: =K17 -> Od 01.01. do 30.06. prethodne godine
E39: 1 | F39: 2 | G39: 3 | H39: 4 | I39: 5 | J39: 6 | K39: 7
A40: 0.14 | B40: 0.96 | C40: =IF(LEN(J40)=0,"",1+ABS((J40*A40)/LEN(J40))+A40) | D40: =IF(LEN(K40)=0,"",1+ABS((K40*B40)/LEN(K40))+B40) | E40: 1.2.13. | F40: (Otpuštanje)/Ispravka vrijednosti za gubitke od dužničkih instrumenata po fer vrijednosti kroz ostali ukupni rezultat, neto | H40: ( + )( - ) | I40: 514
A41: 0.15 | B41: 0.97 | C41: =IF(LEN(J41)=0,"",1+ABS((J41*A41)/LEN(J41))+A41) | D41: =IF(LEN(K41)=0,"",1+ABS((K41*B41)/LEN(K41))+B41) | E41: 1.2.14. | F41: (Otpuštanje)/Ispravka vrijednosti za gubitke od potraživanja od kupaca, neto | H41: ( + )( - ) | I41: 515
A42: 0.16 | B42: 0.98 | C42: =IF(LEN(J42)=0,"",1+ABS((J42*A42)/LEN(J42))+A42) | D42: =IF(LEN(K42)=0,"",1+ABS((K42*B42)/LEN(K42))+B42) | E42: 1.2.15. | F42: (Otpuštanje)/Ispravka vrijednosti za gubitke od ugovorne imovine, neto | H42: ( + )( - ) | I42: 516
A43: 0.17 | B43: 0.99 | C43: =IF(LEN(J43)=0,"",1+ABS((J43*A43)/LEN(J43))+A43) | D43: =IF(LEN(K43)=0,"",1+ABS((K43*B43)/LEN(K43))+B43) | E43: 1.2.16. | F43: (Otpuštanje)/Ispravka vrijednosti za gubitke od ostale finansijske imovine po amortizovanom trošku, neto | H43: ( + )( - ) | I43: 517
A44: 0.18 | B44: 1.01 | C44: =IF(LEN(J44)=0,"",1+ABS((J44*A44)/LEN(J44))+A44) | D44: =IF(LEN(K44)=0,"",1+ABS((K44*B44)/LEN(K44))+B44) | E44: 1.2.17. | F44: Viškovi, manjkovi, otpisi i prilagođavanje vrijednosti zaliha, neto | H44: ( + )( - ) | I44: 518
A45: 0.19 | B45: 1.02 | C45: =IF(LEN(J45)=0,"",1+ABS((J45*A45)/LEN(J45))+A45) | D45: =IF(LEN(K45)=0,"",1+ABS((K45*B45)/LEN(K45))+B45) | E45: 1.2.18. | F45: Otpisane obaveze | H45: ( - ) | I45: 519
A46: 0.2 | B46: 1.03 | C46: =IF(LEN(J46)=0,"",1+ABS((J46*A46)/LEN(J46))+A46) | D46: =IF(LEN(K46)=0,"",1+ABS((K46*B46)/LEN(K46))+B46) | E46: 1.2.19. | F46: (Otpuštanje)/dodatno priznata rezervisanja, neto | H46: ( + )( - ) | I46: 520
A47: 0.21 | B47: 1.04 | C47: =IF(LEN(J47)=0,"",1+ABS((J47*A47)/LEN(J47))+A47) | D47: =IF(LEN(K47)=0,"",1+ABS((K47*B47)/LEN(K47))+B47) | E47: 1.2.20. | F47: Udio u rezultatu pridruženog društva i zajedničkog poduhvata | H47: ( + )( - ) | I47: 521
A48: 0.22 | B48: 1.05 | C48: =IF(LEN(J48)=0,"",1+ABS((J48*A48)/LEN(J48))+A48) | D48: =IF(LEN(K48)=0,"",1+ABS((K48*B48)/LEN(K48))+B48) | E48: 1.2.21. | F48: Umanjenje vrijednosti goodwill-a | H48: ( + ) | I48: 522
A49: 0.23 | B49: 1.06 | C49: =IF(LEN(J49)=0,"",1+ABS((J49*A49)/LEN(J49))+A49) | D49: =IF(LEN(K49)=0,"",1+ABS((K49*B49)/LEN(K49))+B49) | E49: 1.2.22. | F49: Prihod od dividendi priznat u bilansu uspjeha | H49: ( - ) | I49: 523
A50: 0.24 | B50: 1.07 | C50: =IF(LEN(J50)=0,"",1+ABS((J50*A50)/LEN(J50))+A50) | D50: =IF(LEN(K50)=0,"",1+ABS((K50*B50)/LEN(K50))+B50) | E50: 1.2.23. | F50: Prihodi od kamata i finansijskog najma priznati u bilansu uspjeha | H50: ( - ) | I50: 524
A51: 0.25 | B51: 1.08 | C51: =IF(LEN(J51)=0,"",1+ABS((J51*A51)/LEN(J51))+A51) | D51: =IF(LEN(K51)=0,"",1+ABS((K51*B51)/LEN(K51))+B51) | E51: 1.2.24. | F51: Finansijski rashodi priznati u bilansu uspjeha | H51: ( + ) | I51: 525
C52: =IF(LEN(J52)=0,"",1+ABS((J52*A52)/LEN(J52))+A52) | D52: =IF(LEN(K52)=0,"",1+ABS((K52*B52)/LEN(K52))+B52) | E52: 1.3. | F52: Promjene u obrtnom kapitalu
A53: 0.26 | B53: 1.09 | C53: =IF(LEN(J53)=0,"",1+ABS((J53*A53)/LEN(J53))+A53) | D53: =IF(LEN(K53)=0,"",1+ABS((K53*B53)/LEN(K53))+B53) | E53: 1.3.1. | F53: Smanjenje/(povećanje) zaliha | H53: ( + )( - ) | I53: 526
A54: 0.27 | B54: 1.1 | C54: =IF(LEN(J54)=0,"",1+ABS((J54*A54)/LEN(J54))+A54) -> 2655.19 | D54: =IF(LEN(K54)=0,"",1+ABS((K54*B54)/LEN(K54))+B54) -> 44.266667 | E54: 1.3.2. | F54: Smanjenje/(povećanje) potraživanja od kupaca | H54: ( + )( - ) | I54: 527 | J54: -58976 | K54: 115
A55: 0.28 | B55: 1.11 | C55: =IF(LEN(J55)=0,"",1+ABS((J55*A55)/LEN(J55))+A55) | D55: =IF(LEN(K55)=0,"",1+ABS((K55*B55)/LEN(K55))+B55) | E55: 1.3.3. | F55: Smanjenje/(povećanje) ostale imovine i potraživanja | H55: ( + )( - ) | I55: 528
A56: 0.29 | B56: 1.12 | C56: =IF(LEN(J56)=0,"",1+ABS((J56*A56)/LEN(J56))+A56) | D56: =IF(LEN(K56)=0,"",1+ABS((K56*B56)/LEN(K56))+B56) | E56: 1.3.4. | F56: Smanjenje/(povećanje) ugovorne imovine | H56: ( + )( - ) | I56: 529
A57: 0.3 | B57: 1.13 | C57: =IF(LEN(J57)=0,"",1+ABS((J57*A57)/LEN(J57))+A57) -> 3.4 | D57: =IF(LEN(K57)=0,"",1+ABS((K57*B57)/LEN(K57))+B57) -> 83.49 | E57: 1.3.5. | F57: Povećanje/(smanjenje) obaveza prema dobavljačima | H57: ( + )( - ) | I57: 530 | J57: -21 | K57: -288
A58: 0.31 | B58: 1.14 | C58: =IF(LEN(J58)=0,"",1+ABS((J58*A58)/LEN(J58))+A58) -> 64.674 | D58: =IF(LEN(K58)=0,"",1+ABS((K58*B58)/LEN(K58))+B58) -> 7949.308 | E58: 1.3.6. | F58: Povećanje/(smanjenje) ostalih obaveza | H58: ( + )( - ) | I58: 531 | J58: -1022 | K58: 34856
A59: 0.32 | B59: 1.15 | C59: =IF(LEN(J59)=0,"",1+ABS((J59*A59)/LEN(J59))+A59) | D59: =IF(LEN(K59)=0,"",1+ABS((K59*B59)/LEN(K59))+B59) | E59: 1.3.7. | F59: Povećanje/(smanjenje) ugovornih obaveza | H59: ( + )( - ) | I59: 532
A60: 0.33 | B60: 1.16 | C60: =IF(LEN(J60)=0,"",1+ABS((J60*A60)/LEN(J60))+A60) | D60: =IF(LEN(K60)=0,"",1+ABS((K60*B60)/LEN(K60))+B60) | E60: 1.4. | F60: Plaćeni porez na dobit | H60: ( - ) | I60: 533
A61: 0.34 | B61: 1.17 | C61: =IF(LEN(J61)=0,"",1+ABS((J61*A61)/LEN(J61))+A61) -> 5294.596 | D61: =IF(LEN(K61)=0,"",1+ABS((K61*B61)/LEN(K61))+B61) -> 29461.99 | E61: A. | F61: Neto gotovinski tok koji je generisan/(korišten) u poslovnim aktivnostima (501 do 533) | H61: ( + )( - ) | I61: 534 | J61: =IFERROR(IF(AND(J21,J23,J24,J25,J26,J27,J28,J29,J30,J31,J32,J33,J34,J40,J41,J42,J43,J44,J45,J46,J47,J48,J49,J50,J51,J53,J54,J55,J56,J57,J58,J59,J60)="","",SUM(J21,J23,J24,J25,J26,J27,J28,J29,J30,J31,J32,J33,J34,J40,J41,J42,J43,J44,J45,J46,J47,J48,J49,J50,J51,J53,J54,J55,J56,J57,J58,J59,J60)),"") -> 77842 | K61: =IFERROR(IF(AND(K21,K23,K24,K25,K26,K27,K28,K29,K30,K31,K32,K33,K34,K40,K41,K42,K43,K44,K45,K46,K47,K48,K49,K50,K51,K53,K54,K55,K56,K57,K58,K59,K60)="","",SUM(K21,K23,K24,K25,K26,K27,K28,K29,K30,K31,K32,K33,K34,K40,K41,K42,K43,K44,K45,K46,K47,K48,K49,K50,K51,K53,K54,K55,K56,K57,K58,K59,K60)),"") -> 151076
C62: =IF(LEN(J62)=0,"",1+ABS((J62*A62)/LEN(J62))+A62) | D62: =IF(LEN(K62)=0,"",1+ABS((K62*B62)/LEN(K62))+B62) | E62: 2. | F62: GOTOVINSKI TOKOVI IZ ULAGAČKIH AKTIVNOSTI
A63: 0.35 | B63: 1.18 | C63: =IF(LEN(J63)=0,"",1+ABS((J63*A63)/LEN(J63))+A63) -> 438.15 | D63: =IF(LEN(K63)=0,"",1+ABS((K63*B63)/LEN(K63))+B63) | E63: 2.1. | F63: Odlivi po osnovu kupovine nekretnina, postrojenja i opreme | H63: ( - ) | I63: 535 | J63: -6240
A64: 0.36 | B64: 1.19 | C64: =IF(LEN(J64)=0,"",1+ABS((J64*A64)/LEN(J64))+A64) | D64: =IF(LEN(K64)=0,"",1+ABS((K64*B64)/LEN(K64))+B64) | E64: 2.2. | F64: Prilivi po osnovu prodaje nekretnina, postrojenja i opreme | H64: ( + ) | I64: 536
A65: 0.37 | B65: 1.2 | E65: 2.3. | F65: Odlivi po osnovu kupovine investicijskih nekretnina | H65: ( - ) | I65: 537
A66: 0.38 | B66: 1.21 | C66: =IF(LEN(J66)=0,"",1+ABS((J66*A66)/LEN(J66))+A66) | D66: =IF(LEN(K66)=0,"",1+ABS((K66*B66)/LEN(K66))+B66) | E66: 2.4. | F66: Prilivi po osnovu prodaje investicijskih nekretnina | H66: ( + ) | I66: 538
A67: 0.39 | B67: 1.22 | C67: =IF(LEN(J67)=0,"",1+ABS((J67*A67)/LEN(J67))+A67) | D67: =IF(LEN(K67)=0,"",1+ABS((K67*B67)/LEN(K67))+B67) | E67: 2.5. | F67: Odlivi po osnovu kupovine nematerijalne imovine | H67: ( - ) | I67: 539
A68: 0.4 | B68: 1.23 | C68: =IF(LEN(J68)=0,"",1+ABS((J68*A68)/LEN(J68))+A68) | D68: =IF(LEN(K68)=0,"",1+ABS((K68*B68)/LEN(K68))+B68) | E68: 2.6. | F68: Prilivi po osnovu prodaje nematerijalne imovine | H68: ( + ) | I68: 540
A69: 0.41 | B69: 1.24 | C69: =IF(LEN(J69)=0,"",1+ABS((J69*A69)/LEN(J69))+A69) | D69: =IF(LEN(K69)=0,"",1+ABS((K69*B69)/LEN(K69))+B69) | E69: 2.7. | F69: Odlivi po osnovu kupovine biološke imovine | H69: ( - ) | I69: 541
A70: 0.42 | B70: 1.25 | C70: =IF(LEN(J70)=0,"",1+ABS((J70*A70)/LEN(J70))+A70) | D70: =IF(LEN(K70)=0,"",1+ABS((K70*B70)/LEN(K70))+B70) | E70: 2.8. | F70: Prilivi po osnovu prodaje biološke imovine | H70: ( + ) | I70: 542
A71: 0.43 | B71: 1.26 | C71: =IF(LEN(J71)=0,"",1+ABS((J71*A71)/LEN(J71))+A71) | D71: =IF(LEN(K71)=0,"",1+ABS((K71*B71)/LEN(K71))+B71) | E71: 2.9. | F71: Prilivi po osnovu prodaje dugoročne imovine namijenjene prodaji | H71: ( + ) | I71: 543
K73: str. 2 od 4
E74: Redni broj | F74: Pozicija | G74: Bilješka | H74: Oznaka (+)/(-) | I74: Oznaka za AOP | J74: =J17 -> Od 01.01. do 30.06. tekuće godine | K74: =K17 -> Od 01.01. do 30.06. prethodne godine
E75: 1 | F75: 2 | G75: 3 | H75: 4 | I75: 5 | J75: 6 | K75: 7
A76: 0.44 | B76: 1.27 | C76: =IF(LEN(J76)=0,"",1+ABS((J76*A76)/LEN(J76))+A76) | D76: =IF(LEN(K76)=0,"",1+ABS((K76*B76)/LEN(K76))+B76) | E76: 2.10. | F76: Ulaganja u finansijsku imovinu po fer vrijednosti kroz ostali ukupni rezultat | H76: ( - ) | I76: 544
A77: 0.45 | B77: 1.28 | C77: =IF(LEN(J77)=0,"",1+ABS((J77*A77)/LEN(J77))+A77) | D77: =IF(LEN(K77)=0,"",1+ABS((K77*B77)/LEN(K77))+B77) | E77: 2.11. | F77: Prilivi od finansijske imovine po fer vrijednosti kroz ostali ukupni rezultat | H77: ( + ) | I77: 545
A78: 0.46 | B78: 1.29 | C78: =IF(LEN(J78)=0,"",1+ABS((J78*A78)/LEN(J78))+A78) | D78: =IF(LEN(K78)=0,"",1+ABS((K78*B78)/LEN(K78))+B78) | E78: 2.12. | F78: Ulaganja u finansijsku imovinu po fer vrijednosti kroz bilans uspjeha | H78: ( - ) | I78: 546
A79: 0.47 | B79: 1.3 | C79: =IF(LEN(J79)=0,"",1+ABS((J79*A79)/LEN(J79))+A79) | D79: =IF(LEN(K79)=0,"",1+ABS((K79*B79)/LEN(K79))+B79) | E79: 2.13. | F79: Prilivi od finansijske imovine po fer vrijednosti kroz bilans uspjeha | H79: ( + ) | I79: 547
A80: 0.48 | B80: 1.31 | C80: =IF(LEN(J80)=0,"",1+ABS((J80*A80)/LEN(J80))+A80) | D80: =IF(LEN(K80)=0,"",1+ABS((K80*B80)/LEN(K80))+B80) | E80: 2.14. | F80: Ulaganja u ostalu finansijsku imovinu po amortizovanom trošku | H80: ( - ) | I80: 548
A81: 0.49 | B81: 1.32 | C81: =IF(LEN(J81)=0,"",1+ABS((J81*A81)/LEN(J81))+A81) | D81: =IF(LEN(K81)=0,"",1+ABS((K81*B81)/LEN(K81))+B81) | E81: 2.15. | F81: Prilivi od ostale finansijske imovine po amortizovanom trošku | H81: ( + ) | I81: 549
A82: 0.5 | B82: 1.33 | C82: =IF(LEN(J82)=0,"",1+ABS((J82*A82)/LEN(J82))+A82) | D82: =IF(LEN(K82)=0,"",1+ABS((K82*B82)/LEN(K82))+B82) | E82: 2.16. | F82: Primljena kamata i prihod od finansijskog najma | H82: ( + ) | I82: 550
A83: 0.51 | B83: 1.34 | C83: =IF(LEN(J83)=0,"",1+ABS((J83*A83)/LEN(J83))+A83) | D83: =IF(LEN(K83)=0,"",1+ABS((K83*B83)/LEN(K83))+B83) | E83: 2.17. | F83: Naplaćena potraživanja od finansijskog najma | H83: ( + ) | I83: 551
A84: 0.52 | B84: 1.35 | C84: =IF(LEN(J84)=0,"",1+ABS((J84*A84)/LEN(J84))+A84) | D84: =IF(LEN(K84)=0,"",1+ABS((K84*B84)/LEN(K84))+B84) | E84: 2.18. | F84: Naplaćena potraživanja od finansijskog podnajma | H84: ( + ) | I84: 552
A85: 0.53 | B85: 1.36 | C85: =IF(LEN(J85)=0,"",1+ABS((J85*A85)/LEN(J85))+A85) | D85: =IF(LEN(K85)=0,"",1+ABS((K85*B85)/LEN(K85))+B85) | E85: 2.19. | F85: Kupovina udjela u zavisnim društvima | H85: ( - ) | I85: 553
A86: 0.54 | B86: 1.37 | C86: =IF(LEN(J86)=0,"",1+ABS((J86*A86)/LEN(J86))+A86) | D86: =IF(LEN(K86)=0,"",1+ABS((K86*B86)/LEN(K86))+B86) | E86: 2.20. | F86: Prilivi od otuđenja udjela u zavisnim društvima | H86: ( + ) | I86: 554
A87: 0.55 | B87: 1.38 | C87: =IF(LEN(J87)=0,"",1+ABS((J87*A87)/LEN(J87))+A87) | D87: =IF(LEN(K87)=0,"",1+ABS((K87*B87)/LEN(K87))+B87) | E87: 2.21. | F87: Kupovina udjela u pridruženim društvima | H87: ( - ) | I87: 555
... A95: 0.63 | B95: 1.46 | C95: =IF(LEN(J95)=0,"",1+ABS((J95*A95)/LEN(J95))+A95) | D95: =IF(LEN(K95)=0,"",1+ABS((K95*B95)/LEN(K95))+B95) | E95: 2.29. | F95: Ostali odlivi iz ulagačkih aktivnosti | H95: ( - ) | I95: 563
A96: 0.64 | B96: 1.47 | C96: =IF(LEN(J96)=0,"",1+ABS((J96*A96)/LEN(J96))+A96) -> 800.36 | D96: =IF(LEN(K96)=0,"",1+ABS((K96*B96)/LEN(K96))+B96) | E96: B. | F96: Neto gotovinski tok koji je generisan/(korišten) u ulagačkim aktivnostima (535 do 563) | H96: ( + )( - ) | I96: 564 | J96: =IFERROR(IF(AND(J63,J64,J65,J66,J67,J68,J69,J70,J71,J76,J77,J78,J79,J80,J81,J82,J83,J84,J85,J86,J87,J88,J89,J90,J91,J92,J93,J94,J95)="","",SUM(J63,J64,J65,J66,J67,J68,J69,J70+J71,J76,J77,J78,J79,J80,J81,J82,J83,J84,J85,J86,J87,J88,J89,J90,J91,J92,J93,J94,J95)),"") -> -6240 | K96: =IFERROR(IF(AND(K63,K64,K65,K66,K67,K68,K69,K70,K71,K76,K77,K78,K79,K80,K81,K82,K83,K84,K85,K86,K87,K88,K89,K90,K91,K92,K93,K94,K95)="","",SUM(K63,K64,K65,K66,K67,K68,K69,K70+K71,K76,K77,K78,K79,K80,K81,K82,K83,K84,K85,K86,K87,K88,K89,K90,K91,K92,K93,K94,K95)),"")
E97: 3. | F97: GOTOVINSKI TOKOVI IZ FINANSIJSKIH AKTIVNOSTI
A98: 0.65 | B98: 1.48 | C98: =IF(LEN(J98)=0,"",1+ABS((J98*A98)/LEN(J98))+A98) | D98: =IF(LEN(K98)=0,"",1+ABS((K98*B98)/LEN(K98))+B98) | E98: 3.1. | F98: Prilivi od emisije dionica/uplaćeni vlasnički kapital | H98: ( + ) | I98: 565
A99: 0.66 | B99: 1.49 | C99: =IF(LEN(J99)=0,"",1+ABS((J99*A99)/LEN(J99))+A99) | D99: =IF(LEN(K99)=0,"",1+ABS((K99*B99)/LEN(K99))+B99) | E99: 3.2. | F99: Sticanje vlastitih dionica | H99: ( - ) | I99: 566
A100: 0.67 | B100: 1.5 | C100: =IF(LEN(J100)=0,"",1+ABS((J100*A100)/LEN(J100))+A100) | D100: =IF(LEN(K100)=0,"",1+ABS((K100*B100)/LEN(K100))+B100) | E100: 3.3. | F100: Prilivi od prodaje stečenih vlastitih dionica | H100: ( + ) | I100: 567
A101: 0.68 | B101: 1.51 | C101: =IF(LEN(J101)=0,"",1+ABS((J101*A101)/LEN(J101))+A101) -> 17146.811 | D101: =IF(LEN(K101)=0,"",1+ABS((K101*B101)/LEN(K101))+B101) | E101: 3.4. | F101: Isplaćene dividende | H101: ( - ) | I101: 568 | J101: -176494
A102: 0.69 | B102: 1.52 | C102: =IF(LEN(J102)=0,"",1+ABS((J102*A102)/LEN(J102))+A102) | D102: =IF(LEN(K102)=0,"",1+ABS((K102*B102)/LEN(K102))+B102) | E102: 3.5. | F102: Prilivi od uzetih kredita | H102: ( + ) | I102: 569
A103: 0.7 | B103: 1.53 | C103: =IF(LEN(J103)=0,"",1+ABS((J103*A103)/LEN(J103))+A103) | D103: =IF(LEN(K103)=0,"",1+ABS((K103*B103)/LEN(K103))+B103) | E103: 3.6. | F103: Otplata glavnice uzetih kredita | H103: ( - ) | I103: 570
A104: 0.71 | B104: 1.54 | C104: =IF(LEN(J104)=0,"",1+ABS((J104*A104)/LEN(J104))+A104) | D104: =IF(LEN(K104)=0,"",1+ABS((K104*B104)/LEN(K104))+B104) | E104: 3.7. | F104: Otplata kamate po uzetim kreditima | H104: ( - ) | I104: 571
A105: 0.72 | B105: 1.55 | C105: =IF(LEN(J105)=0,"",1+ABS((J105*A105)/LEN(J105))+A105) | D105: =IF(LEN(K105)=0,"",1+ABS((K105*B105)/LEN(K105))+B105) | E105: 3.8. | F105: Otplata glavnice po najmovima | H105: ( - ) | I105: 572
A106: 0.73 | B106: 1.56 | C106: =IF(LEN(J106)=0,"",1+ABS((J106*A106)/LEN(J106))+A106) | D106: =IF(LEN(K106)=0,"",1+ABS((K106*B106)/LEN(K106))+B106) | E106: 3.9. | F106: Otplata kamate po najmovima | H106: ( - ) | I106: 573
A107: 0.74 | B107: 1.57 | C107: =IF(LEN(J107)=0,"",1+ABS((J107*A107)/LEN(J107))+A107) | D107: =IF(LEN(K107)=0,"",1+ABS((K107*B107)/LEN(K107))+B107) | E107: 3.10. | F107: Prilivi po osnovu izdatih dužničkih instrumenata | H107: ( + ) | I107: 574
A108: 0.75 | B108: 1.58 | C108: =IF(LEN(J108)=0,"",1+ABS((J108*A108)/LEN(J108))+A108) | D108: =IF(LEN(K108)=0,"",1+ABS((K108*B108)/LEN(K108))+B108) | E108: 3.11. | F108: Odlivi po osnovu otplate izdatih dužničkih instrumenata | H108: ( - ) | I108: 575
A109: 0.76 | B109: 1.59 | C109: =IF(LEN(J109)=0,"",1+ABS((J109*A109)/LEN(J109))+A109) | D109: =IF(LEN(K109)=0,"",1+ABS((K109*B109)/LEN(K109))+B109) | E109: 3.12. | F109: Ostali prilivi iz finansijskih aktivnosti | H109: ( + ) | I109: 576
A110: 0.77 | B110: 1.6 | C110: =IF(LEN(J110)=0,"",1+ABS((J110*A110)/LEN(J110))+A110) | D110: =IF(LEN(K110)=0,"",1+ABS((K110*B110)/LEN(K110))+B110) | E110: 3.13. | F110: Ostali odlivi iz finansijskih aktivnosti | H110: ( - ) | I110: 577
K112: str. 3 od 4
E113: Redni broj | F113: Pozicija | G113: Bilješka | H113: Oznaka (+)/(-) | I113: Oznaka za AOP | J113: =J17 -> Od 01.01. do 30.06. tekuće godine | K113: =K17 -> Od 01.01. do 30.06. prethodne godine
...

Sheet IPK
V1: =BS!E1 -> DUF SAFE INVESTMENT d.o.o. Sarajevo
V2: Naziv emitenta | AG2: Obrazac OEI-PD
V3: =BS!E3 -> Danijela Ozme 1, SARAJEVO | AG3: Tabela F
V4: Sjedište i adresa emitenta
V5: =BS!E5 -> 66.30
V6: Šifra djelatnosti
V7: =BS!E7 -> 4203333590002
V8: Identifikacioni broj za direktne poreze
V9: =BS!E9 -> 65-01-0415-24
V10: Matični broj
U12: IZVJEŠTAJ O PROMJENAMA NA KAPITALU
U13: za period koji završava na dan 30.06.2026. godine
U15: VRSTA PROMJENE NA KAPITALU | W15: Oznaka za AOP | X15: KAPITAL KOJI PRIPADA VLASNICIMA MATIČNOG DRUŠTVA | AD15: Akumulirana neraspore-đena dobit/ (nepokriveni gubitak) | AE15: UKUPNO (3+4+5+6+7+8+9) | AF15: KAPITAL KOJI PRIPADA VLASNICIMA MANJINSKIH INTERESA | AG15: UKUPNI KAPITAL (10+11)
X16: Dionički kapital | Y16: Dionička premija | Z16: Rezerve | AA16: Revalori- zacijske rezerve za nekretnine, postrojenja i opremu | AB16: Revalori-zacijske rezerve za finansijsku imovinu mjerenu po fer vrijednosti kroz ostali ukupni rezultat | AC16: Ostale revaloriza-cijske rezerve
X17: -
X18: Vlasnički udjeli
X19: -
X20: Ostali vlasnički kapital
U21: 1 | W21: 2 | X21: 3 | Y21: 4 | Z21: 5 | AA21: 6 | AB21: 7 | AC21: 8 | AD21: 9 | AE21: 10 | AF21: 11 | AG21: 12
A22: 0.01 | B22: 0.26 | C22: 0.51 | D22: 0.76 | E22: 1.02 | F22: 1.27 | G22: 1.52 | H22: 1.77 | I22: 2.02 | J22: 2.27 | K22: =IF(LEN(X22)=0,"",1+ABS((X22*A22)/LEN(X22))+A22) -> 334.34333 | L22: =IF(LEN(Y22)=0,"",1+ABS((Y22*B22)/LEN(Y22))+B22) | M22: =IF(LEN(Z22)=0,"",1+ABS((Z22*C22)/LEN(Z22))+C22) | N22: =IF(LEN(AA22)=0,"",1+ABS((AA22*D22)/LEN(AA22))+D22) | O22: =IF(LEN(AB22)=0,"",1+ABS((AB22*E22)/LEN(AB22))+E22) | P22: =IF(LEN(AC22)=0,"",1+ABS((AC22*F22)/LEN(AC22))+F22) | Q22: =IF(LEN(AD22)=0,"",1+ABS((AD22*G22)/LEN(AD22))+G22) -> 8932.824 | R22: =IF(LEN(AE22)=0,"",1+ABS((AE22*H22)/LEN(AE22))+H22) -> 67668.69 | ... T22: =IF(LEN(AG22)=0,"",1+ABS((AG22*J22)/LEN(AG22))+J22) | U22: 1. Stanje na kraju perioda na dan 31.12.2024. godine | W22: 901 | X22: 200000 | AD22: 29376 | AE22: =IFERROR(IF(AND(X22,Y22,Z22,AA22,AB22,AC22,AD22)="","",SUM(X22,Y22,Z22,AA22,AB22,AC22,AD22)),"") -> 229376 | AG22: =IFERROR(IF(AND(AE22,AF22)="","",IF(#REF!="Konsolidovani",SUM(AE22,AF22),"")),"")
A23: 0.02 | B23: 0.27 | C23: 0.52 | D23: 0.77 | E23: 1.03 | F23: 1.28 | G23: 1.53 | H23: 1.78 | I23: 2.03 | J23: 2.28 | K23: =IF(LEN(X23)=0,"",1+ABS((X23*A23)/LEN(X23))+A23) | L23: =IF(LEN(Y23)=0,"",1+ABS((Y23*B23)/LEN(Y23))+B23) | M23: =IF(LEN(Z23)=0,"",1+ABS((Z23*C23)/LEN(Z23))+C23) | N23: =IF(LEN(AA23)=0,"",1+ABS((AA23*D23)/LEN(AA23))+D23) | O23: =IF(LEN(AB23)=0,"",1+ABS((AB23*E23)/LEN(AB23))+E23) | P23: =IF(LEN(AC23)=0,"",1+ABS((AC23*F23)/LEN(AC23))+F23) | Q23: =IF(LEN(AD23)=0,"",1+ABS((AD23*G23)/LEN(AD23))+G23) | R23: =IF(LEN(AE23)=0,"",1+ABS((AE23*H23)/LEN(AE23))+H23) | ... T23: =IF(LEN(AG23)=0,"",1+ABS((AG23*J23)/LEN(AG23))+J23) | U23: 2. Efekti retroaktivne primjene promjena računovodstvenih politika | W23: 902 | AG23: =IFERROR(IF(AND(AE23,AF23)="","",IF(#REF!="Konsolidovani",SUM(AE23,AF23),"")),"")
A24: 0.03 | B24: 0.28 | C24: 0.53 | D24: 0.78 | E24: 1.04 | F24: 1.29 | G24: 1.54 | H24: 1.79 | I24: 2.04 | J24: 2.29 | K24: =IF(LEN(X24)=0,"",1+ABS((X24*A24)/LEN(X24))+A24) | L24: =IF(LEN(Y24)=0,"",1+ABS((Y24*B24)/LEN(Y24))+B24) | M24: =IF(LEN(Z24)=0,"",1+ABS((Z24*C24)/LEN(Z24))+C24) | N24: =IF(LEN(AA24)=0,"",1+ABS((AA24*D24)/LEN(AA24))+D24) | O24: =IF(LEN(AB24)=0,"",1+ABS((AB24*E24)/LEN(AB24))+E24) | P24: =IF(LEN(AC24)=0,"",1+ABS((AC24*F24)/LEN(AC24))+F24) | Q24: =IF(LEN(AD24)=0,"",1+ABS((AD24*G24)/LEN(AD24))+G24) | R24: =IF(LEN(AE24)=0,"",1+ABS((AE24*H24)/LEN(AE24))+H24) | ... T24: =IF(LEN(AG24)=0,"",1+ABS((AG24*J24)/LEN(AG24))+J24) | U24: 3. Efekti retroaktivnog prepravljanja iznosa priznatih u skladu sa MRS 8 | W24: 903 | AE24: =IFERROR(IF(AND(X24,Y24,Z24,AA24,AB24,AC24,AD24)="","",SUM(X24,Y24,Z24,AA24,AB24,AC24,AD24)),"") | AG24: =IFERROR(IF(AND(AE24,AF24)="","",IF(#REF!="Konsolidovani",SUM(AE24,AF24),"")),"")
A25: 0.04 | B25: 0.29 | C25: 0.54 | D25: 0.79 | E25: 1.05 | F25: 1.3 | G25: 1.55 | H25: 1.8 | I25: 2.05 | J25: 2.3 | K25: =IF(LEN(X25)=0,"",1+ABS((X25*A25)/LEN(X25))+A25) -> 1334.3733 | L25: =IF(LEN(Y25)=0,"",1+ABS((Y25*B25)/LEN(Y25))+B25) | M25: =IF(LEN(Z25)=0,"",1+ABS((Z25*C25)/LEN(Z25))+C25) | N25: =IF(LEN(AA25)=0,"",1+ABS((AA25*D25)/LEN(AA25))+D25) | O25: =IF(LEN(AB25)=0,"",1+ABS((AB25*E25)/LEN(AB25))+E25) | P25: =IF(LEN(AC25)=0,"",1+ABS((AC25*F25)/LEN(AC25))+F25) | Q25: =IF(LEN(AD25)=0,"",1+ABS((AD25*G25)/LEN(AD25))+G25) -> 9109.11 | R25: =IF(LEN(AE25)=0,"",1+ABS((AE25*H25)/LEN(AE25))+H25) -> 68815.6 | ... T25: =IF(LEN(AG25)=0,"",1+ABS((AG25*J25)/LEN(AG25))+J25) | U25: 4. Ponovo iskazano stanje na početku perioda 01.01.2025. godine (901+902+903) | W25: 904 | X25: =IFERROR(IF(AND(X22,X23,X24)="","",SUM(X22,X23,X24)),"") -> 200000 | Y25: =IFERROR(IF(AND(Y22,Y23,Y24)="","",SUM(Y22,Y23,Y24)),"") | Z25: =IFERROR(IF(AND(Z22,Z23,Z24)="","",SUM(Z22,Z23,Z24)),"") | AA25: =IFERROR(IF(AND(AA22,AA23,AA24)="","",SUM(AA22,AA23,AA24)),"") | AB25: =IFERROR(IF(AND(AB22,AB23,AB24)="","",SUM(AB22,AB23,AB24)),"") | AC25: =IFERROR(IF(AND(AC22,AC23,AC24)="","",SUM(AC22,AC23,AC24)),"") | AD25: =IFERROR(IF(AND(AD22,AD23,AD24)="","",SUM(AD22,AD23,AD24)),"") -> 29376 | AE25: =IFERROR(IF(AND(X25,Y25,Z25,AA25,AB25,AC25,AD25)="","",SUM(X25,Y25,Z25,AA25,AB25,AC25,AD25)),"") -> 229376 | AF25: =IFERROR(IF(AND(AF22,AF23,AF24)="","",SUM(AF22,AF23,AF24)),"") | AG25: =IFERROR(IF(AND(AE25,AF25)="","",IF(#REF!="Konsolidovani",SUM(AE25,AF25),"")),"")
A27: 0.05 | B27: 0.3 | C27: 0.55 | D27: 0.8 | E27: 1.06 | F27: 1.31 | G27: 1.56 | H27: 1.81 | I27: 2.06 | J27: 2.31 | K27: =IF(LEN(X27)=0,"",1+ABS((X27*A27)/LEN(X27))+A27) | L27: =IF(LEN(Y27)=0,"",1+ABS((Y27*B27)/LEN(Y27))+B27) | M27: =IF(LEN(Z27)=0,"",1+ABS((Z27*C27)/LEN(Z27))+C27) | N27: =IF(LEN(AA27)=0,"",1+ABS((AA27*D27)/LEN(AA27))+D27) | O27: =IF(LEN(AB27)=0,"",1+ABS((AB27*E27)/LEN(AB27))+E27) | P27: =IF(LEN(AC27)=0,"",1+ABS((AC27*F27)/LEN(AC27))+F27) | Q27: =IF(LEN(AD27)=0,"",1+ABS((AD27*G27)/LEN(AD27))+G27) -> 64253.24 | R27: =IF(LEN(AE27)=0,"",1+ABS((AE27*H27)/LEN(AE27))+H27) -> 74550.073 | ... T27: =IF(LEN(AG27)=0,"",1+ABS((AG27*J27)/LEN(AG27))+J27) | U27: 5. Dobit/(gubitak) za period | W27: 905 | AD27: 247118 | AE27: =IFERROR(IF(AND(X27,Y27,Z27,AA27,AB27,AC27,AD27)="","",SUM(X27,Y27,Z27,AA27,AB27,AC27,AD27)),"") -> 247118 | AG27: =IFERROR(IF(AND(AE27,AF27)="","",IF(#REF!="Konsolidovani",SUM(AE27,AF27),"")),"")
A28: 0.06 | B28: 0.31 | C28: 0.56 | D28: 0.81 | E28: 1.07 | F28: 1.32 | G28: 1.57 | H28: 1.82 | I28: 2.07 | J28: 2.32 | K28: =IF(LEN(X28)=0,"",1+ABS((X28*A28)/LEN(X28))+A28) | L28: =IF(LEN(Y28)=0,"",1+ABS((Y28*B28)/LEN(Y28))+B28) | M28: =IF(LEN(Z28)=0,"",1+ABS((Z28*C28)/LEN(Z28))+C28) | N28: =IF(LEN(AA28)=0,"",1+ABS((AA28*D28)/LEN(AA28))+D28) | O28: =IF(LEN(AB28)=0,"",1+ABS((AB28*E28)/LEN(AB28))+E28) | P28: =IF(LEN(AC28)=0,"",1+ABS((AC28*F28)/LEN(AC28))+F28) | Q28: =IF(LEN(AD28)=0,"",1+ABS((AD28*G28)/LEN(AD28))+G28) | R28: =IF(LEN(AE28)=0,"",1+ABS((AE28*H28)/LEN(AE28))+H28) | ... T28: =IF(LEN(AG28)=0,"",1+ABS((AG28*J28)/LEN(AG28))+J28) | U28: 6. Ostali ukupni rezultat za period | W28: 906 | AE28: =IFERROR(IF(AND(X28,Y28,Z28,AA28,AB28,AC28,AD28)="","",SUM(X28,Y28,Z28,AA28,AB28,AC28,AD28)),"") | AG28: =IFERROR(IF(AND(AE28,AF28)="","",IF(#REF!="Konsolidovani",SUM(AE28,AF28),"")),"")
A29: 0.07 | B29: 0.32 | C29: 0.57 | D29: 0.82 | E29: 1.08 | F29: 1.33 | G29: 1.58 | H29: 1.83 | I29: 2.08 | J29: 2.33 | K29: =IF(LEN(X29)=0,"",1+ABS((X29*A29)/LEN(X29))+A29) | L29: =IF(LEN(Y29)=0,"",1+ABS((Y29*B29)/LEN(Y29))+B29) | M29: =IF(LEN(Z29)=0,"",1+ABS((Z29*C29)/LEN(Z29))+C29) | N29: =IF(LEN(AA29)=0,"",1+ABS((AA29*D29)/LEN(AA29))+D29) | O29: =IF(LEN(AB29)=0,"",1+ABS((AB29*E29)/LEN(AB29))+E29) | P29: =IF(LEN(AC29)=0,"",1+ABS((AC29*F29)/LEN(AC29))+F29) | Q29: =IF(LEN(AD29)=0,"",1+ABS((AD29*G29)/LEN(AD29))+G29) -> 65076.987 | R29: =IF(LEN(AE29)=0,"",1+ABS((AE29*H29)/LEN(AE29))+H29) -> 75373.82 | ... T29: =IF(LEN(AG29)=0,"",1+ABS((AG29*J29)/LEN(AG29))+J29) | U29: 7. Ukupni rezultat (905+906) | W29: 907 | X29: =IFERROR(IF(AND(X27,X28)="","",SUM(X27,X28)),"") | Y29: =IFERROR(IF(AND(Y27,Y28)="","",SUM(Y27,Y28)),"") | Z29: =IFERROR(IF(AND(Z27,Z28)="","",SUM(Z27,Z28)),"") | AA29: =IFERROR(IF(AND(AA27,AA28)="","",SUM(AA27,AA28)),"") | AB29: =IFERROR(IF(AND(AB27,AB28)="","",SUM(AB27,AB28)),"") | AC29: =IFERROR(IF(AND(AC27,AC28)="","",SUM(AC27,AC28)),"") | AD29: =IFERROR(IF(AND(AD27,AD28)="","",SUM(AD27,AD28)),"") -> 247118 | AE29: =IFERROR(IF(AND(X29,Y29,Z29,AA29,AB29,AC29,AD29)="","",SUM(X29,Y29,Z29,AA29,AB29,AC29,AD29)),"") -> 247118 | AF29: =IFERROR(IF(AND(AF27,AF28)="","",SUM(AF27,AF28)),"") | AG29: =IFERROR(IF(AND(AE29,AF29)="","",IF(#REF!="Konsolidovani",SUM(AE29,AF29),"")),"")
A31: 0.08 | B31: 0.33 | C31: 0.58 | D31: 0.83 | E31: 1.09 | F31: 1.34 | G31: 1.59 | H31: 1.84 | I31: 2.09 | J31: 2.34 | K31: =IF(LEN(X31)=0,"",1+ABS((X31*A31)/LEN(X31))+A31) | L31: =IF(LEN(Y31)=0,"",1+ABS((Y31*B31)/LEN(Y31))+B31) | M31: =IF(LEN(Z31)=0,"",1+ABS((Z31*C31)/LEN(Z31))+C31) | N31: =IF(LEN(AA31)=0,"",1+ABS((AA31*D31)/LEN(AA31))+D31) | O31: =IF(LEN(AB31)=0,"",1+ABS((AB31*E31)/LEN(AB31))+E31) | P31: =IF(LEN(AC31)=0,"",1+ABS((AC31*F31)/LEN(AC31))+F31) | Q31: =IF(LEN(AD31)=0,"",1+ABS((AD31*G31)/LEN(AD31))+G31) | R31: =IF(LEN(AE31)=0,"",1+ABS((AE31*H31)/LEN(AE31))+H31) | ... T31: =IF(LEN(AG31)=0,"",1+ABS((AG31*J31)/LEN(AG31))+J31) | U31: 8. Emisija dioničkog kapitala i drugi oblici povećanja vlasničkog kapitala | W31: 908 | AE31: =IFERROR(IF(AND(X31,Y31,Z31,AA31,AB31,AC31,AD31)="","",SUM(X31,Y31,Z31,AA31,AB31,AC31,AD31)),"") | AG31: =IFERROR(IF(AND(AE31,AF31)="","",IF(#REF!="Konsolidovani",SUM(AE31,AF31),"")),"")
A32: 0.09 | B32: 0.34 | C32: 0.59 | D32: 0.84 | E32: 1.1 | F32: 1.35 | G32: 1.6 | H32: 1.85 | I32: 2.1 | J32: 2.35 | K32: =IF(LEN(X32)=0,"",1+ABS((X32*A32)/LEN(X32))+A32) | L32: =IF(LEN(Y32)=0,"",1+ABS((Y32*B32)/LEN(Y32))+B32) | M32: =IF(LEN(Z32)=0,"",1+ABS((Z32*C32)/LEN(Z32))+C32) | N32: =IF(LEN(AA32)=0,"",1+ABS((AA32*D32)/LEN(AA32))+D32) | O32: =IF(LEN(AB32)=0,"",1+ABS((AB32*E32)/LEN(AB32))+E32) | P32: =IF(LEN(AC32)=0,"",1+ABS((AC32*F32)/LEN(AC32))+F32) | Q32: =IF(LEN(AD32)=0,"",1+ABS((AD32*G32)/LEN(AD32))+G32) | R32: =IF(LEN(AE32)=0,"",1+ABS((AE32*H32)/LEN(AE32))+H32) | ... T32: =IF(LEN(AG32)=0,"",1+ABS((AG32*J32)/LEN(AG32))+J32) | U32: 9. Sticanje vlastitih dionica i drugi oblici smanjenja vlasničkog kapitala | W32: 909 | AE32: =IFERROR(IF(AND(X32,Y32,Z32,AA32,AB32,AC32,AD32)="","",SUM(X32,Y32,Z32,AA32,AB32,AC32,AD32)),"") | AG32: =IFERROR(IF(AND(AE32,AF32)="","",IF(#REF!="Konsolidovani",SUM(AE32,AF32),"")),"")
A33: 0.1 | B33: 0.35 | C33: 0.6 | D33: 0.85 | E33: 1.11 | F33: 1.36 | G33: 1.61 | H33: 1.86 | I33: 2.11 | J33: 2.36 | K33: =IF(LEN(X33)=0,"",1+ABS((X33*A33)/LEN(X33))+A33) | L33: =IF(LEN(Y33)=0,"",1+ABS((Y33*B33)/LEN(Y33))+B33) | M33: =IF(LEN(Z33)=0,"",1+ABS((Z33*C33)/LEN(Z33))+C33) | N33: =IF(LEN(AA33)=0,"",1+ABS((AA33*D33)/LEN(AA33))+D33) | O33: =IF(LEN(AB33)=0,"",1+ABS((AB33*E33)/LEN(AB33))+E33) | P33: =IF(LEN(AC33)=0,"",1+ABS((AC33*F33)/LEN(AC33))+F33) | Q33: =IF(LEN(AD33)=0,"",1+ABS((AD33*G33)/LEN(AD33))+G33) | R33: =IF(LEN(AE33)=0,"",1+ABS((AE33*H33)/LEN(AE33))+H33) | ... T33: =IF(LEN(AG33)=0,"",1+ABS((AG33*J33)/LEN(AG33))+J33) | U33: 10. Objavljene dividende | W33: 910 | AE33: =IFERROR(IF(AND(X33,Y33,Z33,AA33,AB33,AC33,AD33)="","",SUM(X33,Y33,Z33,AA33,AB33,AC33,AD33)),"") | AG33: =IFERROR(IF(AND(AE33,AF33)="","",IF(#REF!="Konsolidovani",SUM(AE33,AF33),"")),"")
A34: 0.11 | B34: 0.36 | C34: 0.61 | D34: 0.86 | E34: 1.12 | F34: 1.37 | G34: 1.62 | H34: 1.87 | I34: 2.12 | J34: 2.37 | K34: =IF(LEN(X34)=0,"",1+ABS((X34*A34)/LEN(X34))+A34) | L34: =IF(LEN(Y34)=0,"",1+ABS((Y34*B34)/LEN(Y34))+B34) | M34: =IF(LEN(Z34)=0,"",1+ABS((Z34*C34)/LEN(Z34))+C34) -> 3585.482 | N34: =IF(LEN(AA34)=0,"",1+ABS((AA34*D34)/LEN(AA34))+D34) | O34: =IF(LEN(AB34)=0,"",1+ABS((AB34*E34)/LEN(AB34))+E34) | P34: =IF(LEN(AC34)=0,"",1+ABS((AC34*F34)/LEN(AC34))+F34) | Q34: =IF(LEN(AD34)=0,"",1+ABS((AD34*G34)/LEN(AD34))+G34) -> 7934.14 | R34: =IF(LEN(AE34)=0,"",1+ABS((AE34*H34)/LEN(AE34))+H34) -> 2.87 | ... T34: =IF(LEN(AG34)=0,"",1+ABS((AG34*J34)/LEN(AG34))+J34) | U34: 11. Drugi oblici rasporeda dobiti i pokriće gubitka | W34: 911 | Z34: 29376 | AD34: -29376 | AE34: =IFERROR(IF(AND(X34,Y34,Z34,AA34,AB34,AC34,AD34)="","",SUM(X34,Y34,Z34,AA34,AB34,AC34,AD34)),"") -> 0 | AG34: =IFERROR(IF(AND(AE34,AF34)="","",IF(#REF!="Konsolidovani",SUM(AE34,AF34),"")),"")
A35: 0.12 | B35: 0.37 | C35: 0.62 | D35: 0.87 | E35: 1.13 | F35: 1.38 | G35: 1.63 | H35: 1.88 | I35: 2.13 | J35: 2.38 | K35: =IF(LEN(X35)=0,"",1+ABS((X35*A35)/LEN(X35))+A35) | L35: =IF(LEN(Y35)=0,"",1+ABS((Y35*B35)/LEN(Y35))+B35) | M35: =IF(LEN(Z35)=0,"",1+ABS((Z35*C35)/LEN(Z35))+C35) | N35: =IF(LEN(AA35)=0,"",1+ABS((AA35*D35)/LEN(AA35))+D35) | O35: =IF(LEN(AB35)=0,"",1+ABS((AB35*E35)/LEN(AB35))+E35) | P35: =IF(LEN(AC35)=0,"",1+ABS((AC35*F35)/LEN(AC35))+F35) | Q35: =IF(LEN(AD35)=0,"",1+ABS((AD35*G35)/LEN(AD35))+G35) | R35: =IF(LEN(AE35)=0,"",1+ABS((AE35*H35)/LEN(AE35))+H35) | ... T35: =IF(LEN(AG35)=0,"",1+ABS((AG35*J35)/LEN(AG35))+J35) | U35: 12. Ostale promjene | W35: 912 | AE35: =IFERROR(IF(AND(X35,Y35,Z35,AA35,AB35,AC35,AD35)="","",SUM(X35,Y35,Z35,AA35,AB35,AC35,AD35)),"") | AG35: =IFERROR(IF(AND(AE35,AF35)="","",IF(#REF!="Konsolidovani",SUM(AE35,AF35),"")),"")
A37: 0.13 | B37: 0.38 | C37: 0.63 | D37: 0.88 | E37: 1.14 | F37: 1.39 | G37: 1.64 | H37: 1.89 | I37: 2.14 | J37: 2.39 | K37: =IF(LEN(X37)=0,"",1+ABS((X37*A37)/LEN(X37))+A37) -> 4334.4633 | L37: =IF(LEN(Y37)=0,"",1+ABS((Y37*B37)/LEN(Y37))+B37) | M37: =IF(LEN(Z37)=0,"",1+ABS((Z37*C37)/LEN(Z37))+C37) -> 3703.006 | N37: =IF(LEN(AA37)=0,"",1+ABS((AA37*D37)/LEN(AA37))+D37) | O37: =IF(LEN(AB37)=0,"",1+ABS((AB37*E37)/LEN(AB37))+E37) | P37: =IF(LEN(AC37)=0,"",1+ABS((AC37*F37)/LEN(AC37))+F37) | Q37: =IF(LEN(AD37)=0,"",1+ABS((AD37*G37)/LEN(AD37))+G37) -> 67548.227 | R37: =IF(LEN(AE37)=0,"",1+ABS((AE37*H37)/LEN(AE37))+H37) -> 150098.5 | ... T37: =IF(LEN(AG37)=0,"",1+ABS((AG37*J37)/LEN(AG37))+J37) | U37: 13. Stanje na kraju perioda na dan 31.12.2025. godine (904+907+908-909-910+911+912) | W37: 913 | X37: =IFERROR(IF(AND(X25,X29,X31,X32,X33,X34,X35)="","",SUM(X25,X29,X31)-SUM(X32)-SUM(X33)+SUM(X34,X35)),"") -> 200000 | Y37: =IFERROR(IF(AND(Y25,Y29,Y31,Y32,Y33,Y34,Y35)="","",SUM(Y25,Y29,Y31)-SUM(Y32)-SUM(Y33)+SUM(Y34,Y35)),"") | Z37: =IFERROR(IF(AND(Z25,Z29,Z31,Z32,Z33,Z34,Z35)="","",SUM(Z25,Z29,Z31)-SUM(Z32)-SUM(Z33)+SUM(Z34,Z35)),"") -> 29376 | AA37: =IFERROR(IF(AND(AA25,AA29,AA31,AA32,AA33,AA34,AA35)="","",SUM(AA25,AA29,AA31)-SUM(AA32)-SUM(AA33)+SUM(AA34,AA35)),"") | AB37: =IFERROR(IF(AND(AB25,AB29,AB31,AB32,AB33,AB34,AB35)="","",SUM(AB25,AB29,AB31)-SUM(AB32)-SUM(AB33)+SUM(AB34,AB35)),"") | AC37: =IFERROR(IF(AND(AC25,AC29,AC31,AC32,AC33,AC34,AC35)="","",SUM(AC25,AC29,AC31)-SUM(AC32)-SUM(AC33)+SUM(AC34,AC35)),"") | AD37: =IFERROR(IF(AND(AD25,AD29,AD31,AD32,AD33,AD34,AD35)="","",SUM(AD25,AD29,AD31)-SUM(AD32)-SUM(AD33)+SUM(AD34,AD35)),"") -> 247118 | AE37: =IFERROR(IF(AND(X37,Y37,Z37,AA37,AB37,AC37,AD37)="","",SUM(X37,Y37,Z37,AA37,AB37,AC37,AD37)),"") -> 476494 | AF37: =IFERROR(IF(AND(AF25,AF29,AF31,AF32,AF33,AF34,AF35)="","",SUM(AF25,AF29,AF31)-SUM(AF32)-SUM(AF33)+SUM(AF34,AF35)),"") | AG37: =IFERROR(IF(AND(AE37,AF37)="","",IF(#REF!="Konsolidovani",SUM(AE37,AF37),"")),"")
A39: 0.14 | B39: 0.39 | C39: 0.64 | D39: 0.89 | E39: 1.15 | F39: 1.4 | G39: 1.65 | H39: 1.9 | I39: 2.15 | J39: 2.4 | K39: =IF(LEN(X39)=0,"",1+ABS((X39*A39)/LEN(X39))+A39) | L39: =IF(LEN(Y39)=0,"",1+ABS((Y39*B39)/LEN(Y39))+B39) | M39: =IF(LEN(Z39)=0,"",1+ABS((Z39*C39)/LEN(Z39))+C39) | N39: =IF(LEN(AA39)=0,"",1+ABS((AA39*D39)/LEN(AA39))+D39) | O39: =IF(LEN(AB39)=0,"",1+ABS((AB39*E39)/LEN(AB39))+E39) | P39: =IF(LEN(AC39)=0,"",1+ABS((AC39*F39)/LEN(AC39))+F39) | Q39: =IF(LEN(AD39)=0,"",1+ABS((AD39*G39)/LEN(AD39))+G39) | R39: =IF(LEN(AE39)=0,"",1+ABS((AE39*H39)/LEN(AE39))+H39) | ... T39: =IF(LEN(AG39)=0,"",1+ABS((AG39*J39)/LEN(AG39))+J39) | U39: 14. Efekti retroaktivne primjene promjena računovodstvenih politika | W39: 914 | AE39: =IFERROR(IF(AND(X39,Y39,Z39,AA39,AB39,AC39,AD39)="","",SUM(X39,Y39,Z39,AA39,AB39,AC39,AD39)),"") | AG39: =IFERROR(IF(AND(AE39,AF39)="","",IF(#REF!="Konsolidovani",SUM(AE39,AF39),"")),"")
A40: 0.15 | B40: 0.4 | C40: 0.65 | D40: 0.9 | E40: 1.16 | F40: 1.41 | G40: 1.66 | H40: 1.91 | I40: 2.16 | J40: 2.41 | K40: =IF(LEN(X40)=0,"",1+ABS((X40*A40)/LEN(X40))+A40) | L40: =IF(LEN(Y40)=0,"",1+ABS((Y40*B40)/LEN(Y40))+B40) | M40: =IF(LEN(Z40)=0,"",1+ABS((Z40*C40)/LEN(Z40))+C40) | N40: =IF(LEN(AA40)=0,"",1+ABS((AA40*D40)/LEN(AA40))+D40) | O40: =IF(LEN(AB40)=0,"",1+ABS((AB40*E40)/LEN(AB40))+E40) | P40: =IF(LEN(AC40)=0,"",1+ABS((AC40*F40)/LEN(AC40))+F40) | Q40: =IF(LEN(AD40)=0,"",1+ABS((AD40*G40)/LEN(AD40))+G40) | R40: =IF(LEN(AE40)=0,"",1+ABS((AE40*H40)/LEN(AE40))+H40) | ... T40: =IF(LEN(AG40)=0,"",1+ABS((AG40*J40)/LEN(AG40))+J40) | U40: 15. Efekti retroaktivnog prepravljanja iznosa priznatih u skladu sa MRS 8 | W40: 915 | AE40: =IFERROR(IF(AND(X40,Y40,Z40,AA40,AB40,AC40,AD40)="","",SUM(X40,Y40,Z40,AA40,AB40,AC40,AD40)),"") | AG40: =IFERROR(IF(AND(AE40,AF40)="","",IF(#REF!="Konsolidovani",SUM(AE40,AF40),"")),"")
A41: 0.16 | B41: 0.41 | C41: 0.66 | D41: 0.91 | E41: 1.17 | F41: 1.42 | G41: 1.67 | H41: 1.92 | I41: 2.17 | J41: 2.42 | K41: =IF(LEN(X41)=0,"",1+ABS((X41*A41)/LEN(X41))+A41) -> 5334.4933 | L41: =IF(LEN(Y41)=0,"",1+ABS((Y41*B41)/LEN(Y41))+B41) | M41: =IF(LEN(Z41)=0,"",1+ABS((Z41*C41)/LEN(Z41))+C41) -> 3879.292 | N41: =IF(LEN(AA41)=0,"",1+ABS((AA41*D41)/LEN(AA41))+D41) | O41: =IF(LEN(AB41)=0,"",1+ABS((AB41*E41)/LEN(AB41))+E41) | P41: =IF(LEN(AC41)=0,"",1+ABS((AC41*F41)/LEN(AC41))+F41) | Q41: =IF(LEN(AD41)=0,"",1+ABS((AD41*G41)/LEN(AD41))+G41) -> 68783.847 | R41: =IF(LEN(AE41)=0,"",1+ABS((AE41*H41)/LEN(AE41))+H41) -> 152481 | ... T41: =IF(LEN(AG41)=0,"",1+ABS((AG41*J41)/LEN(AG41))+J41) | U41: 16. Ponovo iskazano stanje na početku perioda 01.01.2026. godine (913+914+915) | W41: 916 | X41: =IFERROR(IF(AND(X37,X39,X40)="","",SUM(X37,X39,X40)),"") -> 200000 | Y41: =IFERROR(IF(AND(Y37,Y39,Y40)="","",SUM(Y37,Y39,Y40)),"") | Z41: =IFERROR(IF(AND(Z37,Z39,Z40)="","",SUM(Z37,Z39,Z40)),"") -> 29376 | AA41: =IFERROR(IF(AND(AA37,AA39,AA40)="","",SUM(AA37,AA39,AA40)),"") | AB41: =IFERROR(IF(AND(AB37,AB39,AB40)="","",SUM(AB37,AB39,AB40)),"") | AC41: =IFERROR(IF(AND(AC37,AC39,AC40)="","",SUM(AC37,AC39,AC40)),"") | AD41: =IFERROR(IF(AND(AD37,AD39,AD40)="","",SUM(AD37,AD39,AD40)),"") -> 247118 | AE41: =IFERROR(IF(AND(X41,Y41,Z41,AA41,AB41,AC41,AD41)="","",SUM(X41,Y41,Z41,AA41,AB41,AC41,AD41)),"") -> 476494 | AF41: =IFERROR(IF(AND(AF37,AF39,AF40)="","",SUM(AF37,AF39,AF40)),"") | AG41: =IFERROR(IF(AND(AE41,AF41)="","",IF(#REF!="Konsolidovani",SUM(AE41,AF41),"")),"")
A43: 0.17 | B43: 0.42 | C43: 0.67 | D43: 0.92 | E43: 1.18 | F43: 1.43 | G43: 1.68 | H43: 1.93 | I43: 2.18 | J43: 2.43 | K43: =IF(LEN(X43)=0,"",1+ABS((X43*A43)/LEN(X43))+A43) | L43: =IF(LEN(Y43)=0,"",1+ABS((Y43*B43)/LEN(Y43))+B43) | M43: =IF(LEN(Z43)=0,"",1+ABS((Z43*C43)/LEN(Z43))+C43) | N43: =IF(LEN(AA43)=0,"",1+ABS((AA43*D43)/LEN(AA43))+D43) | O43: =IF(LEN(AB43)=0,"",1+ABS((AB43*E43)/LEN(AB43))+E43) | P43: =IF(LEN(AC43)=0,"",1+ABS((AC43*F43)/LEN(AC43))+F43) | Q43: =IF(LEN(AD43)=0,"",1+ABS((AD43*G43)/LEN(AD43))+G43) -> 37925.6 | R43: =IF(LEN(AE43)=0,"",1+ABS((AE43*H43)/LEN(AE43))+H43) -> 43569.142 | ... T43: =IF(LEN(AG43)=0,"",1+ABS((AG43*J43)/LEN(AG43))+J43) | U43: 17. Dobit/(gubitak) za godinu | W43: 917 | AD43: 135439 | AE43: =IFERROR(IF(AND(X43,Y43,Z43,AA43,AB43,AC43,AD43)="","",SUM(X43,Y43,Z43,AA43,AB43,AC43,AD43)),"") -> 135439 | AG43: =IFERROR(IF(AND(AE43,AF43)="","",IF(#REF!="Konsolidovani",SUM(AE43,AF43),"")),"")
A44: 0.18 | B44: 0.43 | C44: 0.68 | D44: 0.93 | E44: 1.19 | F44: 1.44 | G44: 1.69 | H44: 1.94 | I44: 2.19 | J44: 2.44 | K44: =IF(LEN(X44)=0,"",1+ABS((X44*A44)/LEN(X44))+A44) | L44: =IF(LEN(Y44)=0,"",1+ABS((Y44*B44)/LEN(Y44))+B44) | M44: =IF(LEN(Z44)=0,"",1+ABS((Z44*C44)/LEN(Z44))+C44) | N44: =IF(LEN(AA44)=0,"",1+ABS((AA44*D44)/LEN(AA44))+D44) | O44: =IF(LEN(AB44)=0,"",1+ABS((AB44*E44)/LEN(AB44))+E44) | P44: =IF(LEN(AC44)=0,"",1+ABS((AC44*F44)/LEN(AC44))+F44) | Q44: =IF(LEN(AD44)=0,"",1+ABS((AD44*G44)/LEN(AD44))+G44) | R44: =IF(LEN(AE44)=0,"",1+ABS((AE44*H44)/LEN(AE44))+H44) | ... T44: =IF(LEN(AG44)=0,"",1+ABS((AG44*J44)/LEN(AG44))+J44) | U44: 18. Ostali ukupni rezultat za godinu | W44: 918 | AE44: =IFERROR(IF(AND(X44,Y44,Z44,AA44,AB44,AC44,AD44)="","",SUM(X44,Y44,Z44,AA44,AB44,AC44,AD44)),"") | AG44: =IFERROR(IF(AND(AE44,AF44)="","",IF(#REF!="Konsolidovani",SUM(AE44,AF44),"")),"")
A45: 0.19 | B45: 0.44 | C45: 0.69 | D45: 0.94 | E45: 1.2 | F45: 1.45 | G45: 1.7 | H45: 1.95 | I45: 2.2 | J45: 2.45 | K45: =IF(LEN(X45)=0,"",1+ABS((X45*A45)/LEN(X45))+A45) | L45: =IF(LEN(Y45)=0,"",1+ABS((Y45*B45)/LEN(Y45))+B45) | M45: =IF(LEN(Z45)=0,"",1+ABS((Z45*C45)/LEN(Z45))+C45) | N45: =IF(LEN(AA45)=0,"",1+ABS((AA45*D45)/LEN(AA45))+D45) | O45: =IF(LEN(AB45)=0,"",1+ABS((AB45*E45)/LEN(AB45))+E45) | P45: =IF(LEN(AC45)=0,"",1+ABS((AC45*F45)/LEN(AC45))+F45) | Q45: =IF(LEN(AD45)=0,"",1+ABS((AD45*G45)/LEN(AD45))+G45) -> 38377.083 | R45: =IF(LEN(AE45)=0,"",1+ABS((AE45*H45)/LEN(AE45))+H45) -> 44020.625 | ... T45: =IF(LEN(AG45)=0,"",1+ABS((AG45*J45)/LEN(AG45))+J45) | U45: 19. Ukupni rezultat (917+918) | W45: 919 | X45: =IFERROR(IF(AND(X43,X44)="","",SUM(X43,X44)),"") | Y45: =IFERROR(IF(AND(Y43,Y44)="","",SUM(Y43,Y44)),"") | Z45: =IFERROR(IF(AND(Z43,Z44)="","",SUM(Z43,Z44)),"") | AA45: =IFERROR(IF(AND(AA43,AA44)="","",SUM(AA43,AA44)),"") | AB45: =IFERROR(IF(AND(AB43,AB44)="","",SUM(AB43,AB44)),"") | AC45: =IFERROR(IF(AND(AC43,AC44)="","",SUM(AC43,AC44)),"") | AD45: =IFERROR(IF(AND(AD43,AD44)="","",SUM(AD43,AD44)),"") -> 135439 | AE45: =IFERROR(IF(AND(X45,Y45,Z45,AA45,AB45,AC45,AD45)="","",SUM(X45,Y45,Z45,AA45,AB45,AC45,AD45)),"") -> 135439 | AF45: =IFERROR(IF(AND(AF43,AF44)="","",SUM(AF43,AF44)),"") | AG45: =IFERROR(IF(AND(AE45,AF45)="","",IF(#REF!="Konsolidovani",SUM(AE45,AF45),"")),"")
A47: 0.2 | B47: 0.45 | C47: 0.7 | D47: 0.95 | E47: 1.21 | F47: 1.46 | G47: 1.71 | H47: 1.96 | I47: 2.21 | J47: 2.46 | K47: =IF(LEN(X47)=0,"",1+ABS((X47*A47)/LEN(X47))+A47) | L47: =IF(LEN(Y47)=0,"",1+ABS((Y47*B47)/LEN(Y47))+B47) | M47: =IF(LEN(Z47)=0,"",1+ABS((Z47*C47)/LEN(Z47))+C47) | N47: =IF(LEN(AA47)=0,"",1+ABS((AA47*D47)/LEN(AA47))+D47) | O47: =IF(LEN(AB47)=0,"",1+ABS((AB47*E47)/LEN(AB47))+E47) | P47: =IF(LEN(AC47)=0,"",1+ABS((AC47*F47)/LEN(AC47))+F47) | Q47: =IF(LEN(AD47)=0,"",1+ABS((AD47*G47)/LEN(AD47))+G47) | R47: =IF(LEN(AE47)=0,"",1+ABS((AE47*H47)/LEN(AE47))+H47) | ... T47: =IF(LEN(AG47)=0,"",1+ABS((AG47*J47)/LEN(AG47))+J47) | U47: 20. Emisija dioničkog kapitala i drugi oblici povećanja vlasničkog kapitala | W47: 920 | AE47: =IFERROR(IF(AND(X47,Y47,Z47,AA47,AB47,AC47,AD47)="","",SUM(X47,Y47,Z47,AA47,AB47,AC47,AD47)),"") | AG47: =IFERROR(IF(AND(AE47,AF47)="","",IF(#REF!="Konsolidovani",SUM(AE47,AF47),"")),"")
A48: 0.21 | B48: 0.46 | C48: 0.71 | D48: 0.96 | E48: 1.22 | F48: 1.47 | G48: 1.72 | H48: 1.97 | I48: 2.22 | J48: 2.47 | K48: =IF(LEN(X48)=0,"",1+ABS((X48*A48)/LEN(X48))+A48) | L48: =IF(LEN(Y48)=0,"",1+ABS((Y48*B48)/LEN(Y48))+B48) | M48: =IF(LEN(Z48)=0,"",1+ABS((Z48*C48)/LEN(Z48))+C48) | N48: =IF(LEN(AA48)=0,"",1+ABS((AA48*D48)/LEN(AA48))+D48) | O48: =IF(LEN(AB48)=0,"",1+ABS((AB48*E48)/LEN(AB48))+E48) | P48: =IF(LEN(AC48)=0,"",1+ABS((AC48*F48)/LEN(AC48))+F48) | Q48: =IF(LEN(AD48)=0,"",1+ABS((AD48*G48)/LEN(AD48))+G48) | R48: =IF(LEN(AE48)=0,"",1+ABS((AE48*H48)/LEN(AE48))+H48) | ... T48: =IF(LEN(AG48)=0,"",1+ABS((AG48*J48)/LEN(AG48))+J48) | U48: 21. Sticanje vlastitih dionica i drugi oblici smanjenja vlasničkog kapitala | W48: 921 | AE48: =IFERROR(IF(AND(X48,Y48,Z48,AA48,AB48,AC48,AD48)="","",SUM(X48,Y48,Z48,AA48,AB48,AC48,AD48)),"") | AG48: =IFERROR(IF(AND(AE48,AF48)="","",IF(#REF!="Konsolidovani",SUM(AE48,AF48),"")),"")
A49: 0.22 | B49: 0.47 | C49: 0.72 | D49: 0.97 | E49: 1.23 | F49: 1.48 | G49: 1.73 | H49: 1.98 | I49: 2.23 | J49: 2.48 | K49: =IF(LEN(X49)=0,"",1+ABS((X49*A49)/LEN(X49))+A49) | L49: =IF(LEN(Y49)=0,"",1+ABS((Y49*B49)/LEN(Y49))+B49) | M49: =IF(LEN(Z49)=0,"",1+ABS((Z49*C49)/LEN(Z49))+C49) | N49: =IF(LEN(AA49)=0,"",1+ABS((AA49*D49)/LEN(AA49))+D49) | O49: =IF(LEN(AB49)=0,"",1+ABS((AB49*E49)/LEN(AB49))+E49) | P49: =IF(LEN(AC49)=0,"",1+ABS((AC49*F49)/LEN(AC49))+F49) | Q49: =IF(LEN(AD49)=0,"",1+ABS((AD49*G49)/LEN(AD49))+G49) -> 50891.833 | R49: =IF(LEN(AE49)=0,"",1+ABS((AE49*H49)/LEN(AE49))+H49) -> 58246 | ... T49: =IF(LEN(AG49)=0,"",1+ABS((AG49*J49)/LEN(AG49))+J49) | U49: 22. Objavljene dividende | W49: 922 | AD49: 176494 | AE49: =IFERROR(IF(AND(X49,Y49,Z49,AA49,AB49,AC49,AD49)="","",SUM(X49,Y49,Z49,AA49,AB49,AC49,AD49)),"") -> 176494 | AG49: =IFERROR(IF(AND(AE49,AF49)="","",IF(#REF!="Konsolidovani",SUM(AE49,AF49),"")),"")
A50: 0.23 | B50: 0.48 | C50: 0.73 | D50: 0.98 | E50: 1.24 | F50: 1.49 | G50: 1.74 | H50: 1.99 | I50: 2.24 | J50: 2.49 | K50: =IF(LEN(X50)=0,"",1+ABS((X50*A50)/LEN(X50))+A50) | L50: =IF(LEN(Y50)=0,"",1+ABS((Y50*B50)/LEN(Y50))+B50) | M50: =IF(LEN(Z50)=0,"",1+ABS((Z50*C50)/LEN(Z50))+C50) -> 10312.834 | N50: =IF(LEN(AA50)=0,"",1+ABS((AA50*D50)/LEN(AA50))+D50) | O50: =IF(LEN(AB50)=0,"",1+ABS((AB50*E50)/LEN(AB50))+E50) | P50: =IF(LEN(AC50)=0,"",1+ABS((AC50*F50)/LEN(AC50))+F50) | Q50: =IF(LEN(AD50)=0,"",1+ABS((AD50*G50)/LEN(AD50))+G50) -> 20483.7 | R50: =IF(LEN(AE50)=0,"",1+ABS((AE50*H50)/LEN(AE50))+H50) -> 2.99 | ... T50: =IF(LEN(AG50)=0,"",1+ABS((AG50*J50)/LEN(AG50))+J50) | U50: 23. Drugi oblici rasporeda dobiti i pokriće gubitka | W50: 923 | Z50: 70624 | AD50: -70624 | AE50: =IFERROR(IF(AND(X50,Y50,Z50,AA50,AB50,AC50,AD50)="","",SUM(X50,Y50,Z50,AA50,AB50,AC50,AD50)),"") -> 0 | AG50: =IFERROR(IF(AND(AE50,AF50)="","",IF(#REF!="Konsolidovani",SUM(AE50,AF50),"")),"")
A51: 0.24 | B51: 0.49 | C51: 0.74 | D51: 0.99 | E51: 1.25 | F51: 1.5 | G51: 1.75 | H51: 2 | I51: 2.25 | J51: 2.5 | K51: =IF(LEN(X51)=0,"",1+ABS((X51*A51)/LEN(X51))+A51) | L51: =IF(LEN(Y51)=0,"",1+ABS((Y51*B51)/LEN(Y51))+B51) | M51: =IF(LEN(Z51)=0,"",1+ABS((Z51*C51)/LEN(Z51))+C51) | N51: =IF(LEN(AA51)=0,"",1+ABS((AA51*D51)/LEN(AA51))+D51) | O51: =IF(LEN(AB51)=0,"",1+ABS((AB51*E51)/LEN(AB51))+E51) | P51: =IF(LEN(AC51)=0,"",1+ABS((AC51*F51)/LEN(AC51))+F51) | Q51: =IF(LEN(AD51)=0,"",1+ABS((AD51*G51)/LEN(AD51))+G51) | R51: =IF(LEN(AE51)=0,"",1+ABS((AE51*H51)/LEN(AE51))+H51) | ... T51: =IF(LEN(AG51)=0,"",1+ABS((AG51*J51)/LEN(AG51))+J51) | U51: 24. Ostale promjene | W51: 924 | AE51: =IFERROR(IF(AND(X51,Y51,Z51,AA51,AB51,AC51,AD51)="","",SUM(X51,Y51,Z51,AA51,AB51,AC51,AD51)),"") | AG51: =IFERROR(IF(AND(AE51,AF51)="","",IF(#REF!="Konsolidovani",SUM(AE51,AF51),"")),"")
A53: 0.25 | B53: 0.5 | C53: 0.75 | D53: 1.01 | E53: 1.26 | F53: 1.51 | G53: 1.76 | H53: 2.01 | I53: 2.26 | J53: 2.51 | K53: =IF(LEN(X53)=0,"",1+ABS((X53*A53)/LEN(X53))+A53) -> 8334.5833 | L53: =IF(LEN(Y53)=0,"",1+ABS((Y53*B53)/LEN(Y53))+B53) | M53: =IF(LEN(Z53)=0,"",1+ABS((Z53*C53)/LEN(Z53))+C53) -> 12501.75 | N53: =IF(LEN(AA53)=0,"",1+ABS((AA53*D53)/LEN(AA53))+D53) | O53: =IF(LEN(AB53)=0,"",1+ABS((AB53*E53)/LEN(AB53))+E53) | P53: =IF(LEN(AC53)=0,"",1+ABS((AC53*F53)/LEN(AC53))+F53) | Q53: =IF(LEN(AD53)=0,"",1+ABS((AD53*G53)/LEN(AD53))+G53) -> 39731.533 | R53: =IF(LEN(AE53)=0,"",1+ABS((AE53*H53)/LEN(AE53))+H53) -> 145875.08 | ... T53: =IF(LEN(AG53)=0,"",1+ABS((AG53*J53)/LEN(AG53))+J53) | U53: 25. Stanje na kraju perioda na dan 30.06.2026. godine (916+919+920-921-922+923+924) | W53: 925 | X53: =IFERROR(IF(AND(X41,X45,X47,X48,X49,X50,X51)="","",SUM(X41,X45,X47)-SUM(X48)-SUM(X49)+SUM(X50,X51)),"") -> 200000 | Y53: =IFERROR(IF(AND(Y41,Y45,Y47,Y48,Y49,Y50,Y51)="","",SUM(Y41,Y45,Y47)-SUM(Y48)-SUM(Y49)+SUM(Y50,Y51)),"") | Z53: =IFERROR(IF(AND(Z41,Z45,Z47,Z48,Z49,Z50,Z51)="","",SUM(Z41,Z45,Z47)-SUM(Z48)-SUM(Z49)+SUM(Z50,Z51)),"") -> 100000 | AA53: =IFERROR(IF(AND(AA41,AA45,AA47,AA48,AA49,AA50,AA51)="","",SUM(AA41,AA45,AA47)-SUM(AA48)-SUM(AA49)+SUM(AA50,AA51)),"") | AB53: =IFERROR(IF(AND(AB41,AB45,AB47,AB48,AB49,AB50,AB51)="","",SUM(AB41,AB45,AB47)-SUM(AB48)-SUM(AB49)+SUM(AB50,AB51)),"") | AC53: =IFERROR(IF(AND(AC41,AC45,AC47,AC48,AC49,AC50,AC51)="","",SUM(AC41,AC45,AC47)-SUM(AC48)-SUM(AC49)+SUM(AC50,AC51)),"") | AD53: =IFERROR(IF(AND(AD41,AD45,AD47,AD48,AD49,AD50,AD51)="","",SUM(AD41,AD45,AD47)-SUM(AD48)-SUM(AD49)+SUM(AD50,AD51)),"") -> 135439 | AE53: =IFERROR(IF(AND(X53,Y53,Z53,AA53,AB53,AC53,AD53)="","",SUM(X53,Y53,Z53,AA53,AB53,AC53,AD53)),"") -> 435439 | AF53: =IFERROR(IF(AND(AF41,AF45,AF47,AF48,AF49,AF50,AF51)="","",SUM(AF41,AF45,AF47)-SUM(AF48)-SUM(AF49)+SUM(AF50,AF51)),"") | AG53: =IFERROR(IF(AND(AE53,AF53)="","",IF(#REF!="Konsolidovani",SUM(AE53,AF53),"")),"")
K54: =IF(ISERROR(ABS(LOG(ABS(SUM(K22:K53)),EXP(3)))),"",ABS(LOG(ABS(SUM(K22:K53)),EXP(3)))) -> 3.2956549 | L54: =IF(ISERROR(ABS(LOG(ABS(SUM(L22:L53)),EXP(3)))),"",ABS(LOG(ABS(SUM(L22:L53)),EXP(3)))) | M54: =IF(ISERROR(ABS(LOG(ABS(SUM(M22:M53)),EXP(3)))),"",ABS(LOG(ABS(SUM(M22:M53)),EXP(3)))) -> 3.4778657 | N54: =IF(ISERROR(ABS(LOG(ABS(SUM(N22:N53)),EXP(3)))),"",ABS(LOG(ABS(SUM(N22:N53)),EXP(3)))) | O54: =IF(ISERROR(ABS(LOG(ABS(SUM(O22:O53)),EXP(3)))),"",ABS(LOG(ABS(SUM(O22:O53)),EXP(3)))) | P54: =IF(ISERROR(ABS(LOG(ABS(SUM(P22:P53)),EXP(3)))),"",ABS(LOG(ABS(SUM(P22:P53)),EXP(3)))) | Q54: =IF(ISERROR(ABS(LOG(ABS(SUM(Q22:Q53)),EXP(3)))),"",ABS(LOG(ABS(SUM(Q22:Q53)),EXP(3)))) -> 4.3598521 | R54: =IF(ISERROR(ABS(LOG(ABS(SUM(R22:R53)),EXP(3)))),"",ABS(LOG(ABS(SUM(R22:R53)),EXP(3)))) -> 4.5628258 | ... T54: =IF(ISERROR(ABS(LOG(ABS(SUM(T22:T53)),EXP(3)))),"",ABS(LOG(ABS(SUM(T22:T53)),EXP(3))))
U56: Mjesto i datum | AF56: M.P. | AG56: Direktor
U57: =OP!C45 -> Sarajevo, 10.08.2026. | AG57: =OP!AJ45 -> Olja Mujagić

Sheet ZB
C1: =BS!E1 -> DUF SAFE INVESTMENT d.o.o. Sarajevo | AK1: Obrazac OEI-PD
C2: Naziv emitenta | AK2: Tabela G
C3: =BS!E3 -> Danijela Ozme 1, SARAJEVO
C4: Sjedište i adresa emitenta
C5: =BS!E5 -> 66.30
C6: Šifra djelatnosti
C7: =BS!E7 -> 4203333590002
C8: Identifikacioni broj za direktne poreze
C9: =BS!E9 -> 65-01-0415-24
C10: Matični broj
C11: Zabilješke i komentari uprave neophodni za bolje i jasnije razumjevanje podataka prezentiranih u Tabelama A, B, C, D, E i F obrazca OEI-PD
C14: Pozicija na koju se odnosi komentar ili zabilješka | S14: Komentar ili zabilješka
A16: 0.01 | B16: =IF(LEN(Y16)=0,"",1+ABS((Y16*A16)/LEN(Y16))+A16)
B49: =IF(ISERROR(ABS(LOG(ABS(SUM(B16:B48)),EXP(3)))),"",ABS(LOG(ABS(SUM(B16:B48)),EXP(3))))
B50: =IF(ISERROR(IF(ISERROR(MID(B49,FIND(".",B49,1)+6,13)),MID(B49,FIND(",",B49,1)+6,13),MID(B49,FIND(".",B49,1)+6,13))),"",IF(ISERROR(MID(B49,FIND(".",B49,1)+6,13)),MID(B49,FIND(",",B49,1)+6,13),MID(B49,FIND(".",B49,1)+6,13)))
C51: Mjesto i datum | AE51: M.P. | AH51: Direktor
C52: =OP!C45 -> Sarajevo, 10.08.2026. | AH52: =OP!AJ45 -> Olja Mujagić
